BEGIN:VCALENDAR
VERSION:2.0
PRODID:-//Susan Young Yoga - ECPv6.15.20//NONSGML v1.0//EN
CALSCALE:GREGORIAN
METHOD:PUBLISH
X-ORIGINAL-URL:https://www.susanyoungyoga.com
X-WR-CALDESC:Events for Susan Young Yoga
REFRESH-INTERVAL;VALUE=DURATION:PT1H
X-Robots-Tag:noindex
X-PUBLISHED-TTL:PT1H
BEGIN:VTIMEZONE
TZID:America/New_York
BEGIN:DAYLIGHT
TZOFFSETFROM:-0500
TZOFFSETTO:-0400
TZNAME:EDT
DTSTART:20250309T070000
END:DAYLIGHT
BEGIN:STANDARD
TZOFFSETFROM:-0400
TZOFFSETTO:-0500
TZNAME:EST
DTSTART:20251102T060000
END:STANDARD
BEGIN:DAYLIGHT
TZOFFSETFROM:-0500
TZOFFSETTO:-0400
TZNAME:EDT
DTSTART:20260308T070000
END:DAYLIGHT
BEGIN:STANDARD
TZOFFSETFROM:-0400
TZOFFSETTO:-0500
TZNAME:EST
DTSTART:20261101T060000
END:STANDARD
BEGIN:DAYLIGHT
TZOFFSETFROM:-0500
TZOFFSETTO:-0400
TZNAME:EDT
DTSTART:20270314T070000
END:DAYLIGHT
BEGIN:STANDARD
TZOFFSETFROM:-0400
TZOFFSETTO:-0500
TZNAME:EST
DTSTART:20271107T060000
END:STANDARD
BEGIN:DAYLIGHT
TZOFFSETFROM:-0500
TZOFFSETTO:-0400
TZNAME:EDT
DTSTART:20280312T070000
END:DAYLIGHT
BEGIN:STANDARD
TZOFFSETFROM:-0400
TZOFFSETTO:-0500
TZNAME:EST
DTSTART:20281105T060000
END:STANDARD
END:VTIMEZONE
BEGIN:VEVENT
DTSTART;TZID=America/New_York:20261120T093000
DTEND;TZID=America/New_York:20261120T110000
DTSTAMP:20260423T202100
CREATED:20200302T131928Z
LAST-MODIFIED:20200302T131928Z
UID:5374-1795167000-1795172400@www.susanyoungyoga.com
SUMMARY:Intermediate Flow at Opus Yoga
DESCRIPTION:
URL:https://www.susanyoungyoga.com/event/intermediate-flow-at-opus-yoga/2026-11-20/
LOCATION:Opus Yoga Kentlands\, 257 Market Street\, Gaithersburg\, MD\, United States
ORGANIZER;CN="Susan Young":MAILTO:susan@youngspa.com
END:VEVENT
BEGIN:VEVENT
DTSTART;TZID=America/New_York:20261124T093000
DTEND;TZID=America/New_York:20261124T104500
DTSTAMP:20260423T202100
CREATED:20200302T214301Z
LAST-MODIFIED:20200302T214301Z
UID:5376-1795512600-1795517100@www.susanyoungyoga.com
SUMMARY:Beginner Flow at Opus Yoga
DESCRIPTION:
URL:https://www.susanyoungyoga.com/event/beginner-flow/2026-11-24/
LOCATION:Opus Yoga Kentlands\, 257 Market Street\, Gaithersburg\, MD\, United States
END:VEVENT
BEGIN:VEVENT
DTSTART;TZID=America/New_York:20261127T093000
DTEND;TZID=America/New_York:20261127T110000
DTSTAMP:20260423T202100
CREATED:20200302T131928Z
LAST-MODIFIED:20200302T131928Z
UID:5378-1795771800-1795777200@www.susanyoungyoga.com
SUMMARY:Intermediate Flow at Opus Yoga
DESCRIPTION:
URL:https://www.susanyoungyoga.com/event/intermediate-flow-at-opus-yoga/2026-11-27/
LOCATION:Opus Yoga Kentlands\, 257 Market Street\, Gaithersburg\, MD\, United States
ORGANIZER;CN="Susan Young":MAILTO:susan@youngspa.com
END:VEVENT
BEGIN:VEVENT
DTSTART;TZID=America/New_York:20261201T093000
DTEND;TZID=America/New_York:20261201T104500
DTSTAMP:20260423T202100
CREATED:20200302T214301Z
LAST-MODIFIED:20200302T214301Z
UID:5379-1796117400-1796121900@www.susanyoungyoga.com
SUMMARY:Beginner Flow at Opus Yoga
DESCRIPTION:
URL:https://www.susanyoungyoga.com/event/beginner-flow/2026-12-01/
LOCATION:Opus Yoga Kentlands\, 257 Market Street\, Gaithersburg\, MD\, United States
END:VEVENT
BEGIN:VEVENT
DTSTART;TZID=America/New_York:20261204T093000
DTEND;TZID=America/New_York:20261204T110000
DTSTAMP:20260423T202100
CREATED:20200302T131928Z
LAST-MODIFIED:20200302T131928Z
UID:5381-1796376600-1796382000@www.susanyoungyoga.com
SUMMARY:Intermediate Flow at Opus Yoga
DESCRIPTION:
URL:https://www.susanyoungyoga.com/event/intermediate-flow-at-opus-yoga/2026-12-04/
LOCATION:Opus Yoga Kentlands\, 257 Market Street\, Gaithersburg\, MD\, United States
ORGANIZER;CN="Susan Young":MAILTO:susan@youngspa.com
END:VEVENT
BEGIN:VEVENT
DTSTART;TZID=America/New_York:20261208T093000
DTEND;TZID=America/New_York:20261208T104500
DTSTAMP:20260423T202100
CREATED:20200302T214301Z
LAST-MODIFIED:20200302T214301Z
UID:5383-1796722200-1796726700@www.susanyoungyoga.com
SUMMARY:Beginner Flow at Opus Yoga
DESCRIPTION:
URL:https://www.susanyoungyoga.com/event/beginner-flow/2026-12-08/
LOCATION:Opus Yoga Kentlands\, 257 Market Street\, Gaithersburg\, MD\, United States
END:VEVENT
BEGIN:VEVENT
DTSTART;TZID=America/New_York:20261211T093000
DTEND;TZID=America/New_York:20261211T110000
DTSTAMP:20260423T202100
CREATED:20200302T131928Z
LAST-MODIFIED:20200302T131928Z
UID:5385-1796981400-1796986800@www.susanyoungyoga.com
SUMMARY:Intermediate Flow at Opus Yoga
DESCRIPTION:
URL:https://www.susanyoungyoga.com/event/intermediate-flow-at-opus-yoga/2026-12-11/
LOCATION:Opus Yoga Kentlands\, 257 Market Street\, Gaithersburg\, MD\, United States
ORGANIZER;CN="Susan Young":MAILTO:susan@youngspa.com
END:VEVENT
BEGIN:VEVENT
DTSTART;TZID=America/New_York:20261215T093000
DTEND;TZID=America/New_York:20261215T104500
DTSTAMP:20260423T202100
CREATED:20200302T214301Z
LAST-MODIFIED:20200302T214301Z
UID:5386-1797327000-1797331500@www.susanyoungyoga.com
SUMMARY:Beginner Flow at Opus Yoga
DESCRIPTION:
URL:https://www.susanyoungyoga.com/event/beginner-flow/2026-12-15/
LOCATION:Opus Yoga Kentlands\, 257 Market Street\, Gaithersburg\, MD\, United States
END:VEVENT
BEGIN:VEVENT
DTSTART;TZID=America/New_York:20261218T093000
DTEND;TZID=America/New_York:20261218T110000
DTSTAMP:20260423T202100
CREATED:20200302T131928Z
LAST-MODIFIED:20200302T131928Z
UID:5388-1797586200-1797591600@www.susanyoungyoga.com
SUMMARY:Intermediate Flow at Opus Yoga
DESCRIPTION:
URL:https://www.susanyoungyoga.com/event/intermediate-flow-at-opus-yoga/2026-12-18/
LOCATION:Opus Yoga Kentlands\, 257 Market Street\, Gaithersburg\, MD\, United States
ORGANIZER;CN="Susan Young":MAILTO:susan@youngspa.com
END:VEVENT
BEGIN:VEVENT
DTSTART;TZID=America/New_York:20261222T093000
DTEND;TZID=America/New_York:20261222T104500
DTSTAMP:20260423T202100
CREATED:20200302T214301Z
LAST-MODIFIED:20200302T214301Z
UID:5389-1797931800-1797936300@www.susanyoungyoga.com
SUMMARY:Beginner Flow at Opus Yoga
DESCRIPTION:
URL:https://www.susanyoungyoga.com/event/beginner-flow/2026-12-22/
LOCATION:Opus Yoga Kentlands\, 257 Market Street\, Gaithersburg\, MD\, United States
END:VEVENT
BEGIN:VEVENT
DTSTART;TZID=America/New_York:20261225T093000
DTEND;TZID=America/New_York:20261225T110000
DTSTAMP:20260423T202100
CREATED:20200302T131928Z
LAST-MODIFIED:20200302T131928Z
UID:5391-1798191000-1798196400@www.susanyoungyoga.com
SUMMARY:Intermediate Flow at Opus Yoga
DESCRIPTION:
URL:https://www.susanyoungyoga.com/event/intermediate-flow-at-opus-yoga/2026-12-25/
LOCATION:Opus Yoga Kentlands\, 257 Market Street\, Gaithersburg\, MD\, United States
ORGANIZER;CN="Susan Young":MAILTO:susan@youngspa.com
END:VEVENT
BEGIN:VEVENT
DTSTART;TZID=America/New_York:20261229T093000
DTEND;TZID=America/New_York:20261229T104500
DTSTAMP:20260423T202100
CREATED:20200302T214301Z
LAST-MODIFIED:20200302T214301Z
UID:5392-1798536600-1798541100@www.susanyoungyoga.com
SUMMARY:Beginner Flow at Opus Yoga
DESCRIPTION:
URL:https://www.susanyoungyoga.com/event/beginner-flow/2026-12-29/
LOCATION:Opus Yoga Kentlands\, 257 Market Street\, Gaithersburg\, MD\, United States
END:VEVENT
BEGIN:VEVENT
DTSTART;TZID=America/New_York:20270101T093000
DTEND;TZID=America/New_York:20270101T110000
DTSTAMP:20260423T202100
CREATED:20200302T131928Z
LAST-MODIFIED:20200302T131928Z
UID:5394-1798795800-1798801200@www.susanyoungyoga.com
SUMMARY:Intermediate Flow at Opus Yoga
DESCRIPTION:
URL:https://www.susanyoungyoga.com/event/intermediate-flow-at-opus-yoga/2027-01-01/
LOCATION:Opus Yoga Kentlands\, 257 Market Street\, Gaithersburg\, MD\, United States
ORGANIZER;CN="Susan Young":MAILTO:susan@youngspa.com
END:VEVENT
BEGIN:VEVENT
DTSTART;TZID=America/New_York:20270105T093000
DTEND;TZID=America/New_York:20270105T104500
DTSTAMP:20260423T202100
CREATED:20200302T214301Z
LAST-MODIFIED:20200302T214301Z
UID:5395-1799141400-1799145900@www.susanyoungyoga.com
SUMMARY:Beginner Flow at Opus Yoga
DESCRIPTION:
URL:https://www.susanyoungyoga.com/event/beginner-flow/2027-01-05/
LOCATION:Opus Yoga Kentlands\, 257 Market Street\, Gaithersburg\, MD\, United States
END:VEVENT
BEGIN:VEVENT
DTSTART;TZID=America/New_York:20270108T093000
DTEND;TZID=America/New_York:20270108T110000
DTSTAMP:20260423T202100
CREATED:20200302T131928Z
LAST-MODIFIED:20200302T131928Z
UID:5397-1799400600-1799406000@www.susanyoungyoga.com
SUMMARY:Intermediate Flow at Opus Yoga
DESCRIPTION:
URL:https://www.susanyoungyoga.com/event/intermediate-flow-at-opus-yoga/2027-01-08/
LOCATION:Opus Yoga Kentlands\, 257 Market Street\, Gaithersburg\, MD\, United States
ORGANIZER;CN="Susan Young":MAILTO:susan@youngspa.com
END:VEVENT
BEGIN:VEVENT
DTSTART;TZID=America/New_York:20270112T093000
DTEND;TZID=America/New_York:20270112T104500
DTSTAMP:20260423T202100
CREATED:20200302T214301Z
LAST-MODIFIED:20200302T214301Z
UID:5398-1799746200-1799750700@www.susanyoungyoga.com
SUMMARY:Beginner Flow at Opus Yoga
DESCRIPTION:
URL:https://www.susanyoungyoga.com/event/beginner-flow/2027-01-12/
LOCATION:Opus Yoga Kentlands\, 257 Market Street\, Gaithersburg\, MD\, United States
END:VEVENT
BEGIN:VEVENT
DTSTART;TZID=America/New_York:20270115T093000
DTEND;TZID=America/New_York:20270115T110000
DTSTAMP:20260423T202100
CREATED:20200302T131928Z
LAST-MODIFIED:20200302T131928Z
UID:5401-1800005400-1800010800@www.susanyoungyoga.com
SUMMARY:Intermediate Flow at Opus Yoga
DESCRIPTION:
URL:https://www.susanyoungyoga.com/event/intermediate-flow-at-opus-yoga/2027-01-15/
LOCATION:Opus Yoga Kentlands\, 257 Market Street\, Gaithersburg\, MD\, United States
ORGANIZER;CN="Susan Young":MAILTO:susan@youngspa.com
END:VEVENT
BEGIN:VEVENT
DTSTART;TZID=America/New_York:20270119T093000
DTEND;TZID=America/New_York:20270119T104500
DTSTAMP:20260423T202100
CREATED:20200302T214301Z
LAST-MODIFIED:20200302T214301Z
UID:5402-1800351000-1800355500@www.susanyoungyoga.com
SUMMARY:Beginner Flow at Opus Yoga
DESCRIPTION:
URL:https://www.susanyoungyoga.com/event/beginner-flow/2027-01-19/
LOCATION:Opus Yoga Kentlands\, 257 Market Street\, Gaithersburg\, MD\, United States
END:VEVENT
BEGIN:VEVENT
DTSTART;TZID=America/New_York:20270122T093000
DTEND;TZID=America/New_York:20270122T110000
DTSTAMP:20260423T202100
CREATED:20200302T131928Z
LAST-MODIFIED:20200302T131928Z
UID:5405-1800610200-1800615600@www.susanyoungyoga.com
SUMMARY:Intermediate Flow at Opus Yoga
DESCRIPTION:
URL:https://www.susanyoungyoga.com/event/intermediate-flow-at-opus-yoga/2027-01-22/
LOCATION:Opus Yoga Kentlands\, 257 Market Street\, Gaithersburg\, MD\, United States
ORGANIZER;CN="Susan Young":MAILTO:susan@youngspa.com
END:VEVENT
BEGIN:VEVENT
DTSTART;TZID=America/New_York:20270126T093000
DTEND;TZID=America/New_York:20270126T104500
DTSTAMP:20260423T202100
CREATED:20200302T214301Z
LAST-MODIFIED:20200302T214301Z
UID:5406-1800955800-1800960300@www.susanyoungyoga.com
SUMMARY:Beginner Flow at Opus Yoga
DESCRIPTION:
URL:https://www.susanyoungyoga.com/event/beginner-flow/2027-01-26/
LOCATION:Opus Yoga Kentlands\, 257 Market Street\, Gaithersburg\, MD\, United States
END:VEVENT
BEGIN:VEVENT
DTSTART;TZID=America/New_York:20270129T093000
DTEND;TZID=America/New_York:20270129T110000
DTSTAMP:20260423T202100
CREATED:20200302T131928Z
LAST-MODIFIED:20200302T131928Z
UID:5408-1801215000-1801220400@www.susanyoungyoga.com
SUMMARY:Intermediate Flow at Opus Yoga
DESCRIPTION:
URL:https://www.susanyoungyoga.com/event/intermediate-flow-at-opus-yoga/2027-01-29/
LOCATION:Opus Yoga Kentlands\, 257 Market Street\, Gaithersburg\, MD\, United States
ORGANIZER;CN="Susan Young":MAILTO:susan@youngspa.com
END:VEVENT
BEGIN:VEVENT
DTSTART;TZID=America/New_York:20270202T093000
DTEND;TZID=America/New_York:20270202T104500
DTSTAMP:20260423T202100
CREATED:20200302T214301Z
LAST-MODIFIED:20200302T214301Z
UID:5409-1801560600-1801565100@www.susanyoungyoga.com
SUMMARY:Beginner Flow at Opus Yoga
DESCRIPTION:
URL:https://www.susanyoungyoga.com/event/beginner-flow/2027-02-02/
LOCATION:Opus Yoga Kentlands\, 257 Market Street\, Gaithersburg\, MD\, United States
END:VEVENT
BEGIN:VEVENT
DTSTART;TZID=America/New_York:20270205T093000
DTEND;TZID=America/New_York:20270205T110000
DTSTAMP:20260423T202100
CREATED:20200302T131928Z
LAST-MODIFIED:20200302T131928Z
UID:5412-1801819800-1801825200@www.susanyoungyoga.com
SUMMARY:Intermediate Flow at Opus Yoga
DESCRIPTION:
URL:https://www.susanyoungyoga.com/event/intermediate-flow-at-opus-yoga/2027-02-05/
LOCATION:Opus Yoga Kentlands\, 257 Market Street\, Gaithersburg\, MD\, United States
ORGANIZER;CN="Susan Young":MAILTO:susan@youngspa.com
END:VEVENT
BEGIN:VEVENT
DTSTART;TZID=America/New_York:20270209T093000
DTEND;TZID=America/New_York:20270209T104500
DTSTAMP:20260423T202100
CREATED:20200302T214301Z
LAST-MODIFIED:20200302T214301Z
UID:5413-1802165400-1802169900@www.susanyoungyoga.com
SUMMARY:Beginner Flow at Opus Yoga
DESCRIPTION:
URL:https://www.susanyoungyoga.com/event/beginner-flow/2027-02-09/
LOCATION:Opus Yoga Kentlands\, 257 Market Street\, Gaithersburg\, MD\, United States
END:VEVENT
BEGIN:VEVENT
DTSTART;TZID=America/New_York:20270212T093000
DTEND;TZID=America/New_York:20270212T110000
DTSTAMP:20260423T202100
CREATED:20200302T131928Z
LAST-MODIFIED:20200302T131928Z
UID:5415-1802424600-1802430000@www.susanyoungyoga.com
SUMMARY:Intermediate Flow at Opus Yoga
DESCRIPTION:
URL:https://www.susanyoungyoga.com/event/intermediate-flow-at-opus-yoga/2027-02-12/
LOCATION:Opus Yoga Kentlands\, 257 Market Street\, Gaithersburg\, MD\, United States
ORGANIZER;CN="Susan Young":MAILTO:susan@youngspa.com
END:VEVENT
BEGIN:VEVENT
DTSTART;TZID=America/New_York:20270216T093000
DTEND;TZID=America/New_York:20270216T104500
DTSTAMP:20260423T202100
CREATED:20200302T214301Z
LAST-MODIFIED:20200302T214301Z
UID:5416-1802770200-1802774700@www.susanyoungyoga.com
SUMMARY:Beginner Flow at Opus Yoga
DESCRIPTION:
URL:https://www.susanyoungyoga.com/event/beginner-flow/2027-02-16/
LOCATION:Opus Yoga Kentlands\, 257 Market Street\, Gaithersburg\, MD\, United States
END:VEVENT
BEGIN:VEVENT
DTSTART;TZID=America/New_York:20270219T093000
DTEND;TZID=America/New_York:20270219T110000
DTSTAMP:20260423T202100
CREATED:20200302T131928Z
LAST-MODIFIED:20200302T131928Z
UID:5419-1803029400-1803034800@www.susanyoungyoga.com
SUMMARY:Intermediate Flow at Opus Yoga
DESCRIPTION:
URL:https://www.susanyoungyoga.com/event/intermediate-flow-at-opus-yoga/2027-02-19/
LOCATION:Opus Yoga Kentlands\, 257 Market Street\, Gaithersburg\, MD\, United States
ORGANIZER;CN="Susan Young":MAILTO:susan@youngspa.com
END:VEVENT
BEGIN:VEVENT
DTSTART;TZID=America/New_York:20270223T093000
DTEND;TZID=America/New_York:20270223T104500
DTSTAMP:20260423T202100
CREATED:20200302T214301Z
LAST-MODIFIED:20200302T214301Z
UID:5420-1803375000-1803379500@www.susanyoungyoga.com
SUMMARY:Beginner Flow at Opus Yoga
DESCRIPTION:
URL:https://www.susanyoungyoga.com/event/beginner-flow/2027-02-23/
LOCATION:Opus Yoga Kentlands\, 257 Market Street\, Gaithersburg\, MD\, United States
END:VEVENT
BEGIN:VEVENT
DTSTART;TZID=America/New_York:20270226T093000
DTEND;TZID=America/New_York:20270226T110000
DTSTAMP:20260423T202100
CREATED:20200302T131928Z
LAST-MODIFIED:20200302T131928Z
UID:5422-1803634200-1803639600@www.susanyoungyoga.com
SUMMARY:Intermediate Flow at Opus Yoga
DESCRIPTION:
URL:https://www.susanyoungyoga.com/event/intermediate-flow-at-opus-yoga/2027-02-26/
LOCATION:Opus Yoga Kentlands\, 257 Market Street\, Gaithersburg\, MD\, United States
ORGANIZER;CN="Susan Young":MAILTO:susan@youngspa.com
END:VEVENT
BEGIN:VEVENT
DTSTART;TZID=America/New_York:20270302T093000
DTEND;TZID=America/New_York:20270302T104500
DTSTAMP:20260423T202100
CREATED:20200302T214301Z
LAST-MODIFIED:20200302T214301Z
UID:5423-1803979800-1803984300@www.susanyoungyoga.com
SUMMARY:Beginner Flow at Opus Yoga
DESCRIPTION:
URL:https://www.susanyoungyoga.com/event/beginner-flow/2027-03-02/
LOCATION:Opus Yoga Kentlands\, 257 Market Street\, Gaithersburg\, MD\, United States
END:VEVENT
END:VCALENDAR