BEGIN:VCALENDAR
VERSION:2.0
PRODID:-//Susan Young Yoga - ECPv6.15.20//NONSGML v1.0//EN
CALSCALE:GREGORIAN
METHOD:PUBLISH
X-WR-CALNAME:Susan Young Yoga
X-ORIGINAL-URL:https://www.susanyoungyoga.com
X-WR-CALDESC:Events for Susan Young Yoga
REFRESH-INTERVAL;VALUE=DURATION:PT1H
X-Robots-Tag:noindex
X-PUBLISHED-TTL:PT1H
BEGIN:VTIMEZONE
TZID:America/New_York
BEGIN:DAYLIGHT
TZOFFSETFROM:-0500
TZOFFSETTO:-0400
TZNAME:EDT
DTSTART:20260308T070000
END:DAYLIGHT
BEGIN:STANDARD
TZOFFSETFROM:-0400
TZOFFSETTO:-0500
TZNAME:EST
DTSTART:20261101T060000
END:STANDARD
BEGIN:DAYLIGHT
TZOFFSETFROM:-0500
TZOFFSETTO:-0400
TZNAME:EDT
DTSTART:20270314T070000
END:DAYLIGHT
BEGIN:STANDARD
TZOFFSETFROM:-0400
TZOFFSETTO:-0500
TZNAME:EST
DTSTART:20271107T060000
END:STANDARD
BEGIN:DAYLIGHT
TZOFFSETFROM:-0500
TZOFFSETTO:-0400
TZNAME:EDT
DTSTART:20280312T070000
END:DAYLIGHT
BEGIN:STANDARD
TZOFFSETFROM:-0400
TZOFFSETTO:-0500
TZNAME:EST
DTSTART:20281105T060000
END:STANDARD
BEGIN:DAYLIGHT
TZOFFSETFROM:-0500
TZOFFSETTO:-0400
TZNAME:EDT
DTSTART:20290311T070000
END:DAYLIGHT
BEGIN:STANDARD
TZOFFSETFROM:-0400
TZOFFSETTO:-0500
TZNAME:EST
DTSTART:20291104T060000
END:STANDARD
END:VTIMEZONE
BEGIN:VEVENT
DTSTART;TZID=America/New_York:20271022T093000
DTEND;TZID=America/New_York:20271022T110000
DTSTAMP:20260424T071554
CREATED:20200302T131928Z
LAST-MODIFIED:20200302T131928Z
UID:5540-1824197400-1824202800@www.susanyoungyoga.com
SUMMARY:Intermediate Flow at Opus Yoga
DESCRIPTION:
URL:https://www.susanyoungyoga.com/event/intermediate-flow-at-opus-yoga/2027-10-22/
LOCATION:Opus Yoga Kentlands\, 257 Market Street\, Gaithersburg\, MD\, United States
ORGANIZER;CN="Susan Young":MAILTO:susan@youngspa.com
END:VEVENT
BEGIN:VEVENT
DTSTART;TZID=America/New_York:20271026T093000
DTEND;TZID=America/New_York:20271026T104500
DTSTAMP:20260424T071554
CREATED:20200302T214301Z
LAST-MODIFIED:20200302T214301Z
UID:5541-1824543000-1824547500@www.susanyoungyoga.com
SUMMARY:Beginner Flow at Opus Yoga
DESCRIPTION:
URL:https://www.susanyoungyoga.com/event/beginner-flow/2027-10-26/
LOCATION:Opus Yoga Kentlands\, 257 Market Street\, Gaithersburg\, MD\, United States
END:VEVENT
BEGIN:VEVENT
DTSTART;TZID=America/New_York:20271029T093000
DTEND;TZID=America/New_York:20271029T110000
DTSTAMP:20260424T071554
CREATED:20200302T131928Z
LAST-MODIFIED:20200302T131928Z
UID:5543-1824802200-1824807600@www.susanyoungyoga.com
SUMMARY:Intermediate Flow at Opus Yoga
DESCRIPTION:
URL:https://www.susanyoungyoga.com/event/intermediate-flow-at-opus-yoga/2027-10-29/
LOCATION:Opus Yoga Kentlands\, 257 Market Street\, Gaithersburg\, MD\, United States
ORGANIZER;CN="Susan Young":MAILTO:susan@youngspa.com
END:VEVENT
BEGIN:VEVENT
DTSTART;TZID=America/New_York:20271102T093000
DTEND;TZID=America/New_York:20271102T104500
DTSTAMP:20260424T071554
CREATED:20200302T214301Z
LAST-MODIFIED:20200302T214301Z
UID:5545-1825147800-1825152300@www.susanyoungyoga.com
SUMMARY:Beginner Flow at Opus Yoga
DESCRIPTION:
URL:https://www.susanyoungyoga.com/event/beginner-flow/2027-11-02/
LOCATION:Opus Yoga Kentlands\, 257 Market Street\, Gaithersburg\, MD\, United States
END:VEVENT
BEGIN:VEVENT
DTSTART;TZID=America/New_York:20271105T093000
DTEND;TZID=America/New_York:20271105T110000
DTSTAMP:20260424T071554
CREATED:20200302T131928Z
LAST-MODIFIED:20200302T131928Z
UID:5547-1825407000-1825412400@www.susanyoungyoga.com
SUMMARY:Intermediate Flow at Opus Yoga
DESCRIPTION:
URL:https://www.susanyoungyoga.com/event/intermediate-flow-at-opus-yoga/2027-11-05/
LOCATION:Opus Yoga Kentlands\, 257 Market Street\, Gaithersburg\, MD\, United States
ORGANIZER;CN="Susan Young":MAILTO:susan@youngspa.com
END:VEVENT
BEGIN:VEVENT
DTSTART;TZID=America/New_York:20271109T093000
DTEND;TZID=America/New_York:20271109T104500
DTSTAMP:20260424T071554
CREATED:20200302T214301Z
LAST-MODIFIED:20200302T214301Z
UID:5548-1825752600-1825757100@www.susanyoungyoga.com
SUMMARY:Beginner Flow at Opus Yoga
DESCRIPTION:
URL:https://www.susanyoungyoga.com/event/beginner-flow/2027-11-09/
LOCATION:Opus Yoga Kentlands\, 257 Market Street\, Gaithersburg\, MD\, United States
END:VEVENT
BEGIN:VEVENT
DTSTART;TZID=America/New_York:20271112T093000
DTEND;TZID=America/New_York:20271112T110000
DTSTAMP:20260424T071554
CREATED:20200302T131928Z
LAST-MODIFIED:20200302T131928Z
UID:5550-1826011800-1826017200@www.susanyoungyoga.com
SUMMARY:Intermediate Flow at Opus Yoga
DESCRIPTION:
URL:https://www.susanyoungyoga.com/event/intermediate-flow-at-opus-yoga/2027-11-12/
LOCATION:Opus Yoga Kentlands\, 257 Market Street\, Gaithersburg\, MD\, United States
ORGANIZER;CN="Susan Young":MAILTO:susan@youngspa.com
END:VEVENT
BEGIN:VEVENT
DTSTART;TZID=America/New_York:20271116T093000
DTEND;TZID=America/New_York:20271116T104500
DTSTAMP:20260424T071554
CREATED:20200302T214301Z
LAST-MODIFIED:20200302T214301Z
UID:5551-1826357400-1826361900@www.susanyoungyoga.com
SUMMARY:Beginner Flow at Opus Yoga
DESCRIPTION:
URL:https://www.susanyoungyoga.com/event/beginner-flow/2027-11-16/
LOCATION:Opus Yoga Kentlands\, 257 Market Street\, Gaithersburg\, MD\, United States
END:VEVENT
BEGIN:VEVENT
DTSTART;TZID=America/New_York:20271119T093000
DTEND;TZID=America/New_York:20271119T110000
DTSTAMP:20260424T071554
CREATED:20200302T131928Z
LAST-MODIFIED:20200302T131928Z
UID:5553-1826616600-1826622000@www.susanyoungyoga.com
SUMMARY:Intermediate Flow at Opus Yoga
DESCRIPTION:
URL:https://www.susanyoungyoga.com/event/intermediate-flow-at-opus-yoga/2027-11-19/
LOCATION:Opus Yoga Kentlands\, 257 Market Street\, Gaithersburg\, MD\, United States
ORGANIZER;CN="Susan Young":MAILTO:susan@youngspa.com
END:VEVENT
BEGIN:VEVENT
DTSTART;TZID=America/New_York:20271123T093000
DTEND;TZID=America/New_York:20271123T104500
DTSTAMP:20260424T071554
CREATED:20200302T214301Z
LAST-MODIFIED:20200302T214301Z
UID:5554-1826962200-1826966700@www.susanyoungyoga.com
SUMMARY:Beginner Flow at Opus Yoga
DESCRIPTION:
URL:https://www.susanyoungyoga.com/event/beginner-flow/2027-11-23/
LOCATION:Opus Yoga Kentlands\, 257 Market Street\, Gaithersburg\, MD\, United States
END:VEVENT
BEGIN:VEVENT
DTSTART;TZID=America/New_York:20271126T093000
DTEND;TZID=America/New_York:20271126T110000
DTSTAMP:20260424T071554
CREATED:20200302T131928Z
LAST-MODIFIED:20200302T131928Z
UID:5556-1827221400-1827226800@www.susanyoungyoga.com
SUMMARY:Intermediate Flow at Opus Yoga
DESCRIPTION:
URL:https://www.susanyoungyoga.com/event/intermediate-flow-at-opus-yoga/2027-11-26/
LOCATION:Opus Yoga Kentlands\, 257 Market Street\, Gaithersburg\, MD\, United States
ORGANIZER;CN="Susan Young":MAILTO:susan@youngspa.com
END:VEVENT
BEGIN:VEVENT
DTSTART;TZID=America/New_York:20271130T093000
DTEND;TZID=America/New_York:20271130T104500
DTSTAMP:20260424T071554
CREATED:20200302T214301Z
LAST-MODIFIED:20200302T214301Z
UID:5557-1827567000-1827571500@www.susanyoungyoga.com
SUMMARY:Beginner Flow at Opus Yoga
DESCRIPTION:
URL:https://www.susanyoungyoga.com/event/beginner-flow/2027-11-30/
LOCATION:Opus Yoga Kentlands\, 257 Market Street\, Gaithersburg\, MD\, United States
END:VEVENT
BEGIN:VEVENT
DTSTART;TZID=America/New_York:20271203T093000
DTEND;TZID=America/New_York:20271203T110000
DTSTAMP:20260424T071554
CREATED:20200302T131928Z
LAST-MODIFIED:20200302T131928Z
UID:5560-1827826200-1827831600@www.susanyoungyoga.com
SUMMARY:Intermediate Flow at Opus Yoga
DESCRIPTION:
URL:https://www.susanyoungyoga.com/event/intermediate-flow-at-opus-yoga/2027-12-03/
LOCATION:Opus Yoga Kentlands\, 257 Market Street\, Gaithersburg\, MD\, United States
ORGANIZER;CN="Susan Young":MAILTO:susan@youngspa.com
END:VEVENT
BEGIN:VEVENT
DTSTART;TZID=America/New_York:20271207T093000
DTEND;TZID=America/New_York:20271207T104500
DTSTAMP:20260424T071554
CREATED:20200302T214301Z
LAST-MODIFIED:20200302T214301Z
UID:5561-1828171800-1828176300@www.susanyoungyoga.com
SUMMARY:Beginner Flow at Opus Yoga
DESCRIPTION:
URL:https://www.susanyoungyoga.com/event/beginner-flow/2027-12-07/
LOCATION:Opus Yoga Kentlands\, 257 Market Street\, Gaithersburg\, MD\, United States
END:VEVENT
BEGIN:VEVENT
DTSTART;TZID=America/New_York:20271210T093000
DTEND;TZID=America/New_York:20271210T110000
DTSTAMP:20260424T071554
CREATED:20200302T131928Z
LAST-MODIFIED:20200302T131928Z
UID:5563-1828431000-1828436400@www.susanyoungyoga.com
SUMMARY:Intermediate Flow at Opus Yoga
DESCRIPTION:
URL:https://www.susanyoungyoga.com/event/intermediate-flow-at-opus-yoga/2027-12-10/
LOCATION:Opus Yoga Kentlands\, 257 Market Street\, Gaithersburg\, MD\, United States
ORGANIZER;CN="Susan Young":MAILTO:susan@youngspa.com
END:VEVENT
BEGIN:VEVENT
DTSTART;TZID=America/New_York:20271214T093000
DTEND;TZID=America/New_York:20271214T104500
DTSTAMP:20260424T071554
CREATED:20200302T214301Z
LAST-MODIFIED:20200302T214301Z
UID:5564-1828776600-1828781100@www.susanyoungyoga.com
SUMMARY:Beginner Flow at Opus Yoga
DESCRIPTION:
URL:https://www.susanyoungyoga.com/event/beginner-flow/2027-12-14/
LOCATION:Opus Yoga Kentlands\, 257 Market Street\, Gaithersburg\, MD\, United States
END:VEVENT
BEGIN:VEVENT
DTSTART;TZID=America/New_York:20271217T093000
DTEND;TZID=America/New_York:20271217T110000
DTSTAMP:20260424T071554
CREATED:20200302T131928Z
LAST-MODIFIED:20200302T131928Z
UID:5566-1829035800-1829041200@www.susanyoungyoga.com
SUMMARY:Intermediate Flow at Opus Yoga
DESCRIPTION:
URL:https://www.susanyoungyoga.com/event/intermediate-flow-at-opus-yoga/2027-12-17/
LOCATION:Opus Yoga Kentlands\, 257 Market Street\, Gaithersburg\, MD\, United States
ORGANIZER;CN="Susan Young":MAILTO:susan@youngspa.com
END:VEVENT
BEGIN:VEVENT
DTSTART;TZID=America/New_York:20271221T093000
DTEND;TZID=America/New_York:20271221T104500
DTSTAMP:20260424T071554
CREATED:20200302T214301Z
LAST-MODIFIED:20200302T214301Z
UID:5568-1829381400-1829385900@www.susanyoungyoga.com
SUMMARY:Beginner Flow at Opus Yoga
DESCRIPTION:
URL:https://www.susanyoungyoga.com/event/beginner-flow/2027-12-21/
LOCATION:Opus Yoga Kentlands\, 257 Market Street\, Gaithersburg\, MD\, United States
END:VEVENT
BEGIN:VEVENT
DTSTART;TZID=America/New_York:20271224T093000
DTEND;TZID=America/New_York:20271224T110000
DTSTAMP:20260424T071554
CREATED:20200302T131928Z
LAST-MODIFIED:20200302T131928Z
UID:5570-1829640600-1829646000@www.susanyoungyoga.com
SUMMARY:Intermediate Flow at Opus Yoga
DESCRIPTION:
URL:https://www.susanyoungyoga.com/event/intermediate-flow-at-opus-yoga/2027-12-24/
LOCATION:Opus Yoga Kentlands\, 257 Market Street\, Gaithersburg\, MD\, United States
ORGANIZER;CN="Susan Young":MAILTO:susan@youngspa.com
END:VEVENT
BEGIN:VEVENT
DTSTART;TZID=America/New_York:20271228T093000
DTEND;TZID=America/New_York:20271228T104500
DTSTAMP:20260424T071554
CREATED:20200302T214301Z
LAST-MODIFIED:20200302T214301Z
UID:5571-1829986200-1829990700@www.susanyoungyoga.com
SUMMARY:Beginner Flow at Opus Yoga
DESCRIPTION:
URL:https://www.susanyoungyoga.com/event/beginner-flow/2027-12-28/
LOCATION:Opus Yoga Kentlands\, 257 Market Street\, Gaithersburg\, MD\, United States
END:VEVENT
BEGIN:VEVENT
DTSTART;TZID=America/New_York:20271231T093000
DTEND;TZID=America/New_York:20271231T110000
DTSTAMP:20260424T071554
CREATED:20200302T131928Z
LAST-MODIFIED:20200302T131928Z
UID:5573-1830245400-1830250800@www.susanyoungyoga.com
SUMMARY:Intermediate Flow at Opus Yoga
DESCRIPTION:
URL:https://www.susanyoungyoga.com/event/intermediate-flow-at-opus-yoga/2027-12-31/
LOCATION:Opus Yoga Kentlands\, 257 Market Street\, Gaithersburg\, MD\, United States
ORGANIZER;CN="Susan Young":MAILTO:susan@youngspa.com
END:VEVENT
BEGIN:VEVENT
DTSTART;TZID=America/New_York:20280104T093000
DTEND;TZID=America/New_York:20280104T104500
DTSTAMP:20260424T071554
CREATED:20200302T214301Z
LAST-MODIFIED:20200302T214301Z
UID:5574-1830591000-1830595500@www.susanyoungyoga.com
SUMMARY:Beginner Flow at Opus Yoga
DESCRIPTION:
URL:https://www.susanyoungyoga.com/event/beginner-flow/2028-01-04/
LOCATION:Opus Yoga Kentlands\, 257 Market Street\, Gaithersburg\, MD\, United States
END:VEVENT
BEGIN:VEVENT
DTSTART;TZID=America/New_York:20280107T093000
DTEND;TZID=America/New_York:20280107T110000
DTSTAMP:20260424T071554
CREATED:20200302T131928Z
LAST-MODIFIED:20200302T131928Z
UID:5576-1830850200-1830855600@www.susanyoungyoga.com
SUMMARY:Intermediate Flow at Opus Yoga
DESCRIPTION:
URL:https://www.susanyoungyoga.com/event/intermediate-flow-at-opus-yoga/2028-01-07/
LOCATION:Opus Yoga Kentlands\, 257 Market Street\, Gaithersburg\, MD\, United States
ORGANIZER;CN="Susan Young":MAILTO:susan@youngspa.com
END:VEVENT
BEGIN:VEVENT
DTSTART;TZID=America/New_York:20280111T093000
DTEND;TZID=America/New_York:20280111T104500
DTSTAMP:20260424T071554
CREATED:20200302T214301Z
LAST-MODIFIED:20200302T214301Z
UID:5578-1831195800-1831200300@www.susanyoungyoga.com
SUMMARY:Beginner Flow at Opus Yoga
DESCRIPTION:
URL:https://www.susanyoungyoga.com/event/beginner-flow/2028-01-11/
LOCATION:Opus Yoga Kentlands\, 257 Market Street\, Gaithersburg\, MD\, United States
END:VEVENT
BEGIN:VEVENT
DTSTART;TZID=America/New_York:20280114T093000
DTEND;TZID=America/New_York:20280114T110000
DTSTAMP:20260424T071554
CREATED:20200302T131928Z
LAST-MODIFIED:20200302T131928Z
UID:5580-1831455000-1831460400@www.susanyoungyoga.com
SUMMARY:Intermediate Flow at Opus Yoga
DESCRIPTION:
URL:https://www.susanyoungyoga.com/event/intermediate-flow-at-opus-yoga/2028-01-14/
LOCATION:Opus Yoga Kentlands\, 257 Market Street\, Gaithersburg\, MD\, United States
ORGANIZER;CN="Susan Young":MAILTO:susan@youngspa.com
END:VEVENT
BEGIN:VEVENT
DTSTART;TZID=America/New_York:20280118T093000
DTEND;TZID=America/New_York:20280118T104500
DTSTAMP:20260424T071554
CREATED:20200302T214301Z
LAST-MODIFIED:20200302T214301Z
UID:5581-1831800600-1831805100@www.susanyoungyoga.com
SUMMARY:Beginner Flow at Opus Yoga
DESCRIPTION:
URL:https://www.susanyoungyoga.com/event/beginner-flow/2028-01-18/
LOCATION:Opus Yoga Kentlands\, 257 Market Street\, Gaithersburg\, MD\, United States
END:VEVENT
BEGIN:VEVENT
DTSTART;TZID=America/New_York:20280121T093000
DTEND;TZID=America/New_York:20280121T110000
DTSTAMP:20260424T071554
CREATED:20200302T131928Z
LAST-MODIFIED:20200302T131928Z
UID:5583-1832059800-1832065200@www.susanyoungyoga.com
SUMMARY:Intermediate Flow at Opus Yoga
DESCRIPTION:
URL:https://www.susanyoungyoga.com/event/intermediate-flow-at-opus-yoga/2028-01-21/
LOCATION:Opus Yoga Kentlands\, 257 Market Street\, Gaithersburg\, MD\, United States
ORGANIZER;CN="Susan Young":MAILTO:susan@youngspa.com
END:VEVENT
BEGIN:VEVENT
DTSTART;TZID=America/New_York:20280125T093000
DTEND;TZID=America/New_York:20280125T104500
DTSTAMP:20260424T071554
CREATED:20200302T214301Z
LAST-MODIFIED:20200302T214301Z
UID:5584-1832405400-1832409900@www.susanyoungyoga.com
SUMMARY:Beginner Flow at Opus Yoga
DESCRIPTION:
URL:https://www.susanyoungyoga.com/event/beginner-flow/2028-01-25/
LOCATION:Opus Yoga Kentlands\, 257 Market Street\, Gaithersburg\, MD\, United States
END:VEVENT
BEGIN:VEVENT
DTSTART;TZID=America/New_York:20280128T093000
DTEND;TZID=America/New_York:20280128T110000
DTSTAMP:20260424T071554
CREATED:20200302T131928Z
LAST-MODIFIED:20200302T131928Z
UID:5586-1832664600-1832670000@www.susanyoungyoga.com
SUMMARY:Intermediate Flow at Opus Yoga
DESCRIPTION:
URL:https://www.susanyoungyoga.com/event/intermediate-flow-at-opus-yoga/2028-01-28/
LOCATION:Opus Yoga Kentlands\, 257 Market Street\, Gaithersburg\, MD\, United States
ORGANIZER;CN="Susan Young":MAILTO:susan@youngspa.com
END:VEVENT
BEGIN:VEVENT
DTSTART;TZID=America/New_York:20280201T093000
DTEND;TZID=America/New_York:20280201T104500
DTSTAMP:20260424T071554
CREATED:20200302T214301Z
LAST-MODIFIED:20200302T214301Z
UID:5588-1833010200-1833014700@www.susanyoungyoga.com
SUMMARY:Beginner Flow at Opus Yoga
DESCRIPTION:
URL:https://www.susanyoungyoga.com/event/beginner-flow/2028-02-01/
LOCATION:Opus Yoga Kentlands\, 257 Market Street\, Gaithersburg\, MD\, United States
END:VEVENT
END:VCALENDAR