BEGIN:VCALENDAR
VERSION:2.0
PRODID:-//Susan Young Yoga - ECPv6.15.20//NONSGML v1.0//EN
CALSCALE:GREGORIAN
METHOD:PUBLISH
X-WR-CALNAME:Susan Young Yoga
X-ORIGINAL-URL:https://www.susanyoungyoga.com
X-WR-CALDESC:Events for Susan Young Yoga
REFRESH-INTERVAL;VALUE=DURATION:PT1H
X-Robots-Tag:noindex
X-PUBLISHED-TTL:PT1H
BEGIN:VTIMEZONE
TZID:America/New_York
BEGIN:DAYLIGHT
TZOFFSETFROM:-0500
TZOFFSETTO:-0400
TZNAME:EDT
DTSTART:20260308T070000
END:DAYLIGHT
BEGIN:STANDARD
TZOFFSETFROM:-0400
TZOFFSETTO:-0500
TZNAME:EST
DTSTART:20261101T060000
END:STANDARD
BEGIN:DAYLIGHT
TZOFFSETFROM:-0500
TZOFFSETTO:-0400
TZNAME:EDT
DTSTART:20270314T070000
END:DAYLIGHT
BEGIN:STANDARD
TZOFFSETFROM:-0400
TZOFFSETTO:-0500
TZNAME:EST
DTSTART:20271107T060000
END:STANDARD
BEGIN:DAYLIGHT
TZOFFSETFROM:-0500
TZOFFSETTO:-0400
TZNAME:EDT
DTSTART:20280312T070000
END:DAYLIGHT
BEGIN:STANDARD
TZOFFSETFROM:-0400
TZOFFSETTO:-0500
TZNAME:EST
DTSTART:20281105T060000
END:STANDARD
END:VTIMEZONE
BEGIN:VEVENT
DTSTART;TZID=America/New_York:20270507T093000
DTEND;TZID=America/New_York:20270507T110000
DTSTAMP:20260424T014426
CREATED:20200302T131928Z
LAST-MODIFIED:20200302T131928Z
UID:5456-1809682200-1809687600@www.susanyoungyoga.com
SUMMARY:Intermediate Flow at Opus Yoga
DESCRIPTION:
URL:https://www.susanyoungyoga.com/event/intermediate-flow-at-opus-yoga/2027-05-07/
LOCATION:Opus Yoga Kentlands\, 257 Market Street\, Gaithersburg\, MD\, United States
ORGANIZER;CN="Susan Young":MAILTO:susan@youngspa.com
END:VEVENT
BEGIN:VEVENT
DTSTART;TZID=America/New_York:20270511T093000
DTEND;TZID=America/New_York:20270511T104500
DTSTAMP:20260424T014426
CREATED:20200302T214301Z
LAST-MODIFIED:20200302T214301Z
UID:5458-1810027800-1810032300@www.susanyoungyoga.com
SUMMARY:Beginner Flow at Opus Yoga
DESCRIPTION:
URL:https://www.susanyoungyoga.com/event/beginner-flow/2027-05-11/
LOCATION:Opus Yoga Kentlands\, 257 Market Street\, Gaithersburg\, MD\, United States
END:VEVENT
BEGIN:VEVENT
DTSTART;TZID=America/New_York:20270514T093000
DTEND;TZID=America/New_York:20270514T110000
DTSTAMP:20260424T014426
CREATED:20200302T131928Z
LAST-MODIFIED:20200302T131928Z
UID:5460-1810287000-1810292400@www.susanyoungyoga.com
SUMMARY:Intermediate Flow at Opus Yoga
DESCRIPTION:
URL:https://www.susanyoungyoga.com/event/intermediate-flow-at-opus-yoga/2027-05-14/
LOCATION:Opus Yoga Kentlands\, 257 Market Street\, Gaithersburg\, MD\, United States
ORGANIZER;CN="Susan Young":MAILTO:susan@youngspa.com
END:VEVENT
BEGIN:VEVENT
DTSTART;TZID=America/New_York:20270518T093000
DTEND;TZID=America/New_York:20270518T104500
DTSTAMP:20260424T014426
CREATED:20200302T214301Z
LAST-MODIFIED:20200302T214301Z
UID:5461-1810632600-1810637100@www.susanyoungyoga.com
SUMMARY:Beginner Flow at Opus Yoga
DESCRIPTION:
URL:https://www.susanyoungyoga.com/event/beginner-flow/2027-05-18/
LOCATION:Opus Yoga Kentlands\, 257 Market Street\, Gaithersburg\, MD\, United States
END:VEVENT
BEGIN:VEVENT
DTSTART;TZID=America/New_York:20270521T093000
DTEND;TZID=America/New_York:20270521T110000
DTSTAMP:20260424T014426
CREATED:20200302T131928Z
LAST-MODIFIED:20200302T131928Z
UID:5463-1810891800-1810897200@www.susanyoungyoga.com
SUMMARY:Intermediate Flow at Opus Yoga
DESCRIPTION:
URL:https://www.susanyoungyoga.com/event/intermediate-flow-at-opus-yoga/2027-05-21/
LOCATION:Opus Yoga Kentlands\, 257 Market Street\, Gaithersburg\, MD\, United States
ORGANIZER;CN="Susan Young":MAILTO:susan@youngspa.com
END:VEVENT
BEGIN:VEVENT
DTSTART;TZID=America/New_York:20270525T093000
DTEND;TZID=America/New_York:20270525T104500
DTSTAMP:20260424T014426
CREATED:20200302T214301Z
LAST-MODIFIED:20200302T214301Z
UID:5465-1811237400-1811241900@www.susanyoungyoga.com
SUMMARY:Beginner Flow at Opus Yoga
DESCRIPTION:
URL:https://www.susanyoungyoga.com/event/beginner-flow/2027-05-25/
LOCATION:Opus Yoga Kentlands\, 257 Market Street\, Gaithersburg\, MD\, United States
END:VEVENT
BEGIN:VEVENT
DTSTART;TZID=America/New_York:20270528T093000
DTEND;TZID=America/New_York:20270528T110000
DTSTAMP:20260424T014426
CREATED:20200302T131928Z
LAST-MODIFIED:20200302T131928Z
UID:5467-1811496600-1811502000@www.susanyoungyoga.com
SUMMARY:Intermediate Flow at Opus Yoga
DESCRIPTION:
URL:https://www.susanyoungyoga.com/event/intermediate-flow-at-opus-yoga/2027-05-28/
LOCATION:Opus Yoga Kentlands\, 257 Market Street\, Gaithersburg\, MD\, United States
ORGANIZER;CN="Susan Young":MAILTO:susan@youngspa.com
END:VEVENT
BEGIN:VEVENT
DTSTART;TZID=America/New_York:20270601T093000
DTEND;TZID=America/New_York:20270601T104500
DTSTAMP:20260424T014426
CREATED:20200302T214301Z
LAST-MODIFIED:20200302T214301Z
UID:5469-1811842200-1811846700@www.susanyoungyoga.com
SUMMARY:Beginner Flow at Opus Yoga
DESCRIPTION:
URL:https://www.susanyoungyoga.com/event/beginner-flow/2027-06-01/
LOCATION:Opus Yoga Kentlands\, 257 Market Street\, Gaithersburg\, MD\, United States
END:VEVENT
BEGIN:VEVENT
DTSTART;TZID=America/New_York:20270604T093000
DTEND;TZID=America/New_York:20270604T110000
DTSTAMP:20260424T014426
CREATED:20200302T131928Z
LAST-MODIFIED:20200302T131928Z
UID:5471-1812101400-1812106800@www.susanyoungyoga.com
SUMMARY:Intermediate Flow at Opus Yoga
DESCRIPTION:
URL:https://www.susanyoungyoga.com/event/intermediate-flow-at-opus-yoga/2027-06-04/
LOCATION:Opus Yoga Kentlands\, 257 Market Street\, Gaithersburg\, MD\, United States
ORGANIZER;CN="Susan Young":MAILTO:susan@youngspa.com
END:VEVENT
BEGIN:VEVENT
DTSTART;TZID=America/New_York:20270608T093000
DTEND;TZID=America/New_York:20270608T104500
DTSTAMP:20260424T014426
CREATED:20200302T214301Z
LAST-MODIFIED:20200302T214301Z
UID:5472-1812447000-1812451500@www.susanyoungyoga.com
SUMMARY:Beginner Flow at Opus Yoga
DESCRIPTION:
URL:https://www.susanyoungyoga.com/event/beginner-flow/2027-06-08/
LOCATION:Opus Yoga Kentlands\, 257 Market Street\, Gaithersburg\, MD\, United States
END:VEVENT
BEGIN:VEVENT
DTSTART;TZID=America/New_York:20270611T093000
DTEND;TZID=America/New_York:20270611T110000
DTSTAMP:20260424T014426
CREATED:20200302T131928Z
LAST-MODIFIED:20200302T131928Z
UID:5474-1812706200-1812711600@www.susanyoungyoga.com
SUMMARY:Intermediate Flow at Opus Yoga
DESCRIPTION:
URL:https://www.susanyoungyoga.com/event/intermediate-flow-at-opus-yoga/2027-06-11/
LOCATION:Opus Yoga Kentlands\, 257 Market Street\, Gaithersburg\, MD\, United States
ORGANIZER;CN="Susan Young":MAILTO:susan@youngspa.com
END:VEVENT
BEGIN:VEVENT
DTSTART;TZID=America/New_York:20270615T093000
DTEND;TZID=America/New_York:20270615T104500
DTSTAMP:20260424T014426
CREATED:20200302T214301Z
LAST-MODIFIED:20200302T214301Z
UID:5475-1813051800-1813056300@www.susanyoungyoga.com
SUMMARY:Beginner Flow at Opus Yoga
DESCRIPTION:
URL:https://www.susanyoungyoga.com/event/beginner-flow/2027-06-15/
LOCATION:Opus Yoga Kentlands\, 257 Market Street\, Gaithersburg\, MD\, United States
END:VEVENT
BEGIN:VEVENT
DTSTART;TZID=America/New_York:20270618T093000
DTEND;TZID=America/New_York:20270618T110000
DTSTAMP:20260424T014426
CREATED:20200302T131928Z
LAST-MODIFIED:20200302T131928Z
UID:5478-1813311000-1813316400@www.susanyoungyoga.com
SUMMARY:Intermediate Flow at Opus Yoga
DESCRIPTION:
URL:https://www.susanyoungyoga.com/event/intermediate-flow-at-opus-yoga/2027-06-18/
LOCATION:Opus Yoga Kentlands\, 257 Market Street\, Gaithersburg\, MD\, United States
ORGANIZER;CN="Susan Young":MAILTO:susan@youngspa.com
END:VEVENT
BEGIN:VEVENT
DTSTART;TZID=America/New_York:20270622T093000
DTEND;TZID=America/New_York:20270622T104500
DTSTAMP:20260424T014426
CREATED:20200302T214301Z
LAST-MODIFIED:20200302T214301Z
UID:5479-1813656600-1813661100@www.susanyoungyoga.com
SUMMARY:Beginner Flow at Opus Yoga
DESCRIPTION:
URL:https://www.susanyoungyoga.com/event/beginner-flow/2027-06-22/
LOCATION:Opus Yoga Kentlands\, 257 Market Street\, Gaithersburg\, MD\, United States
END:VEVENT
BEGIN:VEVENT
DTSTART;TZID=America/New_York:20270625T093000
DTEND;TZID=America/New_York:20270625T110000
DTSTAMP:20260424T014426
CREATED:20200302T131928Z
LAST-MODIFIED:20200302T131928Z
UID:5481-1813915800-1813921200@www.susanyoungyoga.com
SUMMARY:Intermediate Flow at Opus Yoga
DESCRIPTION:
URL:https://www.susanyoungyoga.com/event/intermediate-flow-at-opus-yoga/2027-06-25/
LOCATION:Opus Yoga Kentlands\, 257 Market Street\, Gaithersburg\, MD\, United States
ORGANIZER;CN="Susan Young":MAILTO:susan@youngspa.com
END:VEVENT
BEGIN:VEVENT
DTSTART;TZID=America/New_York:20270629T093000
DTEND;TZID=America/New_York:20270629T104500
DTSTAMP:20260424T014426
CREATED:20200302T214301Z
LAST-MODIFIED:20200302T214301Z
UID:5482-1814261400-1814265900@www.susanyoungyoga.com
SUMMARY:Beginner Flow at Opus Yoga
DESCRIPTION:
URL:https://www.susanyoungyoga.com/event/beginner-flow/2027-06-29/
LOCATION:Opus Yoga Kentlands\, 257 Market Street\, Gaithersburg\, MD\, United States
END:VEVENT
BEGIN:VEVENT
DTSTART;TZID=America/New_York:20270702T093000
DTEND;TZID=America/New_York:20270702T110000
DTSTAMP:20260424T014426
CREATED:20200302T131928Z
LAST-MODIFIED:20200302T131928Z
UID:5485-1814520600-1814526000@www.susanyoungyoga.com
SUMMARY:Intermediate Flow at Opus Yoga
DESCRIPTION:
URL:https://www.susanyoungyoga.com/event/intermediate-flow-at-opus-yoga/2027-07-02/
LOCATION:Opus Yoga Kentlands\, 257 Market Street\, Gaithersburg\, MD\, United States
ORGANIZER;CN="Susan Young":MAILTO:susan@youngspa.com
END:VEVENT
BEGIN:VEVENT
DTSTART;TZID=America/New_York:20270706T093000
DTEND;TZID=America/New_York:20270706T104500
DTSTAMP:20260424T014426
CREATED:20200302T214301Z
LAST-MODIFIED:20200302T214301Z
UID:5486-1814866200-1814870700@www.susanyoungyoga.com
SUMMARY:Beginner Flow at Opus Yoga
DESCRIPTION:
URL:https://www.susanyoungyoga.com/event/beginner-flow/2027-07-06/
LOCATION:Opus Yoga Kentlands\, 257 Market Street\, Gaithersburg\, MD\, United States
END:VEVENT
BEGIN:VEVENT
DTSTART;TZID=America/New_York:20270709T093000
DTEND;TZID=America/New_York:20270709T110000
DTSTAMP:20260424T014426
CREATED:20200302T131928Z
LAST-MODIFIED:20200302T131928Z
UID:5488-1815125400-1815130800@www.susanyoungyoga.com
SUMMARY:Intermediate Flow at Opus Yoga
DESCRIPTION:
URL:https://www.susanyoungyoga.com/event/intermediate-flow-at-opus-yoga/2027-07-09/
LOCATION:Opus Yoga Kentlands\, 257 Market Street\, Gaithersburg\, MD\, United States
ORGANIZER;CN="Susan Young":MAILTO:susan@youngspa.com
END:VEVENT
BEGIN:VEVENT
DTSTART;TZID=America/New_York:20270713T093000
DTEND;TZID=America/New_York:20270713T104500
DTSTAMP:20260424T014426
CREATED:20200302T214301Z
LAST-MODIFIED:20200302T214301Z
UID:5489-1815471000-1815475500@www.susanyoungyoga.com
SUMMARY:Beginner Flow at Opus Yoga
DESCRIPTION:
URL:https://www.susanyoungyoga.com/event/beginner-flow/2027-07-13/
LOCATION:Opus Yoga Kentlands\, 257 Market Street\, Gaithersburg\, MD\, United States
END:VEVENT
BEGIN:VEVENT
DTSTART;TZID=America/New_York:20270716T093000
DTEND;TZID=America/New_York:20270716T110000
DTSTAMP:20260424T014426
CREATED:20200302T131928Z
LAST-MODIFIED:20200302T131928Z
UID:5492-1815730200-1815735600@www.susanyoungyoga.com
SUMMARY:Intermediate Flow at Opus Yoga
DESCRIPTION:
URL:https://www.susanyoungyoga.com/event/intermediate-flow-at-opus-yoga/2027-07-16/
LOCATION:Opus Yoga Kentlands\, 257 Market Street\, Gaithersburg\, MD\, United States
ORGANIZER;CN="Susan Young":MAILTO:susan@youngspa.com
END:VEVENT
BEGIN:VEVENT
DTSTART;TZID=America/New_York:20270720T093000
DTEND;TZID=America/New_York:20270720T104500
DTSTAMP:20260424T014426
CREATED:20200302T214301Z
LAST-MODIFIED:20200302T214301Z
UID:5493-1816075800-1816080300@www.susanyoungyoga.com
SUMMARY:Beginner Flow at Opus Yoga
DESCRIPTION:
URL:https://www.susanyoungyoga.com/event/beginner-flow/2027-07-20/
LOCATION:Opus Yoga Kentlands\, 257 Market Street\, Gaithersburg\, MD\, United States
END:VEVENT
BEGIN:VEVENT
DTSTART;TZID=America/New_York:20270723T093000
DTEND;TZID=America/New_York:20270723T110000
DTSTAMP:20260424T014426
CREATED:20200302T131928Z
LAST-MODIFIED:20200302T131928Z
UID:5495-1816335000-1816340400@www.susanyoungyoga.com
SUMMARY:Intermediate Flow at Opus Yoga
DESCRIPTION:
URL:https://www.susanyoungyoga.com/event/intermediate-flow-at-opus-yoga/2027-07-23/
LOCATION:Opus Yoga Kentlands\, 257 Market Street\, Gaithersburg\, MD\, United States
ORGANIZER;CN="Susan Young":MAILTO:susan@youngspa.com
END:VEVENT
BEGIN:VEVENT
DTSTART;TZID=America/New_York:20270727T093000
DTEND;TZID=America/New_York:20270727T104500
DTSTAMP:20260424T014426
CREATED:20200302T214301Z
LAST-MODIFIED:20200302T214301Z
UID:5496-1816680600-1816685100@www.susanyoungyoga.com
SUMMARY:Beginner Flow at Opus Yoga
DESCRIPTION:
URL:https://www.susanyoungyoga.com/event/beginner-flow/2027-07-27/
LOCATION:Opus Yoga Kentlands\, 257 Market Street\, Gaithersburg\, MD\, United States
END:VEVENT
BEGIN:VEVENT
DTSTART;TZID=America/New_York:20270730T093000
DTEND;TZID=America/New_York:20270730T110000
DTSTAMP:20260424T014426
CREATED:20200302T131928Z
LAST-MODIFIED:20200302T131928Z
UID:5498-1816939800-1816945200@www.susanyoungyoga.com
SUMMARY:Intermediate Flow at Opus Yoga
DESCRIPTION:
URL:https://www.susanyoungyoga.com/event/intermediate-flow-at-opus-yoga/2027-07-30/
LOCATION:Opus Yoga Kentlands\, 257 Market Street\, Gaithersburg\, MD\, United States
ORGANIZER;CN="Susan Young":MAILTO:susan@youngspa.com
END:VEVENT
BEGIN:VEVENT
DTSTART;TZID=America/New_York:20270803T093000
DTEND;TZID=America/New_York:20270803T104500
DTSTAMP:20260424T014426
CREATED:20200302T214301Z
LAST-MODIFIED:20200302T214301Z
UID:5499-1817285400-1817289900@www.susanyoungyoga.com
SUMMARY:Beginner Flow at Opus Yoga
DESCRIPTION:
URL:https://www.susanyoungyoga.com/event/beginner-flow/2027-08-03/
LOCATION:Opus Yoga Kentlands\, 257 Market Street\, Gaithersburg\, MD\, United States
END:VEVENT
BEGIN:VEVENT
DTSTART;TZID=America/New_York:20270806T093000
DTEND;TZID=America/New_York:20270806T110000
DTSTAMP:20260424T014426
CREATED:20200302T131928Z
LAST-MODIFIED:20200302T131928Z
UID:5502-1817544600-1817550000@www.susanyoungyoga.com
SUMMARY:Intermediate Flow at Opus Yoga
DESCRIPTION:
URL:https://www.susanyoungyoga.com/event/intermediate-flow-at-opus-yoga/2027-08-06/
LOCATION:Opus Yoga Kentlands\, 257 Market Street\, Gaithersburg\, MD\, United States
ORGANIZER;CN="Susan Young":MAILTO:susan@youngspa.com
END:VEVENT
BEGIN:VEVENT
DTSTART;TZID=America/New_York:20270810T093000
DTEND;TZID=America/New_York:20270810T104500
DTSTAMP:20260424T014426
CREATED:20200302T214301Z
LAST-MODIFIED:20200302T214301Z
UID:5503-1817890200-1817894700@www.susanyoungyoga.com
SUMMARY:Beginner Flow at Opus Yoga
DESCRIPTION:
URL:https://www.susanyoungyoga.com/event/beginner-flow/2027-08-10/
LOCATION:Opus Yoga Kentlands\, 257 Market Street\, Gaithersburg\, MD\, United States
END:VEVENT
BEGIN:VEVENT
DTSTART;TZID=America/New_York:20270813T093000
DTEND;TZID=America/New_York:20270813T110000
DTSTAMP:20260424T014426
CREATED:20200302T131928Z
LAST-MODIFIED:20200302T131928Z
UID:5505-1818149400-1818154800@www.susanyoungyoga.com
SUMMARY:Intermediate Flow at Opus Yoga
DESCRIPTION:
URL:https://www.susanyoungyoga.com/event/intermediate-flow-at-opus-yoga/2027-08-13/
LOCATION:Opus Yoga Kentlands\, 257 Market Street\, Gaithersburg\, MD\, United States
ORGANIZER;CN="Susan Young":MAILTO:susan@youngspa.com
END:VEVENT
BEGIN:VEVENT
DTSTART;TZID=America/New_York:20270817T093000
DTEND;TZID=America/New_York:20270817T104500
DTSTAMP:20260424T014426
CREATED:20200302T214301Z
LAST-MODIFIED:20200302T214301Z
UID:5506-1818495000-1818499500@www.susanyoungyoga.com
SUMMARY:Beginner Flow at Opus Yoga
DESCRIPTION:
URL:https://www.susanyoungyoga.com/event/beginner-flow/2027-08-17/
LOCATION:Opus Yoga Kentlands\, 257 Market Street\, Gaithersburg\, MD\, United States
END:VEVENT
END:VCALENDAR