BEGIN:VCALENDAR
VERSION:2.0
PRODID:-//Susan Young Yoga - ECPv6.15.20//NONSGML v1.0//EN
CALSCALE:GREGORIAN
METHOD:PUBLISH
X-ORIGINAL-URL:https://www.susanyoungyoga.com
X-WR-CALDESC:Events for Susan Young Yoga
REFRESH-INTERVAL;VALUE=DURATION:PT1H
X-Robots-Tag:noindex
X-PUBLISHED-TTL:PT1H
BEGIN:VTIMEZONE
TZID:America/New_York
BEGIN:DAYLIGHT
TZOFFSETFROM:-0500
TZOFFSETTO:-0400
TZNAME:EDT
DTSTART:20260308T070000
END:DAYLIGHT
BEGIN:STANDARD
TZOFFSETFROM:-0400
TZOFFSETTO:-0500
TZNAME:EST
DTSTART:20261101T060000
END:STANDARD
BEGIN:DAYLIGHT
TZOFFSETFROM:-0500
TZOFFSETTO:-0400
TZNAME:EDT
DTSTART:20270314T070000
END:DAYLIGHT
BEGIN:STANDARD
TZOFFSETFROM:-0400
TZOFFSETTO:-0500
TZNAME:EST
DTSTART:20271107T060000
END:STANDARD
BEGIN:DAYLIGHT
TZOFFSETFROM:-0500
TZOFFSETTO:-0400
TZNAME:EDT
DTSTART:20280312T070000
END:DAYLIGHT
BEGIN:STANDARD
TZOFFSETFROM:-0400
TZOFFSETTO:-0500
TZNAME:EST
DTSTART:20281105T060000
END:STANDARD
END:VTIMEZONE
BEGIN:VEVENT
DTSTART;TZID=America/New_York:20270105T093000
DTEND;TZID=America/New_York:20270105T104500
DTSTAMP:20260424T020034
CREATED:20200302T214301Z
LAST-MODIFIED:20200302T214301Z
UID:5395-1799141400-1799145900@www.susanyoungyoga.com
SUMMARY:Beginner Flow at Opus Yoga
DESCRIPTION:
URL:https://www.susanyoungyoga.com/event/beginner-flow/2027-01-05/
LOCATION:Opus Yoga Kentlands\, 257 Market Street\, Gaithersburg\, MD\, United States
END:VEVENT
BEGIN:VEVENT
DTSTART;TZID=America/New_York:20270106T103000
DTEND;TZID=America/New_York:20270106T113000
DTSTAMP:20260424T020034
CREATED:20230703T003045Z
LAST-MODIFIED:20230703T003045Z
UID:5396-1799231400-1799235000@www.susanyoungyoga.com
SUMMARY:Gentle Yoga for Cancer
DESCRIPTION:
URL:https://www.susanyoungyoga.com/event/gentle-yoga-for-cancer/2027-01-06/
END:VEVENT
BEGIN:VEVENT
DTSTART;TZID=America/New_York:20270108T093000
DTEND;TZID=America/New_York:20270108T110000
DTSTAMP:20260424T020034
CREATED:20200302T131928Z
LAST-MODIFIED:20200302T131928Z
UID:5397-1799400600-1799406000@www.susanyoungyoga.com
SUMMARY:Intermediate Flow at Opus Yoga
DESCRIPTION:
URL:https://www.susanyoungyoga.com/event/intermediate-flow-at-opus-yoga/2027-01-08/
LOCATION:Opus Yoga Kentlands\, 257 Market Street\, Gaithersburg\, MD\, United States
ORGANIZER;CN="Susan Young":MAILTO:susan@youngspa.com
END:VEVENT
END:VCALENDAR