BEGIN:VCALENDAR
VERSION:2.0
PRODID:-//Susan Young Yoga - ECPv6.15.20//NONSGML v1.0//EN
CALSCALE:GREGORIAN
METHOD:PUBLISH
X-ORIGINAL-URL:https://www.susanyoungyoga.com
X-WR-CALDESC:Events for Susan Young Yoga
REFRESH-INTERVAL;VALUE=DURATION:PT1H
X-Robots-Tag:noindex
X-PUBLISHED-TTL:PT1H
BEGIN:VTIMEZONE
TZID:America/New_York
BEGIN:DAYLIGHT
TZOFFSETFROM:-0500
TZOFFSETTO:-0400
TZNAME:EDT
DTSTART:20250309T070000
END:DAYLIGHT
BEGIN:STANDARD
TZOFFSETFROM:-0400
TZOFFSETTO:-0500
TZNAME:EST
DTSTART:20251102T060000
END:STANDARD
BEGIN:DAYLIGHT
TZOFFSETFROM:-0500
TZOFFSETTO:-0400
TZNAME:EDT
DTSTART:20260308T070000
END:DAYLIGHT
BEGIN:STANDARD
TZOFFSETFROM:-0400
TZOFFSETTO:-0500
TZNAME:EST
DTSTART:20261101T060000
END:STANDARD
BEGIN:DAYLIGHT
TZOFFSETFROM:-0500
TZOFFSETTO:-0400
TZNAME:EDT
DTSTART:20270314T070000
END:DAYLIGHT
BEGIN:STANDARD
TZOFFSETFROM:-0400
TZOFFSETTO:-0500
TZNAME:EST
DTSTART:20271107T060000
END:STANDARD
END:VTIMEZONE
BEGIN:VEVENT
DTSTART;TZID=America/New_York:20260602T093000
DTEND;TZID=America/New_York:20260602T104500
DTSTAMP:20260423T135942
CREATED:20200302T214301Z
LAST-MODIFIED:20200302T214301Z
UID:5285-1780392600-1780397100@www.susanyoungyoga.com
SUMMARY:Beginner Flow at Opus Yoga
DESCRIPTION:
URL:https://www.susanyoungyoga.com/event/beginner-flow/2026-06-02/
LOCATION:Opus Yoga Kentlands\, 257 Market Street\, Gaithersburg\, MD\, United States
END:VEVENT
BEGIN:VEVENT
DTSTART;TZID=America/New_York:20260603T103000
DTEND;TZID=America/New_York:20260603T113000
DTSTAMP:20260423T135942
CREATED:20230703T003045Z
LAST-MODIFIED:20230703T003045Z
UID:5287-1780482600-1780486200@www.susanyoungyoga.com
SUMMARY:Gentle Yoga for Cancer
DESCRIPTION:
URL:https://www.susanyoungyoga.com/event/gentle-yoga-for-cancer/2026-06-03/
END:VEVENT
BEGIN:VEVENT
DTSTART;TZID=America/New_York:20260605T093000
DTEND;TZID=America/New_York:20260605T110000
DTSTAMP:20260423T135942
CREATED:20200302T131928Z
LAST-MODIFIED:20200302T131928Z
UID:5288-1780651800-1780657200@www.susanyoungyoga.com
SUMMARY:Intermediate Flow at Opus Yoga
DESCRIPTION:
URL:https://www.susanyoungyoga.com/event/intermediate-flow-at-opus-yoga/2026-06-05/
LOCATION:Opus Yoga Kentlands\, 257 Market Street\, Gaithersburg\, MD\, United States
ORGANIZER;CN="Susan Young":MAILTO:susan@youngspa.com
END:VEVENT
BEGIN:VEVENT
DTSTART;TZID=America/New_York:20260609T093000
DTEND;TZID=America/New_York:20260609T104500
DTSTAMP:20260423T135942
CREATED:20200302T214301Z
LAST-MODIFIED:20200302T214301Z
UID:5289-1780997400-1781001900@www.susanyoungyoga.com
SUMMARY:Beginner Flow at Opus Yoga
DESCRIPTION:
URL:https://www.susanyoungyoga.com/event/beginner-flow/2026-06-09/
LOCATION:Opus Yoga Kentlands\, 257 Market Street\, Gaithersburg\, MD\, United States
END:VEVENT
BEGIN:VEVENT
DTSTART;TZID=America/New_York:20260610T103000
DTEND;TZID=America/New_York:20260610T113000
DTSTAMP:20260423T135942
CREATED:20230703T003045Z
LAST-MODIFIED:20230703T003045Z
UID:5290-1781087400-1781091000@www.susanyoungyoga.com
SUMMARY:Gentle Yoga for Cancer
DESCRIPTION:
URL:https://www.susanyoungyoga.com/event/gentle-yoga-for-cancer/2026-06-10/
END:VEVENT
BEGIN:VEVENT
DTSTART;TZID=America/New_York:20260612T093000
DTEND;TZID=America/New_York:20260612T110000
DTSTAMP:20260423T135942
CREATED:20200302T131928Z
LAST-MODIFIED:20200302T131928Z
UID:5291-1781256600-1781262000@www.susanyoungyoga.com
SUMMARY:Intermediate Flow at Opus Yoga
DESCRIPTION:
URL:https://www.susanyoungyoga.com/event/intermediate-flow-at-opus-yoga/2026-06-12/
LOCATION:Opus Yoga Kentlands\, 257 Market Street\, Gaithersburg\, MD\, United States
ORGANIZER;CN="Susan Young":MAILTO:susan@youngspa.com
END:VEVENT
BEGIN:VEVENT
DTSTART;TZID=America/New_York:20260616T093000
DTEND;TZID=America/New_York:20260616T104500
DTSTAMP:20260423T135942
CREATED:20200302T214301Z
LAST-MODIFIED:20200302T214301Z
UID:5293-1781602200-1781606700@www.susanyoungyoga.com
SUMMARY:Beginner Flow at Opus Yoga
DESCRIPTION:
URL:https://www.susanyoungyoga.com/event/beginner-flow/2026-06-16/
LOCATION:Opus Yoga Kentlands\, 257 Market Street\, Gaithersburg\, MD\, United States
END:VEVENT
BEGIN:VEVENT
DTSTART;TZID=America/New_York:20260617T103000
DTEND;TZID=America/New_York:20260617T113000
DTSTAMP:20260423T135942
CREATED:20230703T003045Z
LAST-MODIFIED:20230703T003045Z
UID:5294-1781692200-1781695800@www.susanyoungyoga.com
SUMMARY:Gentle Yoga for Cancer
DESCRIPTION:
URL:https://www.susanyoungyoga.com/event/gentle-yoga-for-cancer/2026-06-17/
END:VEVENT
BEGIN:VEVENT
DTSTART;TZID=America/New_York:20260619T093000
DTEND;TZID=America/New_York:20260619T110000
DTSTAMP:20260423T135942
CREATED:20200302T131928Z
LAST-MODIFIED:20200302T131928Z
UID:5295-1781861400-1781866800@www.susanyoungyoga.com
SUMMARY:Intermediate Flow at Opus Yoga
DESCRIPTION:
URL:https://www.susanyoungyoga.com/event/intermediate-flow-at-opus-yoga/2026-06-19/
LOCATION:Opus Yoga Kentlands\, 257 Market Street\, Gaithersburg\, MD\, United States
ORGANIZER;CN="Susan Young":MAILTO:susan@youngspa.com
END:VEVENT
BEGIN:VEVENT
DTSTART;TZID=America/New_York:20260623T093000
DTEND;TZID=America/New_York:20260623T104500
DTSTAMP:20260423T135942
CREATED:20200302T214301Z
LAST-MODIFIED:20200302T214301Z
UID:5296-1782207000-1782211500@www.susanyoungyoga.com
SUMMARY:Beginner Flow at Opus Yoga
DESCRIPTION:
URL:https://www.susanyoungyoga.com/event/beginner-flow/2026-06-23/
LOCATION:Opus Yoga Kentlands\, 257 Market Street\, Gaithersburg\, MD\, United States
END:VEVENT
BEGIN:VEVENT
DTSTART;TZID=America/New_York:20260624T103000
DTEND;TZID=America/New_York:20260624T113000
DTSTAMP:20260423T135942
CREATED:20230703T003045Z
LAST-MODIFIED:20230703T003045Z
UID:5297-1782297000-1782300600@www.susanyoungyoga.com
SUMMARY:Gentle Yoga for Cancer
DESCRIPTION:
URL:https://www.susanyoungyoga.com/event/gentle-yoga-for-cancer/2026-06-24/
END:VEVENT
BEGIN:VEVENT
DTSTART;TZID=America/New_York:20260626T093000
DTEND;TZID=America/New_York:20260626T110000
DTSTAMP:20260423T135942
CREATED:20200302T131928Z
LAST-MODIFIED:20200302T131928Z
UID:5298-1782466200-1782471600@www.susanyoungyoga.com
SUMMARY:Intermediate Flow at Opus Yoga
DESCRIPTION:
URL:https://www.susanyoungyoga.com/event/intermediate-flow-at-opus-yoga/2026-06-26/
LOCATION:Opus Yoga Kentlands\, 257 Market Street\, Gaithersburg\, MD\, United States
ORGANIZER;CN="Susan Young":MAILTO:susan@youngspa.com
END:VEVENT
BEGIN:VEVENT
DTSTART;TZID=America/New_York:20260630T093000
DTEND;TZID=America/New_York:20260630T104500
DTSTAMP:20260423T135942
CREATED:20200302T214301Z
LAST-MODIFIED:20200302T214301Z
UID:5299-1782811800-1782816300@www.susanyoungyoga.com
SUMMARY:Beginner Flow at Opus Yoga
DESCRIPTION:
URL:https://www.susanyoungyoga.com/event/beginner-flow/2026-06-30/
LOCATION:Opus Yoga Kentlands\, 257 Market Street\, Gaithersburg\, MD\, United States
END:VEVENT
END:VCALENDAR