BEGIN:VCALENDAR
VERSION:2.0
PRODID:-//Susan Young Yoga - ECPv6.15.20//NONSGML v1.0//EN
CALSCALE:GREGORIAN
METHOD:PUBLISH
X-WR-CALNAME:Susan Young Yoga
X-ORIGINAL-URL:https://www.susanyoungyoga.com
X-WR-CALDESC:Events for Susan Young Yoga
REFRESH-INTERVAL;VALUE=DURATION:PT1H
X-Robots-Tag:noindex
X-PUBLISHED-TTL:PT1H
BEGIN:VTIMEZONE
TZID:America/New_York
BEGIN:DAYLIGHT
TZOFFSETFROM:-0500
TZOFFSETTO:-0400
TZNAME:EDT
DTSTART:20240310T070000
END:DAYLIGHT
BEGIN:STANDARD
TZOFFSETFROM:-0400
TZOFFSETTO:-0500
TZNAME:EST
DTSTART:20241103T060000
END:STANDARD
BEGIN:DAYLIGHT
TZOFFSETFROM:-0500
TZOFFSETTO:-0400
TZNAME:EDT
DTSTART:20250309T070000
END:DAYLIGHT
BEGIN:STANDARD
TZOFFSETFROM:-0400
TZOFFSETTO:-0500
TZNAME:EST
DTSTART:20251102T060000
END:STANDARD
BEGIN:DAYLIGHT
TZOFFSETFROM:-0500
TZOFFSETTO:-0400
TZNAME:EDT
DTSTART:20260308T070000
END:DAYLIGHT
BEGIN:STANDARD
TZOFFSETFROM:-0400
TZOFFSETTO:-0500
TZNAME:EST
DTSTART:20261101T060000
END:STANDARD
END:VTIMEZONE
BEGIN:VEVENT
DTSTART;TZID=America/New_York:20250801T093000
DTEND;TZID=America/New_York:20250801T110000
DTSTAMP:20260423T215105
CREATED:20200302T131928Z
LAST-MODIFIED:20200302T131928Z
UID:5133-1754040600-1754046000@www.susanyoungyoga.com
SUMMARY:Intermediate Flow at Opus Yoga
DESCRIPTION:
URL:https://www.susanyoungyoga.com/event/intermediate-flow-at-opus-yoga/2025-08-01/
LOCATION:Opus Yoga Kentlands\, 257 Market Street\, Gaithersburg\, MD\, United States
ORGANIZER;CN="Susan Young":MAILTO:susan@youngspa.com
END:VEVENT
BEGIN:VEVENT
DTSTART;TZID=America/New_York:20250805T093000
DTEND;TZID=America/New_York:20250805T104500
DTSTAMP:20260423T215105
CREATED:20200302T214301Z
LAST-MODIFIED:20200302T214301Z
UID:5134-1754386200-1754390700@www.susanyoungyoga.com
SUMMARY:Beginner Flow at Opus Yoga
DESCRIPTION:
URL:https://www.susanyoungyoga.com/event/beginner-flow/2025-08-05/
LOCATION:Opus Yoga Kentlands\, 257 Market Street\, Gaithersburg\, MD\, United States
END:VEVENT
BEGIN:VEVENT
DTSTART;TZID=America/New_York:20250806T103000
DTEND;TZID=America/New_York:20250806T113000
DTSTAMP:20260423T215105
CREATED:20230703T003045Z
LAST-MODIFIED:20230703T003045Z
UID:5135-1754476200-1754479800@www.susanyoungyoga.com
SUMMARY:Gentle Yoga for Cancer
DESCRIPTION:
URL:https://www.susanyoungyoga.com/event/gentle-yoga-for-cancer/2025-08-06/
END:VEVENT
BEGIN:VEVENT
DTSTART;TZID=America/New_York:20250808T093000
DTEND;TZID=America/New_York:20250808T110000
DTSTAMP:20260423T215105
CREATED:20200302T131928Z
LAST-MODIFIED:20200302T131928Z
UID:5136-1754645400-1754650800@www.susanyoungyoga.com
SUMMARY:Intermediate Flow at Opus Yoga
DESCRIPTION:
URL:https://www.susanyoungyoga.com/event/intermediate-flow-at-opus-yoga/2025-08-08/
LOCATION:Opus Yoga Kentlands\, 257 Market Street\, Gaithersburg\, MD\, United States
ORGANIZER;CN="Susan Young":MAILTO:susan@youngspa.com
END:VEVENT
BEGIN:VEVENT
DTSTART;TZID=America/New_York:20250812T093000
DTEND;TZID=America/New_York:20250812T104500
DTSTAMP:20260423T215105
CREATED:20200302T214301Z
LAST-MODIFIED:20200302T214301Z
UID:5137-1754991000-1754995500@www.susanyoungyoga.com
SUMMARY:Beginner Flow at Opus Yoga
DESCRIPTION:
URL:https://www.susanyoungyoga.com/event/beginner-flow/2025-08-12/
LOCATION:Opus Yoga Kentlands\, 257 Market Street\, Gaithersburg\, MD\, United States
END:VEVENT
BEGIN:VEVENT
DTSTART;TZID=America/New_York:20250813T103000
DTEND;TZID=America/New_York:20250813T113000
DTSTAMP:20260423T215105
CREATED:20230703T003045Z
LAST-MODIFIED:20230703T003045Z
UID:5138-1755081000-1755084600@www.susanyoungyoga.com
SUMMARY:Gentle Yoga for Cancer
DESCRIPTION:
URL:https://www.susanyoungyoga.com/event/gentle-yoga-for-cancer/2025-08-13/
END:VEVENT
BEGIN:VEVENT
DTSTART;TZID=America/New_York:20250815T093000
DTEND;TZID=America/New_York:20250815T110000
DTSTAMP:20260423T215105
CREATED:20200302T131928Z
LAST-MODIFIED:20200302T131928Z
UID:5140-1755250200-1755255600@www.susanyoungyoga.com
SUMMARY:Intermediate Flow at Opus Yoga
DESCRIPTION:
URL:https://www.susanyoungyoga.com/event/intermediate-flow-at-opus-yoga/2025-08-15/
LOCATION:Opus Yoga Kentlands\, 257 Market Street\, Gaithersburg\, MD\, United States
ORGANIZER;CN="Susan Young":MAILTO:susan@youngspa.com
END:VEVENT
BEGIN:VEVENT
DTSTART;TZID=America/New_York:20250819T093000
DTEND;TZID=America/New_York:20250819T104500
DTSTAMP:20260423T215105
CREATED:20200302T214301Z
LAST-MODIFIED:20200302T214301Z
UID:5141-1755595800-1755600300@www.susanyoungyoga.com
SUMMARY:Beginner Flow at Opus Yoga
DESCRIPTION:
URL:https://www.susanyoungyoga.com/event/beginner-flow/2025-08-19/
LOCATION:Opus Yoga Kentlands\, 257 Market Street\, Gaithersburg\, MD\, United States
END:VEVENT
BEGIN:VEVENT
DTSTART;TZID=America/New_York:20250820T103000
DTEND;TZID=America/New_York:20250820T113000
DTSTAMP:20260423T215105
CREATED:20230703T003045Z
LAST-MODIFIED:20230703T003045Z
UID:5142-1755685800-1755689400@www.susanyoungyoga.com
SUMMARY:Gentle Yoga for Cancer
DESCRIPTION:
URL:https://www.susanyoungyoga.com/event/gentle-yoga-for-cancer/2025-08-20/
END:VEVENT
BEGIN:VEVENT
DTSTART;TZID=America/New_York:20250822T093000
DTEND;TZID=America/New_York:20250822T110000
DTSTAMP:20260423T215105
CREATED:20200302T131928Z
LAST-MODIFIED:20200302T131928Z
UID:5143-1755855000-1755860400@www.susanyoungyoga.com
SUMMARY:Intermediate Flow at Opus Yoga
DESCRIPTION:
URL:https://www.susanyoungyoga.com/event/intermediate-flow-at-opus-yoga/2025-08-22/
LOCATION:Opus Yoga Kentlands\, 257 Market Street\, Gaithersburg\, MD\, United States
ORGANIZER;CN="Susan Young":MAILTO:susan@youngspa.com
END:VEVENT
BEGIN:VEVENT
DTSTART;TZID=America/New_York:20250826T093000
DTEND;TZID=America/New_York:20250826T104500
DTSTAMP:20260423T215105
CREATED:20200302T214301Z
LAST-MODIFIED:20200302T214301Z
UID:5144-1756200600-1756205100@www.susanyoungyoga.com
SUMMARY:Beginner Flow at Opus Yoga
DESCRIPTION:
URL:https://www.susanyoungyoga.com/event/beginner-flow/2025-08-26/
LOCATION:Opus Yoga Kentlands\, 257 Market Street\, Gaithersburg\, MD\, United States
END:VEVENT
BEGIN:VEVENT
DTSTART;TZID=America/New_York:20250827T103000
DTEND;TZID=America/New_York:20250827T113000
DTSTAMP:20260423T215105
CREATED:20230703T003045Z
LAST-MODIFIED:20230703T003045Z
UID:5145-1756290600-1756294200@www.susanyoungyoga.com
SUMMARY:Gentle Yoga for Cancer
DESCRIPTION:
URL:https://www.susanyoungyoga.com/event/gentle-yoga-for-cancer/2025-08-27/
END:VEVENT
BEGIN:VEVENT
DTSTART;TZID=America/New_York:20250829T093000
DTEND;TZID=America/New_York:20250829T110000
DTSTAMP:20260423T215105
CREATED:20200302T131928Z
LAST-MODIFIED:20200302T131928Z
UID:5146-1756459800-1756465200@www.susanyoungyoga.com
SUMMARY:Intermediate Flow at Opus Yoga
DESCRIPTION:
URL:https://www.susanyoungyoga.com/event/intermediate-flow-at-opus-yoga/2025-08-29/
LOCATION:Opus Yoga Kentlands\, 257 Market Street\, Gaithersburg\, MD\, United States
ORGANIZER;CN="Susan Young":MAILTO:susan@youngspa.com
END:VEVENT
END:VCALENDAR