BEGIN:VCALENDAR
VERSION:2.0
PRODID:-//Susan Young Yoga - ECPv6.15.20//NONSGML v1.0//EN
CALSCALE:GREGORIAN
METHOD:PUBLISH
X-ORIGINAL-URL:https://www.susanyoungyoga.com
X-WR-CALDESC:Events for Susan Young Yoga
REFRESH-INTERVAL;VALUE=DURATION:PT1H
X-Robots-Tag:noindex
X-PUBLISHED-TTL:PT1H
BEGIN:VTIMEZONE
TZID:America/New_York
BEGIN:DAYLIGHT
TZOFFSETFROM:-0500
TZOFFSETTO:-0400
TZNAME:EDT
DTSTART:20250309T070000
END:DAYLIGHT
BEGIN:STANDARD
TZOFFSETFROM:-0400
TZOFFSETTO:-0500
TZNAME:EST
DTSTART:20251102T060000
END:STANDARD
BEGIN:DAYLIGHT
TZOFFSETFROM:-0500
TZOFFSETTO:-0400
TZNAME:EDT
DTSTART:20260308T070000
END:DAYLIGHT
BEGIN:STANDARD
TZOFFSETFROM:-0400
TZOFFSETTO:-0500
TZNAME:EST
DTSTART:20261101T060000
END:STANDARD
BEGIN:DAYLIGHT
TZOFFSETFROM:-0500
TZOFFSETTO:-0400
TZNAME:EDT
DTSTART:20270314T070000
END:DAYLIGHT
BEGIN:STANDARD
TZOFFSETFROM:-0400
TZOFFSETTO:-0500
TZNAME:EST
DTSTART:20271107T060000
END:STANDARD
END:VTIMEZONE
BEGIN:VEVENT
DTSTART;TZID=America/New_York:20260814T093000
DTEND;TZID=America/New_York:20260814T110000
DTSTAMP:20260423T173725
CREATED:20200302T131928Z
LAST-MODIFIED:20200302T131928Z
UID:5324-1786699800-1786705200@www.susanyoungyoga.com
SUMMARY:Intermediate Flow at Opus Yoga
DESCRIPTION:
URL:https://www.susanyoungyoga.com/event/intermediate-flow-at-opus-yoga/2026-08-14/
LOCATION:Opus Yoga Kentlands\, 257 Market Street\, Gaithersburg\, MD\, United States
ORGANIZER;CN="Susan Young":MAILTO:susan@youngspa.com
END:VEVENT
BEGIN:VEVENT
DTSTART;TZID=America/New_York:20260818T093000
DTEND;TZID=America/New_York:20260818T104500
DTSTAMP:20260423T173725
CREATED:20200302T214301Z
LAST-MODIFIED:20200302T214301Z
UID:5326-1787045400-1787049900@www.susanyoungyoga.com
SUMMARY:Beginner Flow at Opus Yoga
DESCRIPTION:
URL:https://www.susanyoungyoga.com/event/beginner-flow/2026-08-18/
LOCATION:Opus Yoga Kentlands\, 257 Market Street\, Gaithersburg\, MD\, United States
END:VEVENT
BEGIN:VEVENT
DTSTART;TZID=America/New_York:20260819T103000
DTEND;TZID=America/New_York:20260819T113000
DTSTAMP:20260423T173725
CREATED:20230703T003045Z
LAST-MODIFIED:20230703T003045Z
UID:5327-1787135400-1787139000@www.susanyoungyoga.com
SUMMARY:Gentle Yoga for Cancer
DESCRIPTION:
URL:https://www.susanyoungyoga.com/event/gentle-yoga-for-cancer/2026-08-19/
END:VEVENT
BEGIN:VEVENT
DTSTART;TZID=America/New_York:20260821T093000
DTEND;TZID=America/New_York:20260821T110000
DTSTAMP:20260423T173725
CREATED:20200302T131928Z
LAST-MODIFIED:20200302T131928Z
UID:5328-1787304600-1787310000@www.susanyoungyoga.com
SUMMARY:Intermediate Flow at Opus Yoga
DESCRIPTION:
URL:https://www.susanyoungyoga.com/event/intermediate-flow-at-opus-yoga/2026-08-21/
LOCATION:Opus Yoga Kentlands\, 257 Market Street\, Gaithersburg\, MD\, United States
ORGANIZER;CN="Susan Young":MAILTO:susan@youngspa.com
END:VEVENT
BEGIN:VEVENT
DTSTART;TZID=America/New_York:20260825T093000
DTEND;TZID=America/New_York:20260825T104500
DTSTAMP:20260423T173725
CREATED:20200302T214301Z
LAST-MODIFIED:20200302T214301Z
UID:5329-1787650200-1787654700@www.susanyoungyoga.com
SUMMARY:Beginner Flow at Opus Yoga
DESCRIPTION:
URL:https://www.susanyoungyoga.com/event/beginner-flow/2026-08-25/
LOCATION:Opus Yoga Kentlands\, 257 Market Street\, Gaithersburg\, MD\, United States
END:VEVENT
BEGIN:VEVENT
DTSTART;TZID=America/New_York:20260826T103000
DTEND;TZID=America/New_York:20260826T113000
DTSTAMP:20260423T173725
CREATED:20230703T003045Z
LAST-MODIFIED:20230703T003045Z
UID:5330-1787740200-1787743800@www.susanyoungyoga.com
SUMMARY:Gentle Yoga for Cancer
DESCRIPTION:
URL:https://www.susanyoungyoga.com/event/gentle-yoga-for-cancer/2026-08-26/
END:VEVENT
BEGIN:VEVENT
DTSTART;TZID=America/New_York:20260828T093000
DTEND;TZID=America/New_York:20260828T110000
DTSTAMP:20260423T173725
CREATED:20200302T131928Z
LAST-MODIFIED:20200302T131928Z
UID:5332-1787909400-1787914800@www.susanyoungyoga.com
SUMMARY:Intermediate Flow at Opus Yoga
DESCRIPTION:
URL:https://www.susanyoungyoga.com/event/intermediate-flow-at-opus-yoga/2026-08-28/
LOCATION:Opus Yoga Kentlands\, 257 Market Street\, Gaithersburg\, MD\, United States
ORGANIZER;CN="Susan Young":MAILTO:susan@youngspa.com
END:VEVENT
BEGIN:VEVENT
DTSTART;TZID=America/New_York:20260901T093000
DTEND;TZID=America/New_York:20260901T104500
DTSTAMP:20260423T173725
CREATED:20200302T214301Z
LAST-MODIFIED:20200302T214301Z
UID:5333-1788255000-1788259500@www.susanyoungyoga.com
SUMMARY:Beginner Flow at Opus Yoga
DESCRIPTION:
URL:https://www.susanyoungyoga.com/event/beginner-flow/2026-09-01/
LOCATION:Opus Yoga Kentlands\, 257 Market Street\, Gaithersburg\, MD\, United States
END:VEVENT
BEGIN:VEVENT
DTSTART;TZID=America/New_York:20260902T103000
DTEND;TZID=America/New_York:20260902T113000
DTSTAMP:20260423T173725
CREATED:20230703T003045Z
LAST-MODIFIED:20230703T003045Z
UID:5334-1788345000-1788348600@www.susanyoungyoga.com
SUMMARY:Gentle Yoga for Cancer
DESCRIPTION:
URL:https://www.susanyoungyoga.com/event/gentle-yoga-for-cancer/2026-09-02/
END:VEVENT
BEGIN:VEVENT
DTSTART;TZID=America/New_York:20260904T093000
DTEND;TZID=America/New_York:20260904T110000
DTSTAMP:20260423T173725
CREATED:20200302T131928Z
LAST-MODIFIED:20200302T131928Z
UID:5335-1788514200-1788519600@www.susanyoungyoga.com
SUMMARY:Intermediate Flow at Opus Yoga
DESCRIPTION:
URL:https://www.susanyoungyoga.com/event/intermediate-flow-at-opus-yoga/2026-09-04/
LOCATION:Opus Yoga Kentlands\, 257 Market Street\, Gaithersburg\, MD\, United States
ORGANIZER;CN="Susan Young":MAILTO:susan@youngspa.com
END:VEVENT
BEGIN:VEVENT
DTSTART;TZID=America/New_York:20260908T093000
DTEND;TZID=America/New_York:20260908T104500
DTSTAMP:20260423T173725
CREATED:20200302T214301Z
LAST-MODIFIED:20200302T214301Z
UID:5336-1788859800-1788864300@www.susanyoungyoga.com
SUMMARY:Beginner Flow at Opus Yoga
DESCRIPTION:
URL:https://www.susanyoungyoga.com/event/beginner-flow/2026-09-08/
LOCATION:Opus Yoga Kentlands\, 257 Market Street\, Gaithersburg\, MD\, United States
END:VEVENT
BEGIN:VEVENT
DTSTART;TZID=America/New_York:20260909T103000
DTEND;TZID=America/New_York:20260909T113000
DTSTAMP:20260423T173725
CREATED:20230703T003045Z
LAST-MODIFIED:20230703T003045Z
UID:5337-1788949800-1788953400@www.susanyoungyoga.com
SUMMARY:Gentle Yoga for Cancer
DESCRIPTION:
URL:https://www.susanyoungyoga.com/event/gentle-yoga-for-cancer/2026-09-09/
END:VEVENT
BEGIN:VEVENT
DTSTART;TZID=America/New_York:20260911T093000
DTEND;TZID=America/New_York:20260911T110000
DTSTAMP:20260423T173725
CREATED:20200302T131928Z
LAST-MODIFIED:20200302T131928Z
UID:5338-1789119000-1789124400@www.susanyoungyoga.com
SUMMARY:Intermediate Flow at Opus Yoga
DESCRIPTION:
URL:https://www.susanyoungyoga.com/event/intermediate-flow-at-opus-yoga/2026-09-11/
LOCATION:Opus Yoga Kentlands\, 257 Market Street\, Gaithersburg\, MD\, United States
ORGANIZER;CN="Susan Young":MAILTO:susan@youngspa.com
END:VEVENT
BEGIN:VEVENT
DTSTART;TZID=America/New_York:20260915T093000
DTEND;TZID=America/New_York:20260915T104500
DTSTAMP:20260423T173725
CREATED:20200302T214301Z
LAST-MODIFIED:20200302T214301Z
UID:5341-1789464600-1789469100@www.susanyoungyoga.com
SUMMARY:Beginner Flow at Opus Yoga
DESCRIPTION:
URL:https://www.susanyoungyoga.com/event/beginner-flow/2026-09-15/
LOCATION:Opus Yoga Kentlands\, 257 Market Street\, Gaithersburg\, MD\, United States
END:VEVENT
BEGIN:VEVENT
DTSTART;TZID=America/New_York:20260916T103000
DTEND;TZID=America/New_York:20260916T113000
DTSTAMP:20260423T173725
CREATED:20230703T003045Z
LAST-MODIFIED:20230703T003045Z
UID:5342-1789554600-1789558200@www.susanyoungyoga.com
SUMMARY:Gentle Yoga for Cancer
DESCRIPTION:
URL:https://www.susanyoungyoga.com/event/gentle-yoga-for-cancer/2026-09-16/
END:VEVENT
BEGIN:VEVENT
DTSTART;TZID=America/New_York:20260918T093000
DTEND;TZID=America/New_York:20260918T110000
DTSTAMP:20260423T173725
CREATED:20200302T131928Z
LAST-MODIFIED:20200302T131928Z
UID:5343-1789723800-1789729200@www.susanyoungyoga.com
SUMMARY:Intermediate Flow at Opus Yoga
DESCRIPTION:
URL:https://www.susanyoungyoga.com/event/intermediate-flow-at-opus-yoga/2026-09-18/
LOCATION:Opus Yoga Kentlands\, 257 Market Street\, Gaithersburg\, MD\, United States
ORGANIZER;CN="Susan Young":MAILTO:susan@youngspa.com
END:VEVENT
BEGIN:VEVENT
DTSTART;TZID=America/New_York:20260922T093000
DTEND;TZID=America/New_York:20260922T104500
DTSTAMP:20260423T173725
CREATED:20200302T214301Z
LAST-MODIFIED:20200302T214301Z
UID:5344-1790069400-1790073900@www.susanyoungyoga.com
SUMMARY:Beginner Flow at Opus Yoga
DESCRIPTION:
URL:https://www.susanyoungyoga.com/event/beginner-flow/2026-09-22/
LOCATION:Opus Yoga Kentlands\, 257 Market Street\, Gaithersburg\, MD\, United States
END:VEVENT
BEGIN:VEVENT
DTSTART;TZID=America/New_York:20260923T103000
DTEND;TZID=America/New_York:20260923T113000
DTSTAMP:20260423T173725
CREATED:20230703T003045Z
LAST-MODIFIED:20230703T003045Z
UID:5346-1790159400-1790163000@www.susanyoungyoga.com
SUMMARY:Gentle Yoga for Cancer
DESCRIPTION:
URL:https://www.susanyoungyoga.com/event/gentle-yoga-for-cancer/2026-09-23/
END:VEVENT
BEGIN:VEVENT
DTSTART;TZID=America/New_York:20260925T093000
DTEND;TZID=America/New_York:20260925T110000
DTSTAMP:20260423T173725
CREATED:20200302T131928Z
LAST-MODIFIED:20200302T131928Z
UID:5347-1790328600-1790334000@www.susanyoungyoga.com
SUMMARY:Intermediate Flow at Opus Yoga
DESCRIPTION:
URL:https://www.susanyoungyoga.com/event/intermediate-flow-at-opus-yoga/2026-09-25/
LOCATION:Opus Yoga Kentlands\, 257 Market Street\, Gaithersburg\, MD\, United States
ORGANIZER;CN="Susan Young":MAILTO:susan@youngspa.com
END:VEVENT
BEGIN:VEVENT
DTSTART;TZID=America/New_York:20260929T093000
DTEND;TZID=America/New_York:20260929T104500
DTSTAMP:20260423T173725
CREATED:20200302T214301Z
LAST-MODIFIED:20200302T214301Z
UID:5348-1790674200-1790678700@www.susanyoungyoga.com
SUMMARY:Beginner Flow at Opus Yoga
DESCRIPTION:
URL:https://www.susanyoungyoga.com/event/beginner-flow/2026-09-29/
LOCATION:Opus Yoga Kentlands\, 257 Market Street\, Gaithersburg\, MD\, United States
END:VEVENT
BEGIN:VEVENT
DTSTART;TZID=America/New_York:20260930T103000
DTEND;TZID=America/New_York:20260930T113000
DTSTAMP:20260423T173725
CREATED:20230703T003045Z
LAST-MODIFIED:20230703T003045Z
UID:5349-1790764200-1790767800@www.susanyoungyoga.com
SUMMARY:Gentle Yoga for Cancer
DESCRIPTION:
URL:https://www.susanyoungyoga.com/event/gentle-yoga-for-cancer/2026-09-30/
END:VEVENT
BEGIN:VEVENT
DTSTART;TZID=America/New_York:20261002T093000
DTEND;TZID=America/New_York:20261002T110000
DTSTAMP:20260423T173725
CREATED:20200302T131928Z
LAST-MODIFIED:20200302T131928Z
UID:5350-1790933400-1790938800@www.susanyoungyoga.com
SUMMARY:Intermediate Flow at Opus Yoga
DESCRIPTION:
URL:https://www.susanyoungyoga.com/event/intermediate-flow-at-opus-yoga/2026-10-02/
LOCATION:Opus Yoga Kentlands\, 257 Market Street\, Gaithersburg\, MD\, United States
ORGANIZER;CN="Susan Young":MAILTO:susan@youngspa.com
END:VEVENT
BEGIN:VEVENT
DTSTART;TZID=America/New_York:20261006T093000
DTEND;TZID=America/New_York:20261006T104500
DTSTAMP:20260423T173725
CREATED:20200302T214301Z
LAST-MODIFIED:20200302T214301Z
UID:5351-1791279000-1791283500@www.susanyoungyoga.com
SUMMARY:Beginner Flow at Opus Yoga
DESCRIPTION:
URL:https://www.susanyoungyoga.com/event/beginner-flow/2026-10-06/
LOCATION:Opus Yoga Kentlands\, 257 Market Street\, Gaithersburg\, MD\, United States
END:VEVENT
BEGIN:VEVENT
DTSTART;TZID=America/New_York:20261007T103000
DTEND;TZID=America/New_York:20261007T113000
DTSTAMP:20260423T173725
CREATED:20230703T003045Z
LAST-MODIFIED:20230703T003045Z
UID:5352-1791369000-1791372600@www.susanyoungyoga.com
SUMMARY:Gentle Yoga for Cancer
DESCRIPTION:
URL:https://www.susanyoungyoga.com/event/gentle-yoga-for-cancer/2026-10-07/
END:VEVENT
BEGIN:VEVENT
DTSTART;TZID=America/New_York:20261009T093000
DTEND;TZID=America/New_York:20261009T110000
DTSTAMP:20260423T173725
CREATED:20200302T131928Z
LAST-MODIFIED:20200302T131928Z
UID:5353-1791538200-1791543600@www.susanyoungyoga.com
SUMMARY:Intermediate Flow at Opus Yoga
DESCRIPTION:
URL:https://www.susanyoungyoga.com/event/intermediate-flow-at-opus-yoga/2026-10-09/
LOCATION:Opus Yoga Kentlands\, 257 Market Street\, Gaithersburg\, MD\, United States
ORGANIZER;CN="Susan Young":MAILTO:susan@youngspa.com
END:VEVENT
BEGIN:VEVENT
DTSTART;TZID=America/New_York:20261013T093000
DTEND;TZID=America/New_York:20261013T104500
DTSTAMP:20260423T173725
CREATED:20200302T214301Z
LAST-MODIFIED:20200302T214301Z
UID:5355-1791883800-1791888300@www.susanyoungyoga.com
SUMMARY:Beginner Flow at Opus Yoga
DESCRIPTION:
URL:https://www.susanyoungyoga.com/event/beginner-flow/2026-10-13/
LOCATION:Opus Yoga Kentlands\, 257 Market Street\, Gaithersburg\, MD\, United States
END:VEVENT
BEGIN:VEVENT
DTSTART;TZID=America/New_York:20261014T103000
DTEND;TZID=America/New_York:20261014T113000
DTSTAMP:20260423T173725
CREATED:20230703T003045Z
LAST-MODIFIED:20230703T003045Z
UID:5356-1791973800-1791977400@www.susanyoungyoga.com
SUMMARY:Gentle Yoga for Cancer
DESCRIPTION:
URL:https://www.susanyoungyoga.com/event/gentle-yoga-for-cancer/2026-10-14/
END:VEVENT
BEGIN:VEVENT
DTSTART;TZID=America/New_York:20261016T093000
DTEND;TZID=America/New_York:20261016T110000
DTSTAMP:20260423T173725
CREATED:20200302T131928Z
LAST-MODIFIED:20200302T131928Z
UID:5357-1792143000-1792148400@www.susanyoungyoga.com
SUMMARY:Intermediate Flow at Opus Yoga
DESCRIPTION:
URL:https://www.susanyoungyoga.com/event/intermediate-flow-at-opus-yoga/2026-10-16/
LOCATION:Opus Yoga Kentlands\, 257 Market Street\, Gaithersburg\, MD\, United States
ORGANIZER;CN="Susan Young":MAILTO:susan@youngspa.com
END:VEVENT
BEGIN:VEVENT
DTSTART;TZID=America/New_York:20261020T093000
DTEND;TZID=America/New_York:20261020T104500
DTSTAMP:20260423T173725
CREATED:20200302T214301Z
LAST-MODIFIED:20200302T214301Z
UID:5358-1792488600-1792493100@www.susanyoungyoga.com
SUMMARY:Beginner Flow at Opus Yoga
DESCRIPTION:
URL:https://www.susanyoungyoga.com/event/beginner-flow/2026-10-20/
LOCATION:Opus Yoga Kentlands\, 257 Market Street\, Gaithersburg\, MD\, United States
END:VEVENT
BEGIN:VEVENT
DTSTART;TZID=America/New_York:20261021T103000
DTEND;TZID=America/New_York:20261021T113000
DTSTAMP:20260423T173725
CREATED:20230703T003045Z
LAST-MODIFIED:20230703T003045Z
UID:5359-1792578600-1792582200@www.susanyoungyoga.com
SUMMARY:Gentle Yoga for Cancer
DESCRIPTION:
URL:https://www.susanyoungyoga.com/event/gentle-yoga-for-cancer/2026-10-21/
END:VEVENT
END:VCALENDAR