BEGIN:VCALENDAR
VERSION:2.0
PRODID:-//Susan Young Yoga - ECPv6.15.20//NONSGML v1.0//EN
CALSCALE:GREGORIAN
METHOD:PUBLISH
X-WR-CALNAME:Susan Young Yoga
X-ORIGINAL-URL:https://www.susanyoungyoga.com
X-WR-CALDESC:Events for Susan Young Yoga
REFRESH-INTERVAL;VALUE=DURATION:PT1H
X-Robots-Tag:noindex
X-PUBLISHED-TTL:PT1H
BEGIN:VTIMEZONE
TZID:America/New_York
BEGIN:DAYLIGHT
TZOFFSETFROM:-0500
TZOFFSETTO:-0400
TZNAME:EDT
DTSTART:20270314T070000
END:DAYLIGHT
BEGIN:STANDARD
TZOFFSETFROM:-0400
TZOFFSETTO:-0500
TZNAME:EST
DTSTART:20271107T060000
END:STANDARD
BEGIN:DAYLIGHT
TZOFFSETFROM:-0500
TZOFFSETTO:-0400
TZNAME:EDT
DTSTART:20280312T070000
END:DAYLIGHT
BEGIN:STANDARD
TZOFFSETFROM:-0400
TZOFFSETTO:-0500
TZNAME:EST
DTSTART:20281105T060000
END:STANDARD
BEGIN:DAYLIGHT
TZOFFSETFROM:-0500
TZOFFSETTO:-0400
TZNAME:EDT
DTSTART:20290311T070000
END:DAYLIGHT
BEGIN:STANDARD
TZOFFSETFROM:-0400
TZOFFSETTO:-0500
TZNAME:EST
DTSTART:20291104T060000
END:STANDARD
END:VTIMEZONE
BEGIN:VEVENT
DTSTART;TZID=America/New_York:20280211T093000
DTEND;TZID=America/New_York:20280211T110000
DTSTAMP:20260425T120809
CREATED:20200302T131928Z
LAST-MODIFIED:20200302T131928Z
UID:5593-1833874200-1833879600@www.susanyoungyoga.com
SUMMARY:Intermediate Flow at Opus Yoga
DESCRIPTION:
URL:https://www.susanyoungyoga.com/event/intermediate-flow-at-opus-yoga/2028-02-11/
LOCATION:Opus Yoga Kentlands\, 257 Market Street\, Gaithersburg\, MD\, United States
ORGANIZER;CN="Susan Young":MAILTO:susan@youngspa.com
END:VEVENT
BEGIN:VEVENT
DTSTART;TZID=America/New_York:20280215T093000
DTEND;TZID=America/New_York:20280215T104500
DTSTAMP:20260425T120809
CREATED:20200302T214301Z
LAST-MODIFIED:20200302T214301Z
UID:5595-1834219800-1834224300@www.susanyoungyoga.com
SUMMARY:Beginner Flow at Opus Yoga
DESCRIPTION:
URL:https://www.susanyoungyoga.com/event/beginner-flow/2028-02-15/
LOCATION:Opus Yoga Kentlands\, 257 Market Street\, Gaithersburg\, MD\, United States
END:VEVENT
BEGIN:VEVENT
DTSTART;TZID=America/New_York:20280216T103000
DTEND;TZID=America/New_York:20280216T113000
DTSTAMP:20260425T120809
CREATED:20230703T003045Z
LAST-MODIFIED:20230703T003045Z
UID:5596-1834309800-1834313400@www.susanyoungyoga.com
SUMMARY:Gentle Yoga for Cancer
DESCRIPTION:
URL:https://www.susanyoungyoga.com/event/gentle-yoga-for-cancer/2028-02-16/
END:VEVENT
BEGIN:VEVENT
DTSTART;TZID=America/New_York:20280218T093000
DTEND;TZID=America/New_York:20280218T110000
DTSTAMP:20260425T120809
CREATED:20200302T131928Z
LAST-MODIFIED:20200302T131928Z
UID:5597-1834479000-1834484400@www.susanyoungyoga.com
SUMMARY:Intermediate Flow at Opus Yoga
DESCRIPTION:
URL:https://www.susanyoungyoga.com/event/intermediate-flow-at-opus-yoga/2028-02-18/
LOCATION:Opus Yoga Kentlands\, 257 Market Street\, Gaithersburg\, MD\, United States
ORGANIZER;CN="Susan Young":MAILTO:susan@youngspa.com
END:VEVENT
BEGIN:VEVENT
DTSTART;TZID=America/New_York:20280222T093000
DTEND;TZID=America/New_York:20280222T104500
DTSTAMP:20260425T120809
CREATED:20200302T214301Z
LAST-MODIFIED:20200302T214301Z
UID:5598-1834824600-1834829100@www.susanyoungyoga.com
SUMMARY:Beginner Flow at Opus Yoga
DESCRIPTION:
URL:https://www.susanyoungyoga.com/event/beginner-flow/2028-02-22/
LOCATION:Opus Yoga Kentlands\, 257 Market Street\, Gaithersburg\, MD\, United States
END:VEVENT
BEGIN:VEVENT
DTSTART;TZID=America/New_York:20280223T103000
DTEND;TZID=America/New_York:20280223T113000
DTSTAMP:20260425T120809
CREATED:20230703T003045Z
LAST-MODIFIED:20230703T003045Z
UID:5599-1834914600-1834918200@www.susanyoungyoga.com
SUMMARY:Gentle Yoga for Cancer
DESCRIPTION:
URL:https://www.susanyoungyoga.com/event/gentle-yoga-for-cancer/2028-02-23/
END:VEVENT
BEGIN:VEVENT
DTSTART;TZID=America/New_York:20280225T093000
DTEND;TZID=America/New_York:20280225T110000
DTSTAMP:20260425T120809
CREATED:20200302T131928Z
LAST-MODIFIED:20200302T131928Z
UID:5600-1835083800-1835089200@www.susanyoungyoga.com
SUMMARY:Intermediate Flow at Opus Yoga
DESCRIPTION:
URL:https://www.susanyoungyoga.com/event/intermediate-flow-at-opus-yoga/2028-02-25/
LOCATION:Opus Yoga Kentlands\, 257 Market Street\, Gaithersburg\, MD\, United States
ORGANIZER;CN="Susan Young":MAILTO:susan@youngspa.com
END:VEVENT
BEGIN:VEVENT
DTSTART;TZID=America/New_York:20280229T093000
DTEND;TZID=America/New_York:20280229T104500
DTSTAMP:20260425T120809
CREATED:20200302T214301Z
LAST-MODIFIED:20200302T214301Z
UID:5601-1835429400-1835433900@www.susanyoungyoga.com
SUMMARY:Beginner Flow at Opus Yoga
DESCRIPTION:
URL:https://www.susanyoungyoga.com/event/beginner-flow/2028-02-29/
LOCATION:Opus Yoga Kentlands\, 257 Market Street\, Gaithersburg\, MD\, United States
END:VEVENT
BEGIN:VEVENT
DTSTART;TZID=America/New_York:20280301T103000
DTEND;TZID=America/New_York:20280301T113000
DTSTAMP:20260425T120809
CREATED:20230703T003045Z
LAST-MODIFIED:20230703T003045Z
UID:5602-1835519400-1835523000@www.susanyoungyoga.com
SUMMARY:Gentle Yoga for Cancer
DESCRIPTION:
URL:https://www.susanyoungyoga.com/event/gentle-yoga-for-cancer/2028-03-01/
END:VEVENT
BEGIN:VEVENT
DTSTART;TZID=America/New_York:20280303T093000
DTEND;TZID=America/New_York:20280303T110000
DTSTAMP:20260425T120809
CREATED:20200302T131928Z
LAST-MODIFIED:20200302T131928Z
UID:5603-1835688600-1835694000@www.susanyoungyoga.com
SUMMARY:Intermediate Flow at Opus Yoga
DESCRIPTION:
URL:https://www.susanyoungyoga.com/event/intermediate-flow-at-opus-yoga/2028-03-03/
LOCATION:Opus Yoga Kentlands\, 257 Market Street\, Gaithersburg\, MD\, United States
ORGANIZER;CN="Susan Young":MAILTO:susan@youngspa.com
END:VEVENT
BEGIN:VEVENT
DTSTART;TZID=America/New_York:20280307T093000
DTEND;TZID=America/New_York:20280307T104500
DTSTAMP:20260425T120809
CREATED:20200302T214301Z
LAST-MODIFIED:20200302T214301Z
UID:5604-1836034200-1836038700@www.susanyoungyoga.com
SUMMARY:Beginner Flow at Opus Yoga
DESCRIPTION:
URL:https://www.susanyoungyoga.com/event/beginner-flow/2028-03-07/
LOCATION:Opus Yoga Kentlands\, 257 Market Street\, Gaithersburg\, MD\, United States
END:VEVENT
BEGIN:VEVENT
DTSTART;TZID=America/New_York:20280308T103000
DTEND;TZID=America/New_York:20280308T113000
DTSTAMP:20260425T120809
CREATED:20230703T003045Z
LAST-MODIFIED:20230703T003045Z
UID:5605-1836124200-1836127800@www.susanyoungyoga.com
SUMMARY:Gentle Yoga for Cancer
DESCRIPTION:
URL:https://www.susanyoungyoga.com/event/gentle-yoga-for-cancer/2028-03-08/
END:VEVENT
BEGIN:VEVENT
DTSTART;TZID=America/New_York:20280310T093000
DTEND;TZID=America/New_York:20280310T110000
DTSTAMP:20260425T120809
CREATED:20200302T131928Z
LAST-MODIFIED:20200302T131928Z
UID:5607-1836293400-1836298800@www.susanyoungyoga.com
SUMMARY:Intermediate Flow at Opus Yoga
DESCRIPTION:
URL:https://www.susanyoungyoga.com/event/intermediate-flow-at-opus-yoga/2028-03-10/
LOCATION:Opus Yoga Kentlands\, 257 Market Street\, Gaithersburg\, MD\, United States
ORGANIZER;CN="Susan Young":MAILTO:susan@youngspa.com
END:VEVENT
BEGIN:VEVENT
DTSTART;TZID=America/New_York:20280314T093000
DTEND;TZID=America/New_York:20280314T104500
DTSTAMP:20260425T120809
CREATED:20200302T214301Z
LAST-MODIFIED:20200302T214301Z
UID:5608-1836639000-1836643500@www.susanyoungyoga.com
SUMMARY:Beginner Flow at Opus Yoga
DESCRIPTION:
URL:https://www.susanyoungyoga.com/event/beginner-flow/2028-03-14/
LOCATION:Opus Yoga Kentlands\, 257 Market Street\, Gaithersburg\, MD\, United States
END:VEVENT
BEGIN:VEVENT
DTSTART;TZID=America/New_York:20280315T103000
DTEND;TZID=America/New_York:20280315T113000
DTSTAMP:20260425T120809
CREATED:20230703T003045Z
LAST-MODIFIED:20230703T003045Z
UID:5609-1836729000-1836732600@www.susanyoungyoga.com
SUMMARY:Gentle Yoga for Cancer
DESCRIPTION:
URL:https://www.susanyoungyoga.com/event/gentle-yoga-for-cancer/2028-03-15/
END:VEVENT
BEGIN:VEVENT
DTSTART;TZID=America/New_York:20280317T093000
DTEND;TZID=America/New_York:20280317T110000
DTSTAMP:20260425T120809
CREATED:20200302T131928Z
LAST-MODIFIED:20200302T131928Z
UID:5610-1836898200-1836903600@www.susanyoungyoga.com
SUMMARY:Intermediate Flow at Opus Yoga
DESCRIPTION:
URL:https://www.susanyoungyoga.com/event/intermediate-flow-at-opus-yoga/2028-03-17/
LOCATION:Opus Yoga Kentlands\, 257 Market Street\, Gaithersburg\, MD\, United States
ORGANIZER;CN="Susan Young":MAILTO:susan@youngspa.com
END:VEVENT
BEGIN:VEVENT
DTSTART;TZID=America/New_York:20280321T093000
DTEND;TZID=America/New_York:20280321T104500
DTSTAMP:20260425T120809
CREATED:20200302T214301Z
LAST-MODIFIED:20200302T214301Z
UID:5611-1837243800-1837248300@www.susanyoungyoga.com
SUMMARY:Beginner Flow at Opus Yoga
DESCRIPTION:
URL:https://www.susanyoungyoga.com/event/beginner-flow/2028-03-21/
LOCATION:Opus Yoga Kentlands\, 257 Market Street\, Gaithersburg\, MD\, United States
END:VEVENT
BEGIN:VEVENT
DTSTART;TZID=America/New_York:20280322T103000
DTEND;TZID=America/New_York:20280322T113000
DTSTAMP:20260425T120809
CREATED:20230703T003045Z
LAST-MODIFIED:20230703T003045Z
UID:5612-1837333800-1837337400@www.susanyoungyoga.com
SUMMARY:Gentle Yoga for Cancer
DESCRIPTION:
URL:https://www.susanyoungyoga.com/event/gentle-yoga-for-cancer/2028-03-22/
END:VEVENT
BEGIN:VEVENT
DTSTART;TZID=America/New_York:20280324T093000
DTEND;TZID=America/New_York:20280324T110000
DTSTAMP:20260425T120809
CREATED:20200302T131928Z
LAST-MODIFIED:20200302T131928Z
UID:5614-1837503000-1837508400@www.susanyoungyoga.com
SUMMARY:Intermediate Flow at Opus Yoga
DESCRIPTION:
URL:https://www.susanyoungyoga.com/event/intermediate-flow-at-opus-yoga/2028-03-24/
LOCATION:Opus Yoga Kentlands\, 257 Market Street\, Gaithersburg\, MD\, United States
ORGANIZER;CN="Susan Young":MAILTO:susan@youngspa.com
END:VEVENT
BEGIN:VEVENT
DTSTART;TZID=America/New_York:20280328T093000
DTEND;TZID=America/New_York:20280328T104500
DTSTAMP:20260425T120809
CREATED:20200302T214301Z
LAST-MODIFIED:20200302T214301Z
UID:5615-1837848600-1837853100@www.susanyoungyoga.com
SUMMARY:Beginner Flow at Opus Yoga
DESCRIPTION:
URL:https://www.susanyoungyoga.com/event/beginner-flow/2028-03-28/
LOCATION:Opus Yoga Kentlands\, 257 Market Street\, Gaithersburg\, MD\, United States
END:VEVENT
BEGIN:VEVENT
DTSTART;TZID=America/New_York:20280329T103000
DTEND;TZID=America/New_York:20280329T113000
DTSTAMP:20260425T120809
CREATED:20230703T003045Z
LAST-MODIFIED:20230703T003045Z
UID:5616-1837938600-1837942200@www.susanyoungyoga.com
SUMMARY:Gentle Yoga for Cancer
DESCRIPTION:
URL:https://www.susanyoungyoga.com/event/gentle-yoga-for-cancer/2028-03-29/
END:VEVENT
BEGIN:VEVENT
DTSTART;TZID=America/New_York:20280331T093000
DTEND;TZID=America/New_York:20280331T110000
DTSTAMP:20260425T120809
CREATED:20200302T131928Z
LAST-MODIFIED:20200302T131928Z
UID:5617-1838107800-1838113200@www.susanyoungyoga.com
SUMMARY:Intermediate Flow at Opus Yoga
DESCRIPTION:
URL:https://www.susanyoungyoga.com/event/intermediate-flow-at-opus-yoga/2028-03-31/
LOCATION:Opus Yoga Kentlands\, 257 Market Street\, Gaithersburg\, MD\, United States
ORGANIZER;CN="Susan Young":MAILTO:susan@youngspa.com
END:VEVENT
BEGIN:VEVENT
DTSTART;TZID=America/New_York:20280404T093000
DTEND;TZID=America/New_York:20280404T104500
DTSTAMP:20260425T120809
CREATED:20200302T214301Z
LAST-MODIFIED:20200302T214301Z
UID:5618-1838453400-1838457900@www.susanyoungyoga.com
SUMMARY:Beginner Flow at Opus Yoga
DESCRIPTION:
URL:https://www.susanyoungyoga.com/event/beginner-flow/2028-04-04/
LOCATION:Opus Yoga Kentlands\, 257 Market Street\, Gaithersburg\, MD\, United States
END:VEVENT
BEGIN:VEVENT
DTSTART;TZID=America/New_York:20280405T103000
DTEND;TZID=America/New_York:20280405T113000
DTSTAMP:20260425T120809
CREATED:20230703T003045Z
LAST-MODIFIED:20230703T003045Z
UID:5619-1838543400-1838547000@www.susanyoungyoga.com
SUMMARY:Gentle Yoga for Cancer
DESCRIPTION:
URL:https://www.susanyoungyoga.com/event/gentle-yoga-for-cancer/2028-04-05/
END:VEVENT
BEGIN:VEVENT
DTSTART;TZID=America/New_York:20280407T093000
DTEND;TZID=America/New_York:20280407T110000
DTSTAMP:20260425T120809
CREATED:20200302T131928Z
LAST-MODIFIED:20200302T131928Z
UID:5620-1838712600-1838718000@www.susanyoungyoga.com
SUMMARY:Intermediate Flow at Opus Yoga
DESCRIPTION:
URL:https://www.susanyoungyoga.com/event/intermediate-flow-at-opus-yoga/2028-04-07/
LOCATION:Opus Yoga Kentlands\, 257 Market Street\, Gaithersburg\, MD\, United States
ORGANIZER;CN="Susan Young":MAILTO:susan@youngspa.com
END:VEVENT
BEGIN:VEVENT
DTSTART;TZID=America/New_York:20280411T093000
DTEND;TZID=America/New_York:20280411T104500
DTSTAMP:20260425T120809
CREATED:20200302T214301Z
LAST-MODIFIED:20200302T214301Z
UID:5622-1839058200-1839062700@www.susanyoungyoga.com
SUMMARY:Beginner Flow at Opus Yoga
DESCRIPTION:
URL:https://www.susanyoungyoga.com/event/beginner-flow/2028-04-11/
LOCATION:Opus Yoga Kentlands\, 257 Market Street\, Gaithersburg\, MD\, United States
END:VEVENT
BEGIN:VEVENT
DTSTART;TZID=America/New_York:20280412T103000
DTEND;TZID=America/New_York:20280412T113000
DTSTAMP:20260425T120809
CREATED:20230703T003045Z
LAST-MODIFIED:20230703T003045Z
UID:5623-1839148200-1839151800@www.susanyoungyoga.com
SUMMARY:Gentle Yoga for Cancer
DESCRIPTION:
URL:https://www.susanyoungyoga.com/event/gentle-yoga-for-cancer/2028-04-12/
END:VEVENT
BEGIN:VEVENT
DTSTART;TZID=America/New_York:20280414T093000
DTEND;TZID=America/New_York:20280414T110000
DTSTAMP:20260425T120809
CREATED:20200302T131928Z
LAST-MODIFIED:20200302T131928Z
UID:5624-1839317400-1839322800@www.susanyoungyoga.com
SUMMARY:Intermediate Flow at Opus Yoga
DESCRIPTION:
URL:https://www.susanyoungyoga.com/event/intermediate-flow-at-opus-yoga/2028-04-14/
LOCATION:Opus Yoga Kentlands\, 257 Market Street\, Gaithersburg\, MD\, United States
ORGANIZER;CN="Susan Young":MAILTO:susan@youngspa.com
END:VEVENT
BEGIN:VEVENT
DTSTART;TZID=America/New_York:20280418T093000
DTEND;TZID=America/New_York:20280418T104500
DTSTAMP:20260425T120809
CREATED:20200302T214301Z
LAST-MODIFIED:20200302T214301Z
UID:5625-1839663000-1839667500@www.susanyoungyoga.com
SUMMARY:Beginner Flow at Opus Yoga
DESCRIPTION:
URL:https://www.susanyoungyoga.com/event/beginner-flow/2028-04-18/
LOCATION:Opus Yoga Kentlands\, 257 Market Street\, Gaithersburg\, MD\, United States
END:VEVENT
BEGIN:VEVENT
DTSTART;TZID=America/New_York:20280419T103000
DTEND;TZID=America/New_York:20280419T113000
DTSTAMP:20260425T120809
CREATED:20230703T003045Z
LAST-MODIFIED:20230703T003045Z
UID:5626-1839753000-1839756600@www.susanyoungyoga.com
SUMMARY:Gentle Yoga for Cancer
DESCRIPTION:
URL:https://www.susanyoungyoga.com/event/gentle-yoga-for-cancer/2028-04-19/
END:VEVENT
END:VCALENDAR