BEGIN:VCALENDAR
VERSION:2.0
PRODID:-//Susan Young Yoga - ECPv6.15.20//NONSGML v1.0//EN
CALSCALE:GREGORIAN
METHOD:PUBLISH
X-WR-CALNAME:Susan Young Yoga
X-ORIGINAL-URL:https://www.susanyoungyoga.com
X-WR-CALDESC:Events for Susan Young Yoga
REFRESH-INTERVAL;VALUE=DURATION:PT1H
X-Robots-Tag:noindex
X-PUBLISHED-TTL:PT1H
BEGIN:VTIMEZONE
TZID:America/New_York
BEGIN:DAYLIGHT
TZOFFSETFROM:-0500
TZOFFSETTO:-0400
TZNAME:EDT
DTSTART:20230312T070000
END:DAYLIGHT
BEGIN:STANDARD
TZOFFSETFROM:-0400
TZOFFSETTO:-0500
TZNAME:EST
DTSTART:20231105T060000
END:STANDARD
BEGIN:DAYLIGHT
TZOFFSETFROM:-0500
TZOFFSETTO:-0400
TZNAME:EDT
DTSTART:20240310T070000
END:DAYLIGHT
BEGIN:STANDARD
TZOFFSETFROM:-0400
TZOFFSETTO:-0500
TZNAME:EST
DTSTART:20241103T060000
END:STANDARD
BEGIN:DAYLIGHT
TZOFFSETFROM:-0500
TZOFFSETTO:-0400
TZNAME:EDT
DTSTART:20250309T070000
END:DAYLIGHT
BEGIN:STANDARD
TZOFFSETFROM:-0400
TZOFFSETTO:-0500
TZNAME:EST
DTSTART:20251102T060000
END:STANDARD
END:VTIMEZONE
BEGIN:VEVENT
DTSTART;TZID=America/New_York:20241112T093000
DTEND;TZID=America/New_York:20241112T104500
DTSTAMP:20260425T105214
CREATED:20200302T214301Z
LAST-MODIFIED:20200302T214301Z
UID:4356-1731403800-1731408300@www.susanyoungyoga.com
SUMMARY:Beginner Flow at Opus Yoga
DESCRIPTION:
URL:https://www.susanyoungyoga.com/event/beginner-flow/2024-11-12/
LOCATION:Opus Yoga Kentlands\, 257 Market Street\, Gaithersburg\, MD\, United States
END:VEVENT
BEGIN:VEVENT
DTSTART;TZID=America/New_York:20241108T093000
DTEND;TZID=America/New_York:20241108T110000
DTSTAMP:20260425T105214
CREATED:20200302T131928Z
LAST-MODIFIED:20200302T131928Z
UID:4271-1731058200-1731063600@www.susanyoungyoga.com
SUMMARY:Intermediate Flow at Opus Yoga
DESCRIPTION:
URL:https://www.susanyoungyoga.com/event/intermediate-flow-at-opus-yoga/2024-11-08/
LOCATION:Opus Yoga Kentlands\, 257 Market Street\, Gaithersburg\, MD\, United States
ORGANIZER;CN="Susan Young":MAILTO:susan@youngspa.com
END:VEVENT
BEGIN:VEVENT
DTSTART;TZID=America/New_York:20241106T103000
DTEND;TZID=America/New_York:20241106T113000
DTSTAMP:20260425T105214
CREATED:20230703T003045Z
LAST-MODIFIED:20230703T003045Z
UID:5055-1730889000-1730892600@www.susanyoungyoga.com
SUMMARY:Gentle Yoga for Cancer
DESCRIPTION:
URL:https://www.susanyoungyoga.com/event/gentle-yoga-for-cancer/2024-11-06/
END:VEVENT
BEGIN:VEVENT
DTSTART;TZID=America/New_York:20241105T093000
DTEND;TZID=America/New_York:20241105T104500
DTSTAMP:20260425T105214
CREATED:20200302T214301Z
LAST-MODIFIED:20200302T214301Z
UID:4355-1730799000-1730803500@www.susanyoungyoga.com
SUMMARY:Beginner Flow at Opus Yoga
DESCRIPTION:
URL:https://www.susanyoungyoga.com/event/beginner-flow/2024-11-05/
LOCATION:Opus Yoga Kentlands\, 257 Market Street\, Gaithersburg\, MD\, United States
END:VEVENT
BEGIN:VEVENT
DTSTART;TZID=America/New_York:20241101T093000
DTEND;TZID=America/New_York:20241101T110000
DTSTAMP:20260425T105214
CREATED:20200302T131928Z
LAST-MODIFIED:20200302T131928Z
UID:4270-1730453400-1730458800@www.susanyoungyoga.com
SUMMARY:Intermediate Flow at Opus Yoga
DESCRIPTION:
URL:https://www.susanyoungyoga.com/event/intermediate-flow-at-opus-yoga/2024-11-01/
LOCATION:Opus Yoga Kentlands\, 257 Market Street\, Gaithersburg\, MD\, United States
ORGANIZER;CN="Susan Young":MAILTO:susan@youngspa.com
END:VEVENT
BEGIN:VEVENT
DTSTART;TZID=America/New_York:20241030T103000
DTEND;TZID=America/New_York:20241030T113000
DTSTAMP:20260425T105214
CREATED:20230703T003045Z
LAST-MODIFIED:20230703T003045Z
UID:5054-1730284200-1730287800@www.susanyoungyoga.com
SUMMARY:Gentle Yoga for Cancer
DESCRIPTION:
URL:https://www.susanyoungyoga.com/event/gentle-yoga-for-cancer/2024-10-30/
END:VEVENT
BEGIN:VEVENT
DTSTART;TZID=America/New_York:20241029T093000
DTEND;TZID=America/New_York:20241029T104500
DTSTAMP:20260425T105214
CREATED:20200302T214301Z
LAST-MODIFIED:20200302T214301Z
UID:4354-1730194200-1730198700@www.susanyoungyoga.com
SUMMARY:Beginner Flow at Opus Yoga
DESCRIPTION:
URL:https://www.susanyoungyoga.com/event/beginner-flow/2024-10-29/
LOCATION:Opus Yoga Kentlands\, 257 Market Street\, Gaithersburg\, MD\, United States
END:VEVENT
BEGIN:VEVENT
DTSTART;TZID=America/New_York:20241025T093000
DTEND;TZID=America/New_York:20241025T110000
DTSTAMP:20260425T105214
CREATED:20200302T131928Z
LAST-MODIFIED:20200302T131928Z
UID:4269-1729848600-1729854000@www.susanyoungyoga.com
SUMMARY:Intermediate Flow at Opus Yoga
DESCRIPTION:
URL:https://www.susanyoungyoga.com/event/intermediate-flow-at-opus-yoga/2024-10-25/
LOCATION:Opus Yoga Kentlands\, 257 Market Street\, Gaithersburg\, MD\, United States
ORGANIZER;CN="Susan Young":MAILTO:susan@youngspa.com
END:VEVENT
BEGIN:VEVENT
DTSTART;TZID=America/New_York:20241023T103000
DTEND;TZID=America/New_York:20241023T113000
DTSTAMP:20260425T105214
CREATED:20230703T003045Z
LAST-MODIFIED:20230703T003045Z
UID:5053-1729679400-1729683000@www.susanyoungyoga.com
SUMMARY:Gentle Yoga for Cancer
DESCRIPTION:
URL:https://www.susanyoungyoga.com/event/gentle-yoga-for-cancer/2024-10-23/
END:VEVENT
BEGIN:VEVENT
DTSTART;TZID=America/New_York:20241022T093000
DTEND;TZID=America/New_York:20241022T104500
DTSTAMP:20260425T105214
CREATED:20200302T214301Z
LAST-MODIFIED:20200302T214301Z
UID:4353-1729589400-1729593900@www.susanyoungyoga.com
SUMMARY:Beginner Flow at Opus Yoga
DESCRIPTION:
URL:https://www.susanyoungyoga.com/event/beginner-flow/2024-10-22/
LOCATION:Opus Yoga Kentlands\, 257 Market Street\, Gaithersburg\, MD\, United States
END:VEVENT
BEGIN:VEVENT
DTSTART;TZID=America/New_York:20241018T093000
DTEND;TZID=America/New_York:20241018T110000
DTSTAMP:20260425T105214
CREATED:20200302T131928Z
LAST-MODIFIED:20200302T131928Z
UID:4268-1729243800-1729249200@www.susanyoungyoga.com
SUMMARY:Intermediate Flow at Opus Yoga
DESCRIPTION:
URL:https://www.susanyoungyoga.com/event/intermediate-flow-at-opus-yoga/2024-10-18/
LOCATION:Opus Yoga Kentlands\, 257 Market Street\, Gaithersburg\, MD\, United States
ORGANIZER;CN="Susan Young":MAILTO:susan@youngspa.com
END:VEVENT
BEGIN:VEVENT
DTSTART;TZID=America/New_York:20241016T103000
DTEND;TZID=America/New_York:20241016T113000
DTSTAMP:20260425T105214
CREATED:20230703T003045Z
LAST-MODIFIED:20230703T003045Z
UID:5052-1729074600-1729078200@www.susanyoungyoga.com
SUMMARY:Gentle Yoga for Cancer
DESCRIPTION:
URL:https://www.susanyoungyoga.com/event/gentle-yoga-for-cancer/2024-10-16/
END:VEVENT
BEGIN:VEVENT
DTSTART;TZID=America/New_York:20241015T093000
DTEND;TZID=America/New_York:20241015T104500
DTSTAMP:20260425T105214
CREATED:20200302T214301Z
LAST-MODIFIED:20200302T214301Z
UID:4352-1728984600-1728989100@www.susanyoungyoga.com
SUMMARY:Beginner Flow at Opus Yoga
DESCRIPTION:
URL:https://www.susanyoungyoga.com/event/beginner-flow/2024-10-15/
LOCATION:Opus Yoga Kentlands\, 257 Market Street\, Gaithersburg\, MD\, United States
END:VEVENT
BEGIN:VEVENT
DTSTART;TZID=America/New_York:20241011T093000
DTEND;TZID=America/New_York:20241011T110000
DTSTAMP:20260425T105214
CREATED:20200302T131928Z
LAST-MODIFIED:20200302T131928Z
UID:4267-1728639000-1728644400@www.susanyoungyoga.com
SUMMARY:Intermediate Flow at Opus Yoga
DESCRIPTION:
URL:https://www.susanyoungyoga.com/event/intermediate-flow-at-opus-yoga/2024-10-11/
LOCATION:Opus Yoga Kentlands\, 257 Market Street\, Gaithersburg\, MD\, United States
ORGANIZER;CN="Susan Young":MAILTO:susan@youngspa.com
END:VEVENT
BEGIN:VEVENT
DTSTART;TZID=America/New_York:20241009T103000
DTEND;TZID=America/New_York:20241009T113000
DTSTAMP:20260425T105214
CREATED:20230703T003045Z
LAST-MODIFIED:20230703T003045Z
UID:5051-1728469800-1728473400@www.susanyoungyoga.com
SUMMARY:Gentle Yoga for Cancer
DESCRIPTION:
URL:https://www.susanyoungyoga.com/event/gentle-yoga-for-cancer/2024-10-09/
END:VEVENT
BEGIN:VEVENT
DTSTART;TZID=America/New_York:20241008T093000
DTEND;TZID=America/New_York:20241008T104500
DTSTAMP:20260425T105214
CREATED:20200302T214301Z
LAST-MODIFIED:20200302T214301Z
UID:4351-1728379800-1728384300@www.susanyoungyoga.com
SUMMARY:Beginner Flow at Opus Yoga
DESCRIPTION:
URL:https://www.susanyoungyoga.com/event/beginner-flow/2024-10-08/
LOCATION:Opus Yoga Kentlands\, 257 Market Street\, Gaithersburg\, MD\, United States
END:VEVENT
BEGIN:VEVENT
DTSTART;TZID=America/New_York:20241004T093000
DTEND;TZID=America/New_York:20241004T110000
DTSTAMP:20260425T105214
CREATED:20200302T131928Z
LAST-MODIFIED:20200302T131928Z
UID:4266-1728034200-1728039600@www.susanyoungyoga.com
SUMMARY:Intermediate Flow at Opus Yoga
DESCRIPTION:
URL:https://www.susanyoungyoga.com/event/intermediate-flow-at-opus-yoga/2024-10-04/
LOCATION:Opus Yoga Kentlands\, 257 Market Street\, Gaithersburg\, MD\, United States
ORGANIZER;CN="Susan Young":MAILTO:susan@youngspa.com
END:VEVENT
BEGIN:VEVENT
DTSTART;TZID=America/New_York:20241002T103000
DTEND;TZID=America/New_York:20241002T113000
DTSTAMP:20260425T105214
CREATED:20230703T003045Z
LAST-MODIFIED:20230703T003045Z
UID:5050-1727865000-1727868600@www.susanyoungyoga.com
SUMMARY:Gentle Yoga for Cancer
DESCRIPTION:
URL:https://www.susanyoungyoga.com/event/gentle-yoga-for-cancer/2024-10-02/
END:VEVENT
BEGIN:VEVENT
DTSTART;TZID=America/New_York:20241001T093000
DTEND;TZID=America/New_York:20241001T104500
DTSTAMP:20260425T105214
CREATED:20200302T214301Z
LAST-MODIFIED:20200302T214301Z
UID:4350-1727775000-1727779500@www.susanyoungyoga.com
SUMMARY:Beginner Flow at Opus Yoga
DESCRIPTION:
URL:https://www.susanyoungyoga.com/event/beginner-flow/2024-10-01/
LOCATION:Opus Yoga Kentlands\, 257 Market Street\, Gaithersburg\, MD\, United States
END:VEVENT
BEGIN:VEVENT
DTSTART;TZID=America/New_York:20240927T093000
DTEND;TZID=America/New_York:20240927T110000
DTSTAMP:20260425T105214
CREATED:20200302T131928Z
LAST-MODIFIED:20200302T131928Z
UID:4265-1727429400-1727434800@www.susanyoungyoga.com
SUMMARY:Intermediate Flow at Opus Yoga
DESCRIPTION:
URL:https://www.susanyoungyoga.com/event/intermediate-flow-at-opus-yoga/2024-09-27/
LOCATION:Opus Yoga Kentlands\, 257 Market Street\, Gaithersburg\, MD\, United States
ORGANIZER;CN="Susan Young":MAILTO:susan@youngspa.com
END:VEVENT
BEGIN:VEVENT
DTSTART;TZID=America/New_York:20240925T103000
DTEND;TZID=America/New_York:20240925T113000
DTSTAMP:20260425T105214
CREATED:20230703T003045Z
LAST-MODIFIED:20230703T003045Z
UID:5049-1727260200-1727263800@www.susanyoungyoga.com
SUMMARY:Gentle Yoga for Cancer
DESCRIPTION:
URL:https://www.susanyoungyoga.com/event/gentle-yoga-for-cancer/2024-09-25/
END:VEVENT
BEGIN:VEVENT
DTSTART;TZID=America/New_York:20240924T093000
DTEND;TZID=America/New_York:20240924T104500
DTSTAMP:20260425T105214
CREATED:20200302T214301Z
LAST-MODIFIED:20200302T214301Z
UID:4349-1727170200-1727174700@www.susanyoungyoga.com
SUMMARY:Beginner Flow at Opus Yoga
DESCRIPTION:
URL:https://www.susanyoungyoga.com/event/beginner-flow/2024-09-24/
LOCATION:Opus Yoga Kentlands\, 257 Market Street\, Gaithersburg\, MD\, United States
END:VEVENT
BEGIN:VEVENT
DTSTART;TZID=America/New_York:20240920T093000
DTEND;TZID=America/New_York:20240920T110000
DTSTAMP:20260425T105214
CREATED:20200302T131928Z
LAST-MODIFIED:20200302T131928Z
UID:4264-1726824600-1726830000@www.susanyoungyoga.com
SUMMARY:Intermediate Flow at Opus Yoga
DESCRIPTION:
URL:https://www.susanyoungyoga.com/event/intermediate-flow-at-opus-yoga/2024-09-20/
LOCATION:Opus Yoga Kentlands\, 257 Market Street\, Gaithersburg\, MD\, United States
ORGANIZER;CN="Susan Young":MAILTO:susan@youngspa.com
END:VEVENT
BEGIN:VEVENT
DTSTART;TZID=America/New_York:20240918T103000
DTEND;TZID=America/New_York:20240918T113000
DTSTAMP:20260425T105214
CREATED:20230703T003045Z
LAST-MODIFIED:20230703T003045Z
UID:5048-1726655400-1726659000@www.susanyoungyoga.com
SUMMARY:Gentle Yoga for Cancer
DESCRIPTION:
URL:https://www.susanyoungyoga.com/event/gentle-yoga-for-cancer/2024-09-18/
END:VEVENT
BEGIN:VEVENT
DTSTART;TZID=America/New_York:20240917T093000
DTEND;TZID=America/New_York:20240917T104500
DTSTAMP:20260425T105214
CREATED:20200302T214301Z
LAST-MODIFIED:20200302T214301Z
UID:4348-1726565400-1726569900@www.susanyoungyoga.com
SUMMARY:Beginner Flow at Opus Yoga
DESCRIPTION:
URL:https://www.susanyoungyoga.com/event/beginner-flow/2024-09-17/
LOCATION:Opus Yoga Kentlands\, 257 Market Street\, Gaithersburg\, MD\, United States
END:VEVENT
BEGIN:VEVENT
DTSTART;TZID=America/New_York:20240913T093000
DTEND;TZID=America/New_York:20240913T110000
DTSTAMP:20260425T105214
CREATED:20200302T131928Z
LAST-MODIFIED:20200302T131928Z
UID:4263-1726219800-1726225200@www.susanyoungyoga.com
SUMMARY:Intermediate Flow at Opus Yoga
DESCRIPTION:
URL:https://www.susanyoungyoga.com/event/intermediate-flow-at-opus-yoga/2024-09-13/
LOCATION:Opus Yoga Kentlands\, 257 Market Street\, Gaithersburg\, MD\, United States
ORGANIZER;CN="Susan Young":MAILTO:susan@youngspa.com
END:VEVENT
BEGIN:VEVENT
DTSTART;TZID=America/New_York:20240911T103000
DTEND;TZID=America/New_York:20240911T113000
DTSTAMP:20260425T105214
CREATED:20230703T003045Z
LAST-MODIFIED:20230703T003045Z
UID:5047-1726050600-1726054200@www.susanyoungyoga.com
SUMMARY:Gentle Yoga for Cancer
DESCRIPTION:
URL:https://www.susanyoungyoga.com/event/gentle-yoga-for-cancer/2024-09-11/
END:VEVENT
BEGIN:VEVENT
DTSTART;TZID=America/New_York:20240910T093000
DTEND;TZID=America/New_York:20240910T104500
DTSTAMP:20260425T105214
CREATED:20200302T214301Z
LAST-MODIFIED:20200302T214301Z
UID:4347-1725960600-1725965100@www.susanyoungyoga.com
SUMMARY:Beginner Flow at Opus Yoga
DESCRIPTION:
URL:https://www.susanyoungyoga.com/event/beginner-flow/2024-09-10/
LOCATION:Opus Yoga Kentlands\, 257 Market Street\, Gaithersburg\, MD\, United States
END:VEVENT
BEGIN:VEVENT
DTSTART;TZID=America/New_York:20240906T093000
DTEND;TZID=America/New_York:20240906T110000
DTSTAMP:20260425T105214
CREATED:20200302T131928Z
LAST-MODIFIED:20200302T131928Z
UID:4262-1725615000-1725620400@www.susanyoungyoga.com
SUMMARY:Intermediate Flow at Opus Yoga
DESCRIPTION:
URL:https://www.susanyoungyoga.com/event/intermediate-flow-at-opus-yoga/2024-09-06/
LOCATION:Opus Yoga Kentlands\, 257 Market Street\, Gaithersburg\, MD\, United States
ORGANIZER;CN="Susan Young":MAILTO:susan@youngspa.com
END:VEVENT
BEGIN:VEVENT
DTSTART;TZID=America/New_York:20240904T103000
DTEND;TZID=America/New_York:20240904T113000
DTSTAMP:20260425T105214
CREATED:20230703T003045Z
LAST-MODIFIED:20230703T003045Z
UID:5046-1725445800-1725449400@www.susanyoungyoga.com
SUMMARY:Gentle Yoga for Cancer
DESCRIPTION:
URL:https://www.susanyoungyoga.com/event/gentle-yoga-for-cancer/2024-09-04/
END:VEVENT
END:VCALENDAR