BEGIN:VCALENDAR
VERSION:2.0
PRODID:-//Susan Young Yoga - ECPv6.15.20//NONSGML v1.0//EN
CALSCALE:GREGORIAN
METHOD:PUBLISH
X-WR-CALNAME:Susan Young Yoga
X-ORIGINAL-URL:https://www.susanyoungyoga.com
X-WR-CALDESC:Events for Susan Young Yoga
REFRESH-INTERVAL;VALUE=DURATION:PT1H
X-Robots-Tag:noindex
X-PUBLISHED-TTL:PT1H
BEGIN:VTIMEZONE
TZID:America/New_York
BEGIN:DAYLIGHT
TZOFFSETFROM:-0500
TZOFFSETTO:-0400
TZNAME:EDT
DTSTART:20240310T070000
END:DAYLIGHT
BEGIN:STANDARD
TZOFFSETFROM:-0400
TZOFFSETTO:-0500
TZNAME:EST
DTSTART:20241103T060000
END:STANDARD
BEGIN:DAYLIGHT
TZOFFSETFROM:-0500
TZOFFSETTO:-0400
TZNAME:EDT
DTSTART:20250309T070000
END:DAYLIGHT
BEGIN:STANDARD
TZOFFSETFROM:-0400
TZOFFSETTO:-0500
TZNAME:EST
DTSTART:20251102T060000
END:STANDARD
BEGIN:DAYLIGHT
TZOFFSETFROM:-0500
TZOFFSETTO:-0400
TZNAME:EDT
DTSTART:20260308T070000
END:DAYLIGHT
BEGIN:STANDARD
TZOFFSETFROM:-0400
TZOFFSETTO:-0500
TZNAME:EST
DTSTART:20261101T060000
END:STANDARD
END:VTIMEZONE
BEGIN:VEVENT
DTSTART;TZID=America/New_York:20250603T093000
DTEND;TZID=America/New_York:20250603T104500
DTSTAMP:20260425T114531
CREATED:20200302T214301Z
LAST-MODIFIED:20200302T214301Z
UID:4385-1748943000-1748947500@www.susanyoungyoga.com
SUMMARY:Beginner Flow at Opus Yoga
DESCRIPTION:
URL:https://www.susanyoungyoga.com/event/beginner-flow/2025-06-03/
LOCATION:Opus Yoga Kentlands\, 257 Market Street\, Gaithersburg\, MD\, United States
END:VEVENT
BEGIN:VEVENT
DTSTART;TZID=America/New_York:20250604T103000
DTEND;TZID=America/New_York:20250604T113000
DTSTAMP:20260425T114531
CREATED:20230703T003045Z
LAST-MODIFIED:20230703T003045Z
UID:5085-1749033000-1749036600@www.susanyoungyoga.com
SUMMARY:Gentle Yoga for Cancer
DESCRIPTION:
URL:https://www.susanyoungyoga.com/event/gentle-yoga-for-cancer/2025-06-04/
END:VEVENT
BEGIN:VEVENT
DTSTART;TZID=America/New_York:20250606T093000
DTEND;TZID=America/New_York:20250606T110000
DTSTAMP:20260425T114531
CREATED:20200302T131928Z
LAST-MODIFIED:20200302T131928Z
UID:4301-1749202200-1749207600@www.susanyoungyoga.com
SUMMARY:Intermediate Flow at Opus Yoga
DESCRIPTION:
URL:https://www.susanyoungyoga.com/event/intermediate-flow-at-opus-yoga/2025-06-06/
LOCATION:Opus Yoga Kentlands\, 257 Market Street\, Gaithersburg\, MD\, United States
ORGANIZER;CN="Susan Young":MAILTO:susan@youngspa.com
END:VEVENT
BEGIN:VEVENT
DTSTART;TZID=America/New_York:20250610T093000
DTEND;TZID=America/New_York:20250610T104500
DTSTAMP:20260425T114531
CREATED:20200302T214301Z
LAST-MODIFIED:20200302T214301Z
UID:4386-1749547800-1749552300@www.susanyoungyoga.com
SUMMARY:Beginner Flow at Opus Yoga
DESCRIPTION:
URL:https://www.susanyoungyoga.com/event/beginner-flow/2025-06-10/
LOCATION:Opus Yoga Kentlands\, 257 Market Street\, Gaithersburg\, MD\, United States
END:VEVENT
BEGIN:VEVENT
DTSTART;TZID=America/New_York:20250611T103000
DTEND;TZID=America/New_York:20250611T113000
DTSTAMP:20260425T114531
CREATED:20230703T003045Z
LAST-MODIFIED:20230703T003045Z
UID:5086-1749637800-1749641400@www.susanyoungyoga.com
SUMMARY:Gentle Yoga for Cancer
DESCRIPTION:
URL:https://www.susanyoungyoga.com/event/gentle-yoga-for-cancer/2025-06-11/
END:VEVENT
BEGIN:VEVENT
DTSTART;TZID=America/New_York:20250613T093000
DTEND;TZID=America/New_York:20250613T110000
DTSTAMP:20260425T114531
CREATED:20200302T131928Z
LAST-MODIFIED:20200302T131928Z
UID:4302-1749807000-1749812400@www.susanyoungyoga.com
SUMMARY:Intermediate Flow at Opus Yoga
DESCRIPTION:
URL:https://www.susanyoungyoga.com/event/intermediate-flow-at-opus-yoga/2025-06-13/
LOCATION:Opus Yoga Kentlands\, 257 Market Street\, Gaithersburg\, MD\, United States
ORGANIZER;CN="Susan Young":MAILTO:susan@youngspa.com
END:VEVENT
BEGIN:VEVENT
DTSTART;TZID=America/New_York:20250617T093000
DTEND;TZID=America/New_York:20250617T104500
DTSTAMP:20260425T114531
CREATED:20200302T214301Z
LAST-MODIFIED:20200302T214301Z
UID:4387-1750152600-1750157100@www.susanyoungyoga.com
SUMMARY:Beginner Flow at Opus Yoga
DESCRIPTION:
URL:https://www.susanyoungyoga.com/event/beginner-flow/2025-06-17/
LOCATION:Opus Yoga Kentlands\, 257 Market Street\, Gaithersburg\, MD\, United States
END:VEVENT
BEGIN:VEVENT
DTSTART;TZID=America/New_York:20250618T103000
DTEND;TZID=America/New_York:20250618T113000
DTSTAMP:20260425T114531
CREATED:20230703T003045Z
LAST-MODIFIED:20230703T003045Z
UID:5087-1750242600-1750246200@www.susanyoungyoga.com
SUMMARY:Gentle Yoga for Cancer
DESCRIPTION:
URL:https://www.susanyoungyoga.com/event/gentle-yoga-for-cancer/2025-06-18/
END:VEVENT
BEGIN:VEVENT
DTSTART;TZID=America/New_York:20250620T093000
DTEND;TZID=America/New_York:20250620T110000
DTSTAMP:20260425T114531
CREATED:20200302T131928Z
LAST-MODIFIED:20200302T131928Z
UID:4303-1750411800-1750417200@www.susanyoungyoga.com
SUMMARY:Intermediate Flow at Opus Yoga
DESCRIPTION:
URL:https://www.susanyoungyoga.com/event/intermediate-flow-at-opus-yoga/2025-06-20/
LOCATION:Opus Yoga Kentlands\, 257 Market Street\, Gaithersburg\, MD\, United States
ORGANIZER;CN="Susan Young":MAILTO:susan@youngspa.com
END:VEVENT
BEGIN:VEVENT
DTSTART;TZID=America/New_York:20250624T093000
DTEND;TZID=America/New_York:20250624T104500
DTSTAMP:20260425T114531
CREATED:20200302T214301Z
LAST-MODIFIED:20200302T214301Z
UID:4388-1750757400-1750761900@www.susanyoungyoga.com
SUMMARY:Beginner Flow at Opus Yoga
DESCRIPTION:
URL:https://www.susanyoungyoga.com/event/beginner-flow/2025-06-24/
LOCATION:Opus Yoga Kentlands\, 257 Market Street\, Gaithersburg\, MD\, United States
END:VEVENT
BEGIN:VEVENT
DTSTART;TZID=America/New_York:20250625T103000
DTEND;TZID=America/New_York:20250625T113000
DTSTAMP:20260425T114531
CREATED:20230703T003045Z
LAST-MODIFIED:20230703T003045Z
UID:5088-1750847400-1750851000@www.susanyoungyoga.com
SUMMARY:Gentle Yoga for Cancer
DESCRIPTION:
URL:https://www.susanyoungyoga.com/event/gentle-yoga-for-cancer/2025-06-25/
END:VEVENT
BEGIN:VEVENT
DTSTART;TZID=America/New_York:20250627T093000
DTEND;TZID=America/New_York:20250627T110000
DTSTAMP:20260425T114531
CREATED:20200302T131928Z
LAST-MODIFIED:20200302T131928Z
UID:4304-1751016600-1751022000@www.susanyoungyoga.com
SUMMARY:Intermediate Flow at Opus Yoga
DESCRIPTION:
URL:https://www.susanyoungyoga.com/event/intermediate-flow-at-opus-yoga/2025-06-27/
LOCATION:Opus Yoga Kentlands\, 257 Market Street\, Gaithersburg\, MD\, United States
ORGANIZER;CN="Susan Young":MAILTO:susan@youngspa.com
END:VEVENT
BEGIN:VEVENT
DTSTART;TZID=America/New_York:20250701T093000
DTEND;TZID=America/New_York:20250701T104500
DTSTAMP:20260425T114531
CREATED:20200302T214301Z
LAST-MODIFIED:20200302T214301Z
UID:4408-1751362200-1751366700@www.susanyoungyoga.com
SUMMARY:Beginner Flow at Opus Yoga
DESCRIPTION:
URL:https://www.susanyoungyoga.com/event/beginner-flow/2025-07-01/
LOCATION:Opus Yoga Kentlands\, 257 Market Street\, Gaithersburg\, MD\, United States
END:VEVENT
BEGIN:VEVENT
DTSTART;TZID=America/New_York:20250702T103000
DTEND;TZID=America/New_York:20250702T113000
DTSTAMP:20260425T114531
CREATED:20230703T003045Z
LAST-MODIFIED:20230703T003045Z
UID:5110-1751452200-1751455800@www.susanyoungyoga.com
SUMMARY:Gentle Yoga for Cancer
DESCRIPTION:
URL:https://www.susanyoungyoga.com/event/gentle-yoga-for-cancer/2025-07-02/
END:VEVENT
BEGIN:VEVENT
DTSTART;TZID=America/New_York:20250704T093000
DTEND;TZID=America/New_York:20250704T110000
DTSTAMP:20260425T114531
CREATED:20200302T131928Z
LAST-MODIFIED:20200302T131928Z
UID:5111-1751621400-1751626800@www.susanyoungyoga.com
SUMMARY:Intermediate Flow at Opus Yoga
DESCRIPTION:
URL:https://www.susanyoungyoga.com/event/intermediate-flow-at-opus-yoga/2025-07-04/
LOCATION:Opus Yoga Kentlands\, 257 Market Street\, Gaithersburg\, MD\, United States
ORGANIZER;CN="Susan Young":MAILTO:susan@youngspa.com
END:VEVENT
BEGIN:VEVENT
DTSTART;TZID=America/New_York:20250708T093000
DTEND;TZID=America/New_York:20250708T104500
DTSTAMP:20260425T114531
CREATED:20200302T214301Z
LAST-MODIFIED:20200302T214301Z
UID:5112-1751967000-1751971500@www.susanyoungyoga.com
SUMMARY:Beginner Flow at Opus Yoga
DESCRIPTION:
URL:https://www.susanyoungyoga.com/event/beginner-flow/2025-07-08/
LOCATION:Opus Yoga Kentlands\, 257 Market Street\, Gaithersburg\, MD\, United States
END:VEVENT
BEGIN:VEVENT
DTSTART;TZID=America/New_York:20250709T103000
DTEND;TZID=America/New_York:20250709T113000
DTSTAMP:20260425T114531
CREATED:20230703T003045Z
LAST-MODIFIED:20230703T003045Z
UID:5115-1752057000-1752060600@www.susanyoungyoga.com
SUMMARY:Gentle Yoga for Cancer
DESCRIPTION:
URL:https://www.susanyoungyoga.com/event/gentle-yoga-for-cancer/2025-07-09/
END:VEVENT
BEGIN:VEVENT
DTSTART;TZID=America/New_York:20250711T093000
DTEND;TZID=America/New_York:20250711T110000
DTSTAMP:20260425T114532
CREATED:20200302T131928Z
LAST-MODIFIED:20200302T131928Z
UID:5116-1752226200-1752231600@www.susanyoungyoga.com
SUMMARY:Intermediate Flow at Opus Yoga
DESCRIPTION:
URL:https://www.susanyoungyoga.com/event/intermediate-flow-at-opus-yoga/2025-07-11/
LOCATION:Opus Yoga Kentlands\, 257 Market Street\, Gaithersburg\, MD\, United States
ORGANIZER;CN="Susan Young":MAILTO:susan@youngspa.com
END:VEVENT
BEGIN:VEVENT
DTSTART;TZID=America/New_York:20250715T093000
DTEND;TZID=America/New_York:20250715T104500
DTSTAMP:20260425T114532
CREATED:20200302T214301Z
LAST-MODIFIED:20200302T214301Z
UID:5117-1752571800-1752576300@www.susanyoungyoga.com
SUMMARY:Beginner Flow at Opus Yoga
DESCRIPTION:
URL:https://www.susanyoungyoga.com/event/beginner-flow/2025-07-15/
LOCATION:Opus Yoga Kentlands\, 257 Market Street\, Gaithersburg\, MD\, United States
END:VEVENT
BEGIN:VEVENT
DTSTART;TZID=America/New_York:20250716T103000
DTEND;TZID=America/New_York:20250716T113000
DTSTAMP:20260425T114532
CREATED:20230703T003045Z
LAST-MODIFIED:20230703T003045Z
UID:5120-1752661800-1752665400@www.susanyoungyoga.com
SUMMARY:Gentle Yoga for Cancer
DESCRIPTION:
URL:https://www.susanyoungyoga.com/event/gentle-yoga-for-cancer/2025-07-16/
END:VEVENT
BEGIN:VEVENT
DTSTART;TZID=America/New_York:20250718T093000
DTEND;TZID=America/New_York:20250718T110000
DTSTAMP:20260425T114532
CREATED:20200302T131928Z
LAST-MODIFIED:20200302T131928Z
UID:5122-1752831000-1752836400@www.susanyoungyoga.com
SUMMARY:Intermediate Flow at Opus Yoga
DESCRIPTION:
URL:https://www.susanyoungyoga.com/event/intermediate-flow-at-opus-yoga/2025-07-18/
LOCATION:Opus Yoga Kentlands\, 257 Market Street\, Gaithersburg\, MD\, United States
ORGANIZER;CN="Susan Young":MAILTO:susan@youngspa.com
END:VEVENT
BEGIN:VEVENT
DTSTART;TZID=America/New_York:20250722T093000
DTEND;TZID=America/New_York:20250722T104500
DTSTAMP:20260425T114532
CREATED:20200302T214301Z
LAST-MODIFIED:20200302T214301Z
UID:5123-1753176600-1753181100@www.susanyoungyoga.com
SUMMARY:Beginner Flow at Opus Yoga
DESCRIPTION:
URL:https://www.susanyoungyoga.com/event/beginner-flow/2025-07-22/
LOCATION:Opus Yoga Kentlands\, 257 Market Street\, Gaithersburg\, MD\, United States
END:VEVENT
BEGIN:VEVENT
DTSTART;TZID=America/New_York:20250723T103000
DTEND;TZID=America/New_York:20250723T113000
DTSTAMP:20260425T114532
CREATED:20230703T003045Z
LAST-MODIFIED:20230703T003045Z
UID:5126-1753266600-1753270200@www.susanyoungyoga.com
SUMMARY:Gentle Yoga for Cancer
DESCRIPTION:
URL:https://www.susanyoungyoga.com/event/gentle-yoga-for-cancer/2025-07-23/
END:VEVENT
BEGIN:VEVENT
DTSTART;TZID=America/New_York:20250725T093000
DTEND;TZID=America/New_York:20250725T110000
DTSTAMP:20260425T114532
CREATED:20200302T131928Z
LAST-MODIFIED:20200302T131928Z
UID:5127-1753435800-1753441200@www.susanyoungyoga.com
SUMMARY:Intermediate Flow at Opus Yoga
DESCRIPTION:
URL:https://www.susanyoungyoga.com/event/intermediate-flow-at-opus-yoga/2025-07-25/
LOCATION:Opus Yoga Kentlands\, 257 Market Street\, Gaithersburg\, MD\, United States
ORGANIZER;CN="Susan Young":MAILTO:susan@youngspa.com
END:VEVENT
BEGIN:VEVENT
DTSTART;TZID=America/New_York:20250729T093000
DTEND;TZID=America/New_York:20250729T104500
DTSTAMP:20260425T114532
CREATED:20200302T214301Z
LAST-MODIFIED:20200302T214301Z
UID:5128-1753781400-1753785900@www.susanyoungyoga.com
SUMMARY:Beginner Flow at Opus Yoga
DESCRIPTION:
URL:https://www.susanyoungyoga.com/event/beginner-flow/2025-07-29/
LOCATION:Opus Yoga Kentlands\, 257 Market Street\, Gaithersburg\, MD\, United States
END:VEVENT
BEGIN:VEVENT
DTSTART;TZID=America/New_York:20250730T103000
DTEND;TZID=America/New_York:20250730T113000
DTSTAMP:20260425T114532
CREATED:20230703T003045Z
LAST-MODIFIED:20230703T003045Z
UID:5131-1753871400-1753875000@www.susanyoungyoga.com
SUMMARY:Gentle Yoga for Cancer
DESCRIPTION:
URL:https://www.susanyoungyoga.com/event/gentle-yoga-for-cancer/2025-07-30/
END:VEVENT
BEGIN:VEVENT
DTSTART;TZID=America/New_York:20250801T093000
DTEND;TZID=America/New_York:20250801T110000
DTSTAMP:20260425T114532
CREATED:20200302T131928Z
LAST-MODIFIED:20200302T131928Z
UID:5133-1754040600-1754046000@www.susanyoungyoga.com
SUMMARY:Intermediate Flow at Opus Yoga
DESCRIPTION:
URL:https://www.susanyoungyoga.com/event/intermediate-flow-at-opus-yoga/2025-08-01/
LOCATION:Opus Yoga Kentlands\, 257 Market Street\, Gaithersburg\, MD\, United States
ORGANIZER;CN="Susan Young":MAILTO:susan@youngspa.com
END:VEVENT
BEGIN:VEVENT
DTSTART;TZID=America/New_York:20250805T093000
DTEND;TZID=America/New_York:20250805T104500
DTSTAMP:20260425T114532
CREATED:20200302T214301Z
LAST-MODIFIED:20200302T214301Z
UID:5134-1754386200-1754390700@www.susanyoungyoga.com
SUMMARY:Beginner Flow at Opus Yoga
DESCRIPTION:
URL:https://www.susanyoungyoga.com/event/beginner-flow/2025-08-05/
LOCATION:Opus Yoga Kentlands\, 257 Market Street\, Gaithersburg\, MD\, United States
END:VEVENT
BEGIN:VEVENT
DTSTART;TZID=America/New_York:20250806T103000
DTEND;TZID=America/New_York:20250806T113000
DTSTAMP:20260425T114532
CREATED:20230703T003045Z
LAST-MODIFIED:20230703T003045Z
UID:5135-1754476200-1754479800@www.susanyoungyoga.com
SUMMARY:Gentle Yoga for Cancer
DESCRIPTION:
URL:https://www.susanyoungyoga.com/event/gentle-yoga-for-cancer/2025-08-06/
END:VEVENT
BEGIN:VEVENT
DTSTART;TZID=America/New_York:20250808T093000
DTEND;TZID=America/New_York:20250808T110000
DTSTAMP:20260425T114532
CREATED:20200302T131928Z
LAST-MODIFIED:20200302T131928Z
UID:5136-1754645400-1754650800@www.susanyoungyoga.com
SUMMARY:Intermediate Flow at Opus Yoga
DESCRIPTION:
URL:https://www.susanyoungyoga.com/event/intermediate-flow-at-opus-yoga/2025-08-08/
LOCATION:Opus Yoga Kentlands\, 257 Market Street\, Gaithersburg\, MD\, United States
ORGANIZER;CN="Susan Young":MAILTO:susan@youngspa.com
END:VEVENT
END:VCALENDAR