BEGIN:VCALENDAR
VERSION:2.0
PRODID:-//Susan Young Yoga - ECPv6.15.20//NONSGML v1.0//EN
CALSCALE:GREGORIAN
METHOD:PUBLISH
X-WR-CALNAME:Susan Young Yoga
X-ORIGINAL-URL:https://www.susanyoungyoga.com
X-WR-CALDESC:Events for Susan Young Yoga
REFRESH-INTERVAL;VALUE=DURATION:PT1H
X-Robots-Tag:noindex
X-PUBLISHED-TTL:PT1H
BEGIN:VTIMEZONE
TZID:America/New_York
BEGIN:DAYLIGHT
TZOFFSETFROM:-0500
TZOFFSETTO:-0400
TZNAME:EDT
DTSTART:20240310T070000
END:DAYLIGHT
BEGIN:STANDARD
TZOFFSETFROM:-0400
TZOFFSETTO:-0500
TZNAME:EST
DTSTART:20241103T060000
END:STANDARD
BEGIN:DAYLIGHT
TZOFFSETFROM:-0500
TZOFFSETTO:-0400
TZNAME:EDT
DTSTART:20250309T070000
END:DAYLIGHT
BEGIN:STANDARD
TZOFFSETFROM:-0400
TZOFFSETTO:-0500
TZNAME:EST
DTSTART:20251102T060000
END:STANDARD
BEGIN:DAYLIGHT
TZOFFSETFROM:-0500
TZOFFSETTO:-0400
TZNAME:EDT
DTSTART:20260308T070000
END:DAYLIGHT
BEGIN:STANDARD
TZOFFSETFROM:-0400
TZOFFSETTO:-0500
TZNAME:EST
DTSTART:20261101T060000
END:STANDARD
END:VTIMEZONE
BEGIN:VEVENT
DTSTART;TZID=America/New_York:20250402T103000
DTEND;TZID=America/New_York:20250402T113000
DTSTAMP:20260424T103707
CREATED:20230703T003045Z
LAST-MODIFIED:20230703T003045Z
UID:5076-1743589800-1743593400@www.susanyoungyoga.com
SUMMARY:Gentle Yoga for Cancer
DESCRIPTION:
URL:https://www.susanyoungyoga.com/event/gentle-yoga-for-cancer/2025-04-02/
END:VEVENT
BEGIN:VEVENT
DTSTART;TZID=America/New_York:20250401T093000
DTEND;TZID=America/New_York:20250401T104500
DTSTAMP:20260424T103707
CREATED:20200302T214301Z
LAST-MODIFIED:20200302T214301Z
UID:4376-1743499800-1743504300@www.susanyoungyoga.com
SUMMARY:Beginner Flow at Opus Yoga
DESCRIPTION:
URL:https://www.susanyoungyoga.com/event/beginner-flow/2025-04-01/
LOCATION:Opus Yoga Kentlands\, 257 Market Street\, Gaithersburg\, MD\, United States
END:VEVENT
BEGIN:VEVENT
DTSTART;TZID=America/New_York:20250328T093000
DTEND;TZID=America/New_York:20250328T110000
DTSTAMP:20260424T103707
CREATED:20200302T131928Z
LAST-MODIFIED:20200302T131928Z
UID:4291-1743154200-1743159600@www.susanyoungyoga.com
SUMMARY:Intermediate Flow at Opus Yoga
DESCRIPTION:
URL:https://www.susanyoungyoga.com/event/intermediate-flow-at-opus-yoga/2025-03-28/
LOCATION:Opus Yoga Kentlands\, 257 Market Street\, Gaithersburg\, MD\, United States
ORGANIZER;CN="Susan Young":MAILTO:susan@youngspa.com
END:VEVENT
BEGIN:VEVENT
DTSTART;TZID=America/New_York:20250326T103000
DTEND;TZID=America/New_York:20250326T113000
DTSTAMP:20260424T103707
CREATED:20230703T003045Z
LAST-MODIFIED:20230703T003045Z
UID:5075-1742985000-1742988600@www.susanyoungyoga.com
SUMMARY:Gentle Yoga for Cancer
DESCRIPTION:
URL:https://www.susanyoungyoga.com/event/gentle-yoga-for-cancer/2025-03-26/
END:VEVENT
BEGIN:VEVENT
DTSTART;TZID=America/New_York:20250325T093000
DTEND;TZID=America/New_York:20250325T104500
DTSTAMP:20260424T103707
CREATED:20200302T214301Z
LAST-MODIFIED:20200302T214301Z
UID:4375-1742895000-1742899500@www.susanyoungyoga.com
SUMMARY:Beginner Flow at Opus Yoga
DESCRIPTION:
URL:https://www.susanyoungyoga.com/event/beginner-flow/2025-03-25/
LOCATION:Opus Yoga Kentlands\, 257 Market Street\, Gaithersburg\, MD\, United States
END:VEVENT
BEGIN:VEVENT
DTSTART;TZID=America/New_York:20250321T093000
DTEND;TZID=America/New_York:20250321T110000
DTSTAMP:20260424T103707
CREATED:20200302T131928Z
LAST-MODIFIED:20200302T131928Z
UID:4290-1742549400-1742554800@www.susanyoungyoga.com
SUMMARY:Intermediate Flow at Opus Yoga
DESCRIPTION:
URL:https://www.susanyoungyoga.com/event/intermediate-flow-at-opus-yoga/2025-03-21/
LOCATION:Opus Yoga Kentlands\, 257 Market Street\, Gaithersburg\, MD\, United States
ORGANIZER;CN="Susan Young":MAILTO:susan@youngspa.com
END:VEVENT
BEGIN:VEVENT
DTSTART;TZID=America/New_York:20250319T103000
DTEND;TZID=America/New_York:20250319T113000
DTSTAMP:20260424T103707
CREATED:20230703T003045Z
LAST-MODIFIED:20230703T003045Z
UID:5074-1742380200-1742383800@www.susanyoungyoga.com
SUMMARY:Gentle Yoga for Cancer
DESCRIPTION:
URL:https://www.susanyoungyoga.com/event/gentle-yoga-for-cancer/2025-03-19/
END:VEVENT
BEGIN:VEVENT
DTSTART;TZID=America/New_York:20250318T093000
DTEND;TZID=America/New_York:20250318T104500
DTSTAMP:20260424T103707
CREATED:20200302T214301Z
LAST-MODIFIED:20200302T214301Z
UID:4374-1742290200-1742294700@www.susanyoungyoga.com
SUMMARY:Beginner Flow at Opus Yoga
DESCRIPTION:
URL:https://www.susanyoungyoga.com/event/beginner-flow/2025-03-18/
LOCATION:Opus Yoga Kentlands\, 257 Market Street\, Gaithersburg\, MD\, United States
END:VEVENT
BEGIN:VEVENT
DTSTART;TZID=America/New_York:20250314T093000
DTEND;TZID=America/New_York:20250314T110000
DTSTAMP:20260424T103708
CREATED:20200302T131928Z
LAST-MODIFIED:20200302T131928Z
UID:4289-1741944600-1741950000@www.susanyoungyoga.com
SUMMARY:Intermediate Flow at Opus Yoga
DESCRIPTION:
URL:https://www.susanyoungyoga.com/event/intermediate-flow-at-opus-yoga/2025-03-14/
LOCATION:Opus Yoga Kentlands\, 257 Market Street\, Gaithersburg\, MD\, United States
ORGANIZER;CN="Susan Young":MAILTO:susan@youngspa.com
END:VEVENT
BEGIN:VEVENT
DTSTART;TZID=America/New_York:20250312T103000
DTEND;TZID=America/New_York:20250312T113000
DTSTAMP:20260424T103708
CREATED:20230703T003045Z
LAST-MODIFIED:20230703T003045Z
UID:5073-1741775400-1741779000@www.susanyoungyoga.com
SUMMARY:Gentle Yoga for Cancer
DESCRIPTION:
URL:https://www.susanyoungyoga.com/event/gentle-yoga-for-cancer/2025-03-12/
END:VEVENT
BEGIN:VEVENT
DTSTART;TZID=America/New_York:20250311T093000
DTEND;TZID=America/New_York:20250311T104500
DTSTAMP:20260424T103708
CREATED:20200302T214301Z
LAST-MODIFIED:20200302T214301Z
UID:4373-1741685400-1741689900@www.susanyoungyoga.com
SUMMARY:Beginner Flow at Opus Yoga
DESCRIPTION:
URL:https://www.susanyoungyoga.com/event/beginner-flow/2025-03-11/
LOCATION:Opus Yoga Kentlands\, 257 Market Street\, Gaithersburg\, MD\, United States
END:VEVENT
BEGIN:VEVENT
DTSTART;TZID=America/New_York:20250307T093000
DTEND;TZID=America/New_York:20250307T110000
DTSTAMP:20260424T103708
CREATED:20200302T131928Z
LAST-MODIFIED:20200302T131928Z
UID:4288-1741339800-1741345200@www.susanyoungyoga.com
SUMMARY:Intermediate Flow at Opus Yoga
DESCRIPTION:
URL:https://www.susanyoungyoga.com/event/intermediate-flow-at-opus-yoga/2025-03-07/
LOCATION:Opus Yoga Kentlands\, 257 Market Street\, Gaithersburg\, MD\, United States
ORGANIZER;CN="Susan Young":MAILTO:susan@youngspa.com
END:VEVENT
BEGIN:VEVENT
DTSTART;TZID=America/New_York:20250305T103000
DTEND;TZID=America/New_York:20250305T113000
DTSTAMP:20260424T103708
CREATED:20230703T003045Z
LAST-MODIFIED:20230703T003045Z
UID:5072-1741170600-1741174200@www.susanyoungyoga.com
SUMMARY:Gentle Yoga for Cancer
DESCRIPTION:
URL:https://www.susanyoungyoga.com/event/gentle-yoga-for-cancer/2025-03-05/
END:VEVENT
BEGIN:VEVENT
DTSTART;TZID=America/New_York:20250304T093000
DTEND;TZID=America/New_York:20250304T104500
DTSTAMP:20260424T103708
CREATED:20200302T214301Z
LAST-MODIFIED:20200302T214301Z
UID:4372-1741080600-1741085100@www.susanyoungyoga.com
SUMMARY:Beginner Flow at Opus Yoga
DESCRIPTION:
URL:https://www.susanyoungyoga.com/event/beginner-flow/2025-03-04/
LOCATION:Opus Yoga Kentlands\, 257 Market Street\, Gaithersburg\, MD\, United States
END:VEVENT
BEGIN:VEVENT
DTSTART;TZID=America/New_York:20250228T093000
DTEND;TZID=America/New_York:20250228T110000
DTSTAMP:20260424T103708
CREATED:20200302T131928Z
LAST-MODIFIED:20200302T131928Z
UID:4287-1740735000-1740740400@www.susanyoungyoga.com
SUMMARY:Intermediate Flow at Opus Yoga
DESCRIPTION:
URL:https://www.susanyoungyoga.com/event/intermediate-flow-at-opus-yoga/2025-02-28/
LOCATION:Opus Yoga Kentlands\, 257 Market Street\, Gaithersburg\, MD\, United States
ORGANIZER;CN="Susan Young":MAILTO:susan@youngspa.com
END:VEVENT
BEGIN:VEVENT
DTSTART;TZID=America/New_York:20250226T103000
DTEND;TZID=America/New_York:20250226T113000
DTSTAMP:20260424T103708
CREATED:20230703T003045Z
LAST-MODIFIED:20230703T003045Z
UID:5071-1740565800-1740569400@www.susanyoungyoga.com
SUMMARY:Gentle Yoga for Cancer
DESCRIPTION:
URL:https://www.susanyoungyoga.com/event/gentle-yoga-for-cancer/2025-02-26/
END:VEVENT
BEGIN:VEVENT
DTSTART;TZID=America/New_York:20250225T093000
DTEND;TZID=America/New_York:20250225T104500
DTSTAMP:20260424T103708
CREATED:20200302T214301Z
LAST-MODIFIED:20200302T214301Z
UID:4371-1740475800-1740480300@www.susanyoungyoga.com
SUMMARY:Beginner Flow at Opus Yoga
DESCRIPTION:
URL:https://www.susanyoungyoga.com/event/beginner-flow/2025-02-25/
LOCATION:Opus Yoga Kentlands\, 257 Market Street\, Gaithersburg\, MD\, United States
END:VEVENT
BEGIN:VEVENT
DTSTART;TZID=America/New_York:20250221T093000
DTEND;TZID=America/New_York:20250221T110000
DTSTAMP:20260424T103708
CREATED:20200302T131928Z
LAST-MODIFIED:20200302T131928Z
UID:4286-1740130200-1740135600@www.susanyoungyoga.com
SUMMARY:Intermediate Flow at Opus Yoga
DESCRIPTION:
URL:https://www.susanyoungyoga.com/event/intermediate-flow-at-opus-yoga/2025-02-21/
LOCATION:Opus Yoga Kentlands\, 257 Market Street\, Gaithersburg\, MD\, United States
ORGANIZER;CN="Susan Young":MAILTO:susan@youngspa.com
END:VEVENT
BEGIN:VEVENT
DTSTART;TZID=America/New_York:20250219T103000
DTEND;TZID=America/New_York:20250219T113000
DTSTAMP:20260424T103708
CREATED:20230703T003045Z
LAST-MODIFIED:20230703T003045Z
UID:5070-1739961000-1739964600@www.susanyoungyoga.com
SUMMARY:Gentle Yoga for Cancer
DESCRIPTION:
URL:https://www.susanyoungyoga.com/event/gentle-yoga-for-cancer/2025-02-19/
END:VEVENT
BEGIN:VEVENT
DTSTART;TZID=America/New_York:20250218T093000
DTEND;TZID=America/New_York:20250218T104500
DTSTAMP:20260424T103708
CREATED:20200302T214301Z
LAST-MODIFIED:20200302T214301Z
UID:4370-1739871000-1739875500@www.susanyoungyoga.com
SUMMARY:Beginner Flow at Opus Yoga
DESCRIPTION:
URL:https://www.susanyoungyoga.com/event/beginner-flow/2025-02-18/
LOCATION:Opus Yoga Kentlands\, 257 Market Street\, Gaithersburg\, MD\, United States
END:VEVENT
BEGIN:VEVENT
DTSTART;TZID=America/New_York:20250214T093000
DTEND;TZID=America/New_York:20250214T110000
DTSTAMP:20260424T103708
CREATED:20200302T131928Z
LAST-MODIFIED:20200302T131928Z
UID:4285-1739525400-1739530800@www.susanyoungyoga.com
SUMMARY:Intermediate Flow at Opus Yoga
DESCRIPTION:
URL:https://www.susanyoungyoga.com/event/intermediate-flow-at-opus-yoga/2025-02-14/
LOCATION:Opus Yoga Kentlands\, 257 Market Street\, Gaithersburg\, MD\, United States
ORGANIZER;CN="Susan Young":MAILTO:susan@youngspa.com
END:VEVENT
BEGIN:VEVENT
DTSTART;TZID=America/New_York:20250212T103000
DTEND;TZID=America/New_York:20250212T113000
DTSTAMP:20260424T103708
CREATED:20230703T003045Z
LAST-MODIFIED:20230703T003045Z
UID:5069-1739356200-1739359800@www.susanyoungyoga.com
SUMMARY:Gentle Yoga for Cancer
DESCRIPTION:
URL:https://www.susanyoungyoga.com/event/gentle-yoga-for-cancer/2025-02-12/
END:VEVENT
BEGIN:VEVENT
DTSTART;TZID=America/New_York:20250211T093000
DTEND;TZID=America/New_York:20250211T104500
DTSTAMP:20260424T103708
CREATED:20200302T214301Z
LAST-MODIFIED:20200302T214301Z
UID:4369-1739266200-1739270700@www.susanyoungyoga.com
SUMMARY:Beginner Flow at Opus Yoga
DESCRIPTION:
URL:https://www.susanyoungyoga.com/event/beginner-flow/2025-02-11/
LOCATION:Opus Yoga Kentlands\, 257 Market Street\, Gaithersburg\, MD\, United States
END:VEVENT
BEGIN:VEVENT
DTSTART;TZID=America/New_York:20250207T093000
DTEND;TZID=America/New_York:20250207T110000
DTSTAMP:20260424T103708
CREATED:20200302T131928Z
LAST-MODIFIED:20200302T131928Z
UID:4284-1738920600-1738926000@www.susanyoungyoga.com
SUMMARY:Intermediate Flow at Opus Yoga
DESCRIPTION:
URL:https://www.susanyoungyoga.com/event/intermediate-flow-at-opus-yoga/2025-02-07/
LOCATION:Opus Yoga Kentlands\, 257 Market Street\, Gaithersburg\, MD\, United States
ORGANIZER;CN="Susan Young":MAILTO:susan@youngspa.com
END:VEVENT
BEGIN:VEVENT
DTSTART;TZID=America/New_York:20250205T103000
DTEND;TZID=America/New_York:20250205T113000
DTSTAMP:20260424T103708
CREATED:20230703T003045Z
LAST-MODIFIED:20230703T003045Z
UID:5068-1738751400-1738755000@www.susanyoungyoga.com
SUMMARY:Gentle Yoga for Cancer
DESCRIPTION:
URL:https://www.susanyoungyoga.com/event/gentle-yoga-for-cancer/2025-02-05/
END:VEVENT
BEGIN:VEVENT
DTSTART;TZID=America/New_York:20250204T093000
DTEND;TZID=America/New_York:20250204T104500
DTSTAMP:20260424T103708
CREATED:20200302T214301Z
LAST-MODIFIED:20200302T214301Z
UID:4368-1738661400-1738665900@www.susanyoungyoga.com
SUMMARY:Beginner Flow at Opus Yoga
DESCRIPTION:
URL:https://www.susanyoungyoga.com/event/beginner-flow/2025-02-04/
LOCATION:Opus Yoga Kentlands\, 257 Market Street\, Gaithersburg\, MD\, United States
END:VEVENT
BEGIN:VEVENT
DTSTART;TZID=America/New_York:20250131T093000
DTEND;TZID=America/New_York:20250131T110000
DTSTAMP:20260424T103708
CREATED:20200302T131928Z
LAST-MODIFIED:20200302T131928Z
UID:4283-1738315800-1738321200@www.susanyoungyoga.com
SUMMARY:Intermediate Flow at Opus Yoga
DESCRIPTION:
URL:https://www.susanyoungyoga.com/event/intermediate-flow-at-opus-yoga/2025-01-31/
LOCATION:Opus Yoga Kentlands\, 257 Market Street\, Gaithersburg\, MD\, United States
ORGANIZER;CN="Susan Young":MAILTO:susan@youngspa.com
END:VEVENT
BEGIN:VEVENT
DTSTART;TZID=America/New_York:20250129T103000
DTEND;TZID=America/New_York:20250129T113000
DTSTAMP:20260424T103708
CREATED:20230703T003045Z
LAST-MODIFIED:20230703T003045Z
UID:5067-1738146600-1738150200@www.susanyoungyoga.com
SUMMARY:Gentle Yoga for Cancer
DESCRIPTION:
URL:https://www.susanyoungyoga.com/event/gentle-yoga-for-cancer/2025-01-29/
END:VEVENT
BEGIN:VEVENT
DTSTART;TZID=America/New_York:20250128T093000
DTEND;TZID=America/New_York:20250128T104500
DTSTAMP:20260424T103708
CREATED:20200302T214301Z
LAST-MODIFIED:20200302T214301Z
UID:4367-1738056600-1738061100@www.susanyoungyoga.com
SUMMARY:Beginner Flow at Opus Yoga
DESCRIPTION:
URL:https://www.susanyoungyoga.com/event/beginner-flow/2025-01-28/
LOCATION:Opus Yoga Kentlands\, 257 Market Street\, Gaithersburg\, MD\, United States
END:VEVENT
BEGIN:VEVENT
DTSTART;TZID=America/New_York:20250124T093000
DTEND;TZID=America/New_York:20250124T110000
DTSTAMP:20260424T103708
CREATED:20200302T131928Z
LAST-MODIFIED:20200302T131928Z
UID:4282-1737711000-1737716400@www.susanyoungyoga.com
SUMMARY:Intermediate Flow at Opus Yoga
DESCRIPTION:
URL:https://www.susanyoungyoga.com/event/intermediate-flow-at-opus-yoga/2025-01-24/
LOCATION:Opus Yoga Kentlands\, 257 Market Street\, Gaithersburg\, MD\, United States
ORGANIZER;CN="Susan Young":MAILTO:susan@youngspa.com
END:VEVENT
END:VCALENDAR