BEGIN:VCALENDAR
VERSION:2.0
PRODID:-//Susan Young Yoga - ECPv6.15.20//NONSGML v1.0//EN
CALSCALE:GREGORIAN
METHOD:PUBLISH
X-ORIGINAL-URL:https://www.susanyoungyoga.com
X-WR-CALDESC:Events for Susan Young Yoga
REFRESH-INTERVAL;VALUE=DURATION:PT1H
X-Robots-Tag:noindex
X-PUBLISHED-TTL:PT1H
BEGIN:VTIMEZONE
TZID:America/New_York
BEGIN:DAYLIGHT
TZOFFSETFROM:-0500
TZOFFSETTO:-0400
TZNAME:EDT
DTSTART:20260308T070000
END:DAYLIGHT
BEGIN:STANDARD
TZOFFSETFROM:-0400
TZOFFSETTO:-0500
TZNAME:EST
DTSTART:20261101T060000
END:STANDARD
BEGIN:DAYLIGHT
TZOFFSETFROM:-0500
TZOFFSETTO:-0400
TZNAME:EDT
DTSTART:20270314T070000
END:DAYLIGHT
BEGIN:STANDARD
TZOFFSETFROM:-0400
TZOFFSETTO:-0500
TZNAME:EST
DTSTART:20271107T060000
END:STANDARD
BEGIN:DAYLIGHT
TZOFFSETFROM:-0500
TZOFFSETTO:-0400
TZNAME:EDT
DTSTART:20280312T070000
END:DAYLIGHT
BEGIN:STANDARD
TZOFFSETFROM:-0400
TZOFFSETTO:-0500
TZNAME:EST
DTSTART:20281105T060000
END:STANDARD
END:VTIMEZONE
BEGIN:VEVENT
DTSTART;TZID=America/New_York:20270302T093000
DTEND;TZID=America/New_York:20270302T104500
DTSTAMP:20260424T060441
CREATED:20200302T214301Z
LAST-MODIFIED:20200302T214301Z
UID:5423-1803979800-1803984300@www.susanyoungyoga.com
SUMMARY:Beginner Flow at Opus Yoga
DESCRIPTION:
URL:https://www.susanyoungyoga.com/event/beginner-flow/2027-03-02/
LOCATION:Opus Yoga Kentlands\, 257 Market Street\, Gaithersburg\, MD\, United States
END:VEVENT
BEGIN:VEVENT
DTSTART;TZID=America/New_York:20270303T103000
DTEND;TZID=America/New_York:20270303T113000
DTSTAMP:20260424T060441
CREATED:20230703T003045Z
LAST-MODIFIED:20230703T003045Z
UID:5424-1804069800-1804073400@www.susanyoungyoga.com
SUMMARY:Gentle Yoga for Cancer
DESCRIPTION:
URL:https://www.susanyoungyoga.com/event/gentle-yoga-for-cancer/2027-03-03/
END:VEVENT
BEGIN:VEVENT
DTSTART;TZID=America/New_York:20270305T093000
DTEND;TZID=America/New_York:20270305T110000
DTSTAMP:20260424T060441
CREATED:20200302T131928Z
LAST-MODIFIED:20200302T131928Z
UID:5425-1804239000-1804244400@www.susanyoungyoga.com
SUMMARY:Intermediate Flow at Opus Yoga
DESCRIPTION:
URL:https://www.susanyoungyoga.com/event/intermediate-flow-at-opus-yoga/2027-03-05/
LOCATION:Opus Yoga Kentlands\, 257 Market Street\, Gaithersburg\, MD\, United States
ORGANIZER;CN="Susan Young":MAILTO:susan@youngspa.com
END:VEVENT
BEGIN:VEVENT
DTSTART;TZID=America/New_York:20270309T093000
DTEND;TZID=America/New_York:20270309T104500
DTSTAMP:20260424T060441
CREATED:20200302T214301Z
LAST-MODIFIED:20200302T214301Z
UID:5426-1804584600-1804589100@www.susanyoungyoga.com
SUMMARY:Beginner Flow at Opus Yoga
DESCRIPTION:
URL:https://www.susanyoungyoga.com/event/beginner-flow/2027-03-09/
LOCATION:Opus Yoga Kentlands\, 257 Market Street\, Gaithersburg\, MD\, United States
END:VEVENT
BEGIN:VEVENT
DTSTART;TZID=America/New_York:20270310T103000
DTEND;TZID=America/New_York:20270310T113000
DTSTAMP:20260424T060441
CREATED:20230703T003045Z
LAST-MODIFIED:20230703T003045Z
UID:5427-1804674600-1804678200@www.susanyoungyoga.com
SUMMARY:Gentle Yoga for Cancer
DESCRIPTION:
URL:https://www.susanyoungyoga.com/event/gentle-yoga-for-cancer/2027-03-10/
END:VEVENT
BEGIN:VEVENT
DTSTART;TZID=America/New_York:20270312T093000
DTEND;TZID=America/New_York:20270312T110000
DTSTAMP:20260424T060441
CREATED:20200302T131928Z
LAST-MODIFIED:20200302T131928Z
UID:5428-1804843800-1804849200@www.susanyoungyoga.com
SUMMARY:Intermediate Flow at Opus Yoga
DESCRIPTION:
URL:https://www.susanyoungyoga.com/event/intermediate-flow-at-opus-yoga/2027-03-12/
LOCATION:Opus Yoga Kentlands\, 257 Market Street\, Gaithersburg\, MD\, United States
ORGANIZER;CN="Susan Young":MAILTO:susan@youngspa.com
END:VEVENT
BEGIN:VEVENT
DTSTART;TZID=America/New_York:20270316T093000
DTEND;TZID=America/New_York:20270316T104500
DTSTAMP:20260424T060441
CREATED:20200302T214301Z
LAST-MODIFIED:20200302T214301Z
UID:5429-1805189400-1805193900@www.susanyoungyoga.com
SUMMARY:Beginner Flow at Opus Yoga
DESCRIPTION:
URL:https://www.susanyoungyoga.com/event/beginner-flow/2027-03-16/
LOCATION:Opus Yoga Kentlands\, 257 Market Street\, Gaithersburg\, MD\, United States
END:VEVENT
BEGIN:VEVENT
DTSTART;TZID=America/New_York:20270317T103000
DTEND;TZID=America/New_York:20270317T113000
DTSTAMP:20260424T060441
CREATED:20230703T003045Z
LAST-MODIFIED:20230703T003045Z
UID:5430-1805279400-1805283000@www.susanyoungyoga.com
SUMMARY:Gentle Yoga for Cancer
DESCRIPTION:
URL:https://www.susanyoungyoga.com/event/gentle-yoga-for-cancer/2027-03-17/
END:VEVENT
BEGIN:VEVENT
DTSTART;TZID=America/New_York:20270319T093000
DTEND;TZID=America/New_York:20270319T110000
DTSTAMP:20260424T060441
CREATED:20200302T131928Z
LAST-MODIFIED:20200302T131928Z
UID:5432-1805448600-1805454000@www.susanyoungyoga.com
SUMMARY:Intermediate Flow at Opus Yoga
DESCRIPTION:
URL:https://www.susanyoungyoga.com/event/intermediate-flow-at-opus-yoga/2027-03-19/
LOCATION:Opus Yoga Kentlands\, 257 Market Street\, Gaithersburg\, MD\, United States
ORGANIZER;CN="Susan Young":MAILTO:susan@youngspa.com
END:VEVENT
BEGIN:VEVENT
DTSTART;TZID=America/New_York:20270323T093000
DTEND;TZID=America/New_York:20270323T104500
DTSTAMP:20260424T060441
CREATED:20200302T214301Z
LAST-MODIFIED:20200302T214301Z
UID:5433-1805794200-1805798700@www.susanyoungyoga.com
SUMMARY:Beginner Flow at Opus Yoga
DESCRIPTION:
URL:https://www.susanyoungyoga.com/event/beginner-flow/2027-03-23/
LOCATION:Opus Yoga Kentlands\, 257 Market Street\, Gaithersburg\, MD\, United States
END:VEVENT
BEGIN:VEVENT
DTSTART;TZID=America/New_York:20270324T103000
DTEND;TZID=America/New_York:20270324T113000
DTSTAMP:20260424T060441
CREATED:20230703T003045Z
LAST-MODIFIED:20230703T003045Z
UID:5434-1805884200-1805887800@www.susanyoungyoga.com
SUMMARY:Gentle Yoga for Cancer
DESCRIPTION:
URL:https://www.susanyoungyoga.com/event/gentle-yoga-for-cancer/2027-03-24/
END:VEVENT
BEGIN:VEVENT
DTSTART;TZID=America/New_York:20270326T093000
DTEND;TZID=America/New_York:20270326T110000
DTSTAMP:20260424T060441
CREATED:20200302T131928Z
LAST-MODIFIED:20200302T131928Z
UID:5435-1806053400-1806058800@www.susanyoungyoga.com
SUMMARY:Intermediate Flow at Opus Yoga
DESCRIPTION:
URL:https://www.susanyoungyoga.com/event/intermediate-flow-at-opus-yoga/2027-03-26/
LOCATION:Opus Yoga Kentlands\, 257 Market Street\, Gaithersburg\, MD\, United States
ORGANIZER;CN="Susan Young":MAILTO:susan@youngspa.com
END:VEVENT
BEGIN:VEVENT
DTSTART;TZID=America/New_York:20270330T093000
DTEND;TZID=America/New_York:20270330T104500
DTSTAMP:20260424T060441
CREATED:20200302T214301Z
LAST-MODIFIED:20200302T214301Z
UID:5437-1806399000-1806403500@www.susanyoungyoga.com
SUMMARY:Beginner Flow at Opus Yoga
DESCRIPTION:
URL:https://www.susanyoungyoga.com/event/beginner-flow/2027-03-30/
LOCATION:Opus Yoga Kentlands\, 257 Market Street\, Gaithersburg\, MD\, United States
END:VEVENT
BEGIN:VEVENT
DTSTART;TZID=America/New_York:20270331T103000
DTEND;TZID=America/New_York:20270331T113000
DTSTAMP:20260424T060441
CREATED:20230703T003045Z
LAST-MODIFIED:20230703T003045Z
UID:5438-1806489000-1806492600@www.susanyoungyoga.com
SUMMARY:Gentle Yoga for Cancer
DESCRIPTION:
URL:https://www.susanyoungyoga.com/event/gentle-yoga-for-cancer/2027-03-31/
END:VEVENT
BEGIN:VEVENT
DTSTART;TZID=America/New_York:20270402T093000
DTEND;TZID=America/New_York:20270402T110000
DTSTAMP:20260424T060441
CREATED:20200302T131928Z
LAST-MODIFIED:20200302T131928Z
UID:5439-1806658200-1806663600@www.susanyoungyoga.com
SUMMARY:Intermediate Flow at Opus Yoga
DESCRIPTION:
URL:https://www.susanyoungyoga.com/event/intermediate-flow-at-opus-yoga/2027-04-02/
LOCATION:Opus Yoga Kentlands\, 257 Market Street\, Gaithersburg\, MD\, United States
ORGANIZER;CN="Susan Young":MAILTO:susan@youngspa.com
END:VEVENT
BEGIN:VEVENT
DTSTART;TZID=America/New_York:20270406T093000
DTEND;TZID=America/New_York:20270406T104500
DTSTAMP:20260424T060441
CREATED:20200302T214301Z
LAST-MODIFIED:20200302T214301Z
UID:5440-1807003800-1807008300@www.susanyoungyoga.com
SUMMARY:Beginner Flow at Opus Yoga
DESCRIPTION:
URL:https://www.susanyoungyoga.com/event/beginner-flow/2027-04-06/
LOCATION:Opus Yoga Kentlands\, 257 Market Street\, Gaithersburg\, MD\, United States
END:VEVENT
BEGIN:VEVENT
DTSTART;TZID=America/New_York:20270407T103000
DTEND;TZID=America/New_York:20270407T113000
DTSTAMP:20260424T060441
CREATED:20230703T003045Z
LAST-MODIFIED:20230703T003045Z
UID:5441-1807093800-1807097400@www.susanyoungyoga.com
SUMMARY:Gentle Yoga for Cancer
DESCRIPTION:
URL:https://www.susanyoungyoga.com/event/gentle-yoga-for-cancer/2027-04-07/
END:VEVENT
BEGIN:VEVENT
DTSTART;TZID=America/New_York:20270409T093000
DTEND;TZID=America/New_York:20270409T110000
DTSTAMP:20260424T060441
CREATED:20200302T131928Z
LAST-MODIFIED:20200302T131928Z
UID:5442-1807263000-1807268400@www.susanyoungyoga.com
SUMMARY:Intermediate Flow at Opus Yoga
DESCRIPTION:
URL:https://www.susanyoungyoga.com/event/intermediate-flow-at-opus-yoga/2027-04-09/
LOCATION:Opus Yoga Kentlands\, 257 Market Street\, Gaithersburg\, MD\, United States
ORGANIZER;CN="Susan Young":MAILTO:susan@youngspa.com
END:VEVENT
BEGIN:VEVENT
DTSTART;TZID=America/New_York:20270413T093000
DTEND;TZID=America/New_York:20270413T104500
DTSTAMP:20260424T060441
CREATED:20200302T214301Z
LAST-MODIFIED:20200302T214301Z
UID:5444-1807608600-1807613100@www.susanyoungyoga.com
SUMMARY:Beginner Flow at Opus Yoga
DESCRIPTION:
URL:https://www.susanyoungyoga.com/event/beginner-flow/2027-04-13/
LOCATION:Opus Yoga Kentlands\, 257 Market Street\, Gaithersburg\, MD\, United States
END:VEVENT
BEGIN:VEVENT
DTSTART;TZID=America/New_York:20270414T103000
DTEND;TZID=America/New_York:20270414T113000
DTSTAMP:20260424T060441
CREATED:20230703T003045Z
LAST-MODIFIED:20230703T003045Z
UID:5445-1807698600-1807702200@www.susanyoungyoga.com
SUMMARY:Gentle Yoga for Cancer
DESCRIPTION:
URL:https://www.susanyoungyoga.com/event/gentle-yoga-for-cancer/2027-04-14/
END:VEVENT
BEGIN:VEVENT
DTSTART;TZID=America/New_York:20270416T093000
DTEND;TZID=America/New_York:20270416T110000
DTSTAMP:20260424T060441
CREATED:20200302T131928Z
LAST-MODIFIED:20200302T131928Z
UID:5446-1807867800-1807873200@www.susanyoungyoga.com
SUMMARY:Intermediate Flow at Opus Yoga
DESCRIPTION:
URL:https://www.susanyoungyoga.com/event/intermediate-flow-at-opus-yoga/2027-04-16/
LOCATION:Opus Yoga Kentlands\, 257 Market Street\, Gaithersburg\, MD\, United States
ORGANIZER;CN="Susan Young":MAILTO:susan@youngspa.com
END:VEVENT
BEGIN:VEVENT
DTSTART;TZID=America/New_York:20270420T093000
DTEND;TZID=America/New_York:20270420T104500
DTSTAMP:20260424T060441
CREATED:20200302T214301Z
LAST-MODIFIED:20200302T214301Z
UID:5447-1808213400-1808217900@www.susanyoungyoga.com
SUMMARY:Beginner Flow at Opus Yoga
DESCRIPTION:
URL:https://www.susanyoungyoga.com/event/beginner-flow/2027-04-20/
LOCATION:Opus Yoga Kentlands\, 257 Market Street\, Gaithersburg\, MD\, United States
END:VEVENT
BEGIN:VEVENT
DTSTART;TZID=America/New_York:20270421T103000
DTEND;TZID=America/New_York:20270421T113000
DTSTAMP:20260424T060441
CREATED:20230703T003045Z
LAST-MODIFIED:20230703T003045Z
UID:5449-1808303400-1808307000@www.susanyoungyoga.com
SUMMARY:Gentle Yoga for Cancer
DESCRIPTION:
URL:https://www.susanyoungyoga.com/event/gentle-yoga-for-cancer/2027-04-21/
END:VEVENT
BEGIN:VEVENT
DTSTART;TZID=America/New_York:20270423T093000
DTEND;TZID=America/New_York:20270423T110000
DTSTAMP:20260424T060441
CREATED:20200302T131928Z
LAST-MODIFIED:20200302T131928Z
UID:5450-1808472600-1808478000@www.susanyoungyoga.com
SUMMARY:Intermediate Flow at Opus Yoga
DESCRIPTION:
URL:https://www.susanyoungyoga.com/event/intermediate-flow-at-opus-yoga/2027-04-23/
LOCATION:Opus Yoga Kentlands\, 257 Market Street\, Gaithersburg\, MD\, United States
ORGANIZER;CN="Susan Young":MAILTO:susan@youngspa.com
END:VEVENT
BEGIN:VEVENT
DTSTART;TZID=America/New_York:20270427T093000
DTEND;TZID=America/New_York:20270427T104500
DTSTAMP:20260424T060441
CREATED:20200302T214301Z
LAST-MODIFIED:20200302T214301Z
UID:5451-1808818200-1808822700@www.susanyoungyoga.com
SUMMARY:Beginner Flow at Opus Yoga
DESCRIPTION:
URL:https://www.susanyoungyoga.com/event/beginner-flow/2027-04-27/
LOCATION:Opus Yoga Kentlands\, 257 Market Street\, Gaithersburg\, MD\, United States
END:VEVENT
BEGIN:VEVENT
DTSTART;TZID=America/New_York:20270428T103000
DTEND;TZID=America/New_York:20270428T113000
DTSTAMP:20260424T060441
CREATED:20230703T003045Z
LAST-MODIFIED:20230703T003045Z
UID:5452-1808908200-1808911800@www.susanyoungyoga.com
SUMMARY:Gentle Yoga for Cancer
DESCRIPTION:
URL:https://www.susanyoungyoga.com/event/gentle-yoga-for-cancer/2027-04-28/
END:VEVENT
BEGIN:VEVENT
DTSTART;TZID=America/New_York:20270430T093000
DTEND;TZID=America/New_York:20270430T110000
DTSTAMP:20260424T060441
CREATED:20200302T131928Z
LAST-MODIFIED:20200302T131928Z
UID:5453-1809077400-1809082800@www.susanyoungyoga.com
SUMMARY:Intermediate Flow at Opus Yoga
DESCRIPTION:
URL:https://www.susanyoungyoga.com/event/intermediate-flow-at-opus-yoga/2027-04-30/
LOCATION:Opus Yoga Kentlands\, 257 Market Street\, Gaithersburg\, MD\, United States
ORGANIZER;CN="Susan Young":MAILTO:susan@youngspa.com
END:VEVENT
BEGIN:VEVENT
DTSTART;TZID=America/New_York:20270504T093000
DTEND;TZID=America/New_York:20270504T104500
DTSTAMP:20260424T060441
CREATED:20200302T214301Z
LAST-MODIFIED:20200302T214301Z
UID:5454-1809423000-1809427500@www.susanyoungyoga.com
SUMMARY:Beginner Flow at Opus Yoga
DESCRIPTION:
URL:https://www.susanyoungyoga.com/event/beginner-flow/2027-05-04/
LOCATION:Opus Yoga Kentlands\, 257 Market Street\, Gaithersburg\, MD\, United States
END:VEVENT
BEGIN:VEVENT
DTSTART;TZID=America/New_York:20270505T103000
DTEND;TZID=America/New_York:20270505T113000
DTSTAMP:20260424T060441
CREATED:20230703T003045Z
LAST-MODIFIED:20230703T003045Z
UID:5455-1809513000-1809516600@www.susanyoungyoga.com
SUMMARY:Gentle Yoga for Cancer
DESCRIPTION:
URL:https://www.susanyoungyoga.com/event/gentle-yoga-for-cancer/2027-05-05/
END:VEVENT
BEGIN:VEVENT
DTSTART;TZID=America/New_York:20270507T093000
DTEND;TZID=America/New_York:20270507T110000
DTSTAMP:20260424T060441
CREATED:20200302T131928Z
LAST-MODIFIED:20200302T131928Z
UID:5456-1809682200-1809687600@www.susanyoungyoga.com
SUMMARY:Intermediate Flow at Opus Yoga
DESCRIPTION:
URL:https://www.susanyoungyoga.com/event/intermediate-flow-at-opus-yoga/2027-05-07/
LOCATION:Opus Yoga Kentlands\, 257 Market Street\, Gaithersburg\, MD\, United States
ORGANIZER;CN="Susan Young":MAILTO:susan@youngspa.com
END:VEVENT
END:VCALENDAR