BEGIN:VCALENDAR
VERSION:2.0
PRODID:-//Susan Young Yoga - ECPv6.15.20//NONSGML v1.0//EN
CALSCALE:GREGORIAN
METHOD:PUBLISH
X-WR-CALNAME:Susan Young Yoga
X-ORIGINAL-URL:https://www.susanyoungyoga.com
X-WR-CALDESC:Events for Susan Young Yoga
REFRESH-INTERVAL;VALUE=DURATION:PT1H
X-Robots-Tag:noindex
X-PUBLISHED-TTL:PT1H
BEGIN:VTIMEZONE
TZID:America/New_York
BEGIN:DAYLIGHT
TZOFFSETFROM:-0500
TZOFFSETTO:-0400
TZNAME:EDT
DTSTART:20190310T070000
END:DAYLIGHT
BEGIN:STANDARD
TZOFFSETFROM:-0400
TZOFFSETTO:-0500
TZNAME:EST
DTSTART:20191103T060000
END:STANDARD
BEGIN:DAYLIGHT
TZOFFSETFROM:-0500
TZOFFSETTO:-0400
TZNAME:EDT
DTSTART:20200308T070000
END:DAYLIGHT
BEGIN:STANDARD
TZOFFSETFROM:-0400
TZOFFSETTO:-0500
TZNAME:EST
DTSTART:20201101T060000
END:STANDARD
BEGIN:DAYLIGHT
TZOFFSETFROM:-0500
TZOFFSETTO:-0400
TZNAME:EDT
DTSTART:20210314T070000
END:DAYLIGHT
BEGIN:STANDARD
TZOFFSETFROM:-0400
TZOFFSETTO:-0500
TZNAME:EST
DTSTART:20211107T060000
END:STANDARD
BEGIN:DAYLIGHT
TZOFFSETFROM:-0500
TZOFFSETTO:-0400
TZNAME:EDT
DTSTART:20220313T070000
END:DAYLIGHT
BEGIN:STANDARD
TZOFFSETFROM:-0400
TZOFFSETTO:-0500
TZNAME:EST
DTSTART:20221106T060000
END:STANDARD
BEGIN:DAYLIGHT
TZOFFSETFROM:-0500
TZOFFSETTO:-0400
TZNAME:EDT
DTSTART:20230312T070000
END:DAYLIGHT
BEGIN:STANDARD
TZOFFSETFROM:-0400
TZOFFSETTO:-0500
TZNAME:EST
DTSTART:20231105T060000
END:STANDARD
BEGIN:DAYLIGHT
TZOFFSETFROM:-0500
TZOFFSETTO:-0400
TZNAME:EDT
DTSTART:20240310T070000
END:DAYLIGHT
BEGIN:STANDARD
TZOFFSETFROM:-0400
TZOFFSETTO:-0500
TZNAME:EST
DTSTART:20241103T060000
END:STANDARD
END:VTIMEZONE
BEGIN:VEVENT
DTSTART;TZID=America/New_York:20230712T103000
DTEND;TZID=America/New_York:20230712T113000
DTSTAMP:20260425T090110
CREATED:20230703T003045Z
LAST-MODIFIED:20230703T003217Z
UID:4984-1689157800-1689161400@www.susanyoungyoga.com
SUMMARY:Gentle Yoga for Cancer
DESCRIPTION:
URL:https://www.susanyoungyoga.com/event/gentle-yoga-for-cancer/2023-07-12/
END:VEVENT
BEGIN:VEVENT
DTSTART;TZID=America/New_York:20221011T093000
DTEND;TZID=America/New_York:20221011T104500
DTSTAMP:20260425T090110
CREATED:20200302T214301Z
LAST-MODIFIED:20201015T182541Z
UID:3820-1665480600-1665485100@www.susanyoungyoga.com
SUMMARY:Beginner Flow at Opus Yoga
DESCRIPTION:
URL:https://www.susanyoungyoga.com/event/beginner-flow-2022-10-11/
LOCATION:Opus Yoga Kentlands\, 257 Market Street\, Gaithersburg\, MD\, United States
END:VEVENT
BEGIN:VEVENT
DTSTART;TZID=America/New_York:20211212T100000
DTEND;TZID=America/New_York:20211212T111500
DTSTAMP:20260425T090110
CREATED:20211020T163300Z
LAST-MODIFIED:20211020T163300Z
UID:4050-1639303200-1639307700@www.susanyoungyoga.com
SUMMARY:Subbing All Levels Flow
DESCRIPTION:
URL:https://www.susanyoungyoga.com/event/subbing-all-levels-flow-3/
LOCATION:Opus Yoga Kentlands\, 257 Market Street\, Gaithersburg\, MD\, United States
END:VEVENT
BEGIN:VEVENT
DTSTART;TZID=America/New_York:20211107T113000
DTEND;TZID=America/New_York:20211107T124500
DTSTAMP:20260425T090110
CREATED:20211020T163405Z
LAST-MODIFIED:20211020T163405Z
UID:4052-1636284600-1636289100@www.susanyoungyoga.com
SUMMARY:Subbing Gentle
DESCRIPTION:
URL:https://www.susanyoungyoga.com/event/subbing-gentle/
LOCATION:Opus Yoga Kentlands\, 257 Market Street\, Gaithersburg\, MD\, United States
END:VEVENT
BEGIN:VEVENT
DTSTART;TZID=America/New_York:20211107T100000
DTEND;TZID=America/New_York:20211107T111500
DTSTAMP:20260425T090110
CREATED:20211020T163200Z
LAST-MODIFIED:20211020T163200Z
UID:4048-1636279200-1636283700@www.susanyoungyoga.com
SUMMARY:Subbing All Levels Flow
DESCRIPTION:
URL:https://www.susanyoungyoga.com/event/subbing-all-levels-flow-2/
LOCATION:Opus Yoga Kentlands\, 257 Market Street\, Gaithersburg\, MD\, United States
END:VEVENT
BEGIN:VEVENT
DTSTART;TZID=America/New_York:20211031T100000
DTEND;TZID=America/New_York:20211031T111500
DTSTAMP:20260425T090110
CREATED:20211020T163034Z
LAST-MODIFIED:20211020T163034Z
UID:4046-1635674400-1635678900@www.susanyoungyoga.com
SUMMARY:Subbing All Levels Flow
DESCRIPTION:
URL:https://www.susanyoungyoga.com/event/subbing-all-levels-flow/2021-10-31/
LOCATION:Opus Yoga Kentlands\, 257 Market Street\, Gaithersburg\, MD\, United States
END:VEVENT
BEGIN:VEVENT
DTSTART;TZID=America/New_York:20210814T113000
DTEND;TZID=America/New_York:20210814T124500
DTSTAMP:20260425T090110
CREATED:20210809T113157Z
LAST-MODIFIED:20210809T114144Z
UID:4005-1628940600-1628945100@www.susanyoungyoga.com
SUMMARY:Subbing Gentle Yoga
DESCRIPTION:
URL:https://www.susanyoungyoga.com/event/subbing-gentle-yoga/
LOCATION:Opus Yoga Kentlands\, 257 Market Street\, Gaithersburg\, MD\, United States
END:VEVENT
BEGIN:VEVENT
DTSTART;TZID=America/New_York:20210814T093000
DTEND;TZID=America/New_York:20210814T110000
DTSTAMP:20260425T090110
CREATED:20210809T113044Z
LAST-MODIFIED:20210809T114221Z
UID:4003-1628933400-1628938800@www.susanyoungyoga.com
SUMMARY:Subbing Intermediate Hatha
DESCRIPTION:
URL:https://www.susanyoungyoga.com/event/subbing-intermediate-hatha/
END:VEVENT
BEGIN:VEVENT
DTSTART;TZID=America/New_York:20200501T120000
DTEND;TZID=America/New_York:20200501T131500
DTSTAMP:20260425T090110
CREATED:20200307T163251Z
LAST-MODIFIED:20200307T163419Z
UID:3691-1588334400-1588338900@www.susanyoungyoga.com
SUMMARY:Subbing Beginner Hatha at Opus Yoga
DESCRIPTION:
URL:https://www.susanyoungyoga.com/event/subbing-beginner-hatha/
LOCATION:Opus Yoga Kentlands\, 257 Market Street\, Gaithersburg\, MD\, United States
END:VEVENT
BEGIN:VEVENT
DTSTART;TZID=America/New_York:20200424T120000
DTEND;TZID=America/New_York:20200424T131500
DTSTAMP:20260425T090110
CREATED:20200305T002411Z
LAST-MODIFIED:20200305T002411Z
UID:3686-1587729600-1587734100@www.susanyoungyoga.com
SUMMARY:Subbing Beginner Hatha at Opus Yoga
DESCRIPTION:
URL:https://www.susanyoungyoga.com/event/subbing-beginner-hatha-at-opus-yoga/
LOCATION:Opus Yoga Kentlands\, 257 Market Street\, Gaithersburg\, MD\, United States
END:VEVENT
BEGIN:VEVENT
DTSTART;TZID=America/New_York:20200411T113000
DTEND;TZID=America/New_York:20200411T124500
DTSTAMP:20260425T090110
CREATED:20200305T002312Z
LAST-MODIFIED:20200305T002312Z
UID:3684-1586604600-1586609100@www.susanyoungyoga.com
SUMMARY:Subbing Gentle/Stability at Opus Yoga
DESCRIPTION:
URL:https://www.susanyoungyoga.com/event/subbing-gentle-stability-at-opus-yoga/
LOCATION:Opus Yoga Kentlands\, 257 Market Street\, Gaithersburg\, MD\, United States
END:VEVENT
BEGIN:VEVENT
DTSTART;TZID=America/New_York:20200411T093000
DTEND;TZID=America/New_York:20200411T110000
DTSTAMP:20260425T090110
CREATED:20200305T002202Z
LAST-MODIFIED:20200305T002202Z
UID:3682-1586597400-1586602800@www.susanyoungyoga.com
SUMMARY:Subbing Intermediate at Opus Yoga
DESCRIPTION:
URL:https://www.susanyoungyoga.com/event/subbing-intermediate-at-opus-yoga/
LOCATION:Opus Yoga Kentlands\, 257 Market Street\, Gaithersburg\, MD\, United States
END:VEVENT
BEGIN:VEVENT
DTSTART;TZID=America/New_York:20200320T093000
DTEND;TZID=America/New_York:20200320T110000
DTSTAMP:20260425T090110
CREATED:20200302T131928Z
LAST-MODIFIED:20200305T214619Z
UID:2835-1584696600-1584702000@www.susanyoungyoga.com
SUMMARY:Deb subbing-Intermediate Flow at Opus Yoga
DESCRIPTION:
URL:https://www.susanyoungyoga.com/event/intermediate-flow-at-opus-yoga-2020-03-20/
LOCATION:Opus Yoga Kentlands\, 257 Market Street\, Gaithersburg\, MD\, United States
ORGANIZER;CN="Susan Young":MAILTO:susan@youngspa.com
END:VEVENT
BEGIN:VEVENT
DTSTART;TZID=America/New_York:20200306T093000
DTEND;TZID=America/New_York:20200306T110000
DTSTAMP:20260425T090110
CREATED:20200302T131928Z
LAST-MODIFIED:20200305T000207Z
UID:2831-1583487000-1583492400@www.susanyoungyoga.com
SUMMARY:Intermediate Flow at Opus Yoga
DESCRIPTION:
URL:https://www.susanyoungyoga.com/event/intermediate-flow-at-opus-yoga/2020-03-06/
LOCATION:Opus Yoga Kentlands\, 257 Market Street\, Gaithersburg\, MD\, United States
ORGANIZER;CN="Susan Young":MAILTO:susan@youngspa.com
END:VEVENT
BEGIN:VEVENT
DTSTART;TZID=America/New_York:20200303T093000
DTEND;TZID=America/New_York:20200303T104500
DTSTAMP:20260425T090110
CREATED:20200302T214301Z
LAST-MODIFIED:20200305T000041Z
UID:2970-1583227800-1583232300@www.susanyoungyoga.com
SUMMARY:Beginner Flow at Opus Yoga
DESCRIPTION:
URL:https://www.susanyoungyoga.com/event/beginner-flow/2020-03-03/
LOCATION:Opus Yoga Kentlands\, 257 Market Street\, Gaithersburg\, MD\, United States
END:VEVENT
END:VCALENDAR